BEGIN:VCALENDAR
VERSION:2.0
PRODID:-//Wenatchee Outdoors - ECPv6.15.18//NONSGML v1.0//EN
CALSCALE:GREGORIAN
METHOD:PUBLISH
X-ORIGINAL-URL:https://wenatcheeoutdoors.org
X-WR-CALDESC:Events for Wenatchee Outdoors
REFRESH-INTERVAL;VALUE=DURATION:PT1H
X-Robots-Tag:noindex
X-PUBLISHED-TTL:PT1H
BEGIN:VTIMEZONE
TZID:America/Los_Angeles
BEGIN:DAYLIGHT
TZOFFSETFROM:-0800
TZOFFSETTO:-0700
TZNAME:PDT
DTSTART:20230312T100000
END:DAYLIGHT
BEGIN:STANDARD
TZOFFSETFROM:-0700
TZOFFSETTO:-0800
TZNAME:PST
DTSTART:20231105T090000
END:STANDARD
BEGIN:DAYLIGHT
TZOFFSETFROM:-0800
TZOFFSETTO:-0700
TZNAME:PDT
DTSTART:20240310T100000
END:DAYLIGHT
BEGIN:STANDARD
TZOFFSETFROM:-0700
TZOFFSETTO:-0800
TZNAME:PST
DTSTART:20241103T090000
END:STANDARD
BEGIN:DAYLIGHT
TZOFFSETFROM:-0800
TZOFFSETTO:-0700
TZNAME:PDT
DTSTART:20250309T100000
END:DAYLIGHT
BEGIN:STANDARD
TZOFFSETFROM:-0700
TZOFFSETTO:-0800
TZNAME:PST
DTSTART:20251102T090000
END:STANDARD
END:VTIMEZONE
BEGIN:VEVENT
DTSTART;TZID=America/Los_Angeles:20240907T000000
DTEND;TZID=America/Los_Angeles:20240907T235959
DTSTAMP:20260422T172913
CREATED:20240901T153505Z
LAST-MODIFIED:20240901T154410Z
UID:10002432-1725667200-1725753599@wenatcheeoutdoors.org
SUMMARY:CDLT Trail Ambassador
DESCRIPTION:Join us this Fall at trailheads in the Wenatchee and Leavenworth areas to gather data and welcome trail users. \n  \nWe are collecting zip code and demographic data about trail users to help us apply for grants and secure additional funds to support trails\, trail maintenance\, trailhead infrastructure\, and future land acquisitions.  We also want to understand who is using our trails to better serve our community. \n  \nVolunteer dates are available on Saturdays and Sundays in September\, October and November. \n  \nSign up here. An email will be sent to you two days before the volunteer date with more information. \n  \nContact Ayla at ayla@cdlandtrust.org or (509) 667-9708 if you have any questions. \n  \nEvent Link
URL:https://wenatcheeoutdoors.org/event/cdlt-trail-ambassador/
END:VEVENT
BEGIN:VEVENT
DTSTART;TZID=America/Los_Angeles:20240907T120000
DTEND;TZID=America/Los_Angeles:20240907T170000
DTSTAMP:20260422T172913
CREATED:20240615T023024Z
LAST-MODIFIED:20240615T024509Z
UID:10002410-1725710400-1725728400@wenatcheeoutdoors.org
SUMMARY:Lake Chelan Swim
DESCRIPTION:The Lake Chelan Swim is a 1.5 mile open water swim that a raises money to support free swim lessons It takes place at Manson Bay Park in Manson on Lake Chelan. \n\n\n\nIt takes place always the first Saturday after Labor Day. This year is is Sept. 7\, The race starts at 12:00 pm. This is our 14th year! \n\n\n\nFor more details or to register click the links below.
URL:https://wenatcheeoutdoors.org/event/lake-chelan-swim/
END:VEVENT
BEGIN:VEVENT
DTSTART;TZID=America/Los_Angeles:20240907T160000
DTEND;TZID=America/Los_Angeles:20240907T220000
DTSTAMP:20260422T172913
CREATED:20240906T180639Z
LAST-MODIFIED:20240906T180639Z
UID:10002450-1725724800-1725746400@wenatcheeoutdoors.org
SUMMARY:Loos 4 the Lodge
DESCRIPTION:Come up to Ski Hill on Saturday\, September 7th as we celebrate the end of Summer with live music\, food from local vendors including Yodelin\, La Javelina\, Bavarian Bagel\, and Shaved Icicle\, and local beverages from Icicle Brewing Company\, Blewett Brewing Company\, Eagle Creek Winery\, and more. \nWe will have music from Darnell Scott\, Given to Fly\, and the ever popular local favorite Dance Party with Abe Martinez! \nThis end of Summer party is a fundraising event for Leavenworth Winter Sports Club to support our ADA restroom project. You can learn more about where we are at with this project at skileavenworth.com. You can also learn more details as we get closer to the event via our social media and website. \nHelp us raise funds to continue our mission and promote health\, fitness and fun through skiing and other winter sports by providing quality facilities\, education\, and activities to the community!
URL:https://wenatcheeoutdoors.org/event/loos-4-the-lodge-2/
END:VEVENT
BEGIN:VEVENT
DTSTART;TZID=America/Los_Angeles:20240907T193000
DTEND;TZID=America/Los_Angeles:20240907T193000
DTSTAMP:20260422T172913
CREATED:20240905T222352Z
LAST-MODIFIED:20240905T222352Z
UID:10002446-1725737400-1725737400@wenatcheeoutdoors.org
SUMMARY:City of Wenatchee Movie in the Park
DESCRIPTION:Finish the summer with our FREE movies in the park brought to you by the Abel Mendez Agency of Farmers Insurance and \nGoodfellow Bros. It’s just like the drive-in except without the car! \nSo bring a blanket and the entire family for games and a lot of fun! \nWhere: Lincoln Park \nWhen: September 7 \nTime: 7:30 pm \nMovie: Wonka
URL:https://wenatcheeoutdoors.org/event/city-of-wenatchee-movie-in-the-park/
ATTACH;FMTTYPE=image/jpeg:https://wenatcheeoutdoors.org/wp-content/uploads/2024/09/Movies-in-the-Park-e1725576196548.jpg
END:VEVENT
END:VCALENDAR