BEGIN:VCALENDAR
VERSION:2.0
PRODID:-//Wenatchee Outdoors - ECPv6.15.18//NONSGML v1.0//EN
CALSCALE:GREGORIAN
METHOD:PUBLISH
X-ORIGINAL-URL:https://wenatcheeoutdoors.org
X-WR-CALDESC:Events for Wenatchee Outdoors
REFRESH-INTERVAL;VALUE=DURATION:PT1H
X-Robots-Tag:noindex
X-PUBLISHED-TTL:PT1H
BEGIN:VTIMEZONE
TZID:America/Los_Angeles
BEGIN:DAYLIGHT
TZOFFSETFROM:-0800
TZOFFSETTO:-0700
TZNAME:PDT
DTSTART:20230312T100000
END:DAYLIGHT
BEGIN:STANDARD
TZOFFSETFROM:-0700
TZOFFSETTO:-0800
TZNAME:PST
DTSTART:20231105T090000
END:STANDARD
BEGIN:DAYLIGHT
TZOFFSETFROM:-0800
TZOFFSETTO:-0700
TZNAME:PDT
DTSTART:20240310T100000
END:DAYLIGHT
BEGIN:STANDARD
TZOFFSETFROM:-0700
TZOFFSETTO:-0800
TZNAME:PST
DTSTART:20241103T090000
END:STANDARD
BEGIN:DAYLIGHT
TZOFFSETFROM:-0800
TZOFFSETTO:-0700
TZNAME:PDT
DTSTART:20250309T100000
END:DAYLIGHT
BEGIN:STANDARD
TZOFFSETFROM:-0700
TZOFFSETTO:-0800
TZNAME:PST
DTSTART:20251102T090000
END:STANDARD
END:VTIMEZONE
BEGIN:VEVENT
DTSTART;TZID=America/Los_Angeles:20240914T080000
DTEND;TZID=America/Los_Angeles:20240914T130000
DTSTAMP:20260422T160214
CREATED:20240901T154737Z
LAST-MODIFIED:20240901T154737Z
UID:10002433-1726300800-1726318800@wenatcheeoutdoors.org
SUMMARY:CDLT Member Event: Salmon Viewing Driving Tour
DESCRIPTION:Location: Wenatchee River Watershed \nSalmon return to the place they were born\, to mate and spawn before they die. On this driving tour hosted by the Chelan-Douglas Land Trust you’ll visit three locations to observe and learn about the stages of a salmon’s life and how you’ve helped protect their home. The first location will be the Swiftwater Picnic Area near Leavenworth. We’ll then drive to the Napeequa Crossing Campground along the White River. For our final destination\, we’ll head to Nason Creek near Lake Wenatchee. \nEducation for this event will be bilingual in English and Spanish. Cascade Fisheries’\, Jen Herdmann\, will join us and share about the amazing world of salmon and how they need our help. Transportation is provided for 14 CDLT members.  \nRegistration required\, limited to 14 people\, all ages are welcome.\nTrail difficulty: easy\, about 1-mile walking \nIf you have any questions about this event\, please contact Elisa Lopez\, CDLT’s Engagement Manager at elisa@cdlandtrust.org 509-667-9708. \nIf you are not a CDLT member\, check out how to become one here!
URL:https://wenatcheeoutdoors.org/event/cdlt-member-event-salmon-viewing-driving-tour/
END:VEVENT
BEGIN:VEVENT
DTSTART;TZID=America/Los_Angeles:20240914T090000
DTEND;TZID=America/Los_Angeles:20240914T110000
DTSTAMP:20260422T160214
CREATED:20240531T145754Z
LAST-MODIFIED:20240531T145754Z
UID:10002373-1726304400-1726311600@wenatcheeoutdoors.org
SUMMARY:Hike for Health Series-September
DESCRIPTION:Location: Cashmere Canyon Preserve \nConnecting with nature aids our physical\, mental\, and emotional health. Join CDLT and CVCH on a Hike for your Health\, on Saturday\, September 14th. This 8-month series of Saturday morning outings will take you to different areas in North Central Washington where you can connect to nature for FREE. A guided walk is offered for every event in the series. Arrive anytime between 7 am-9 am to walk the trails and receive a raffle ticket entry to win amazing health focused prizes. The guided walk for this date will begin at 7:15 am and end at 9:00 am. During the guided walk you will learn about the area’s plants\, wildlife\, and history. The event is open to all ages and will be led in English and Spanish. You do not have to participate in the guided walk to receive a raffle ticket entry.  \nSeptember will take you up the Wenatchee River Valley to Cashmere Canyons Preserve in Cashmere\, WA. This walk will be 3 miles and 762 feet of elevation gain on a wide dirt trail. Registration is not necessary to participate\, but it is appreciated. Once you register\, you will receive a confirmation email. \n✨If you have any questions please contact Elisa Lopez\, Engagement Manager\, at elisa@cdlandtrust.org or 509-667-9608 \nEvent Link
URL:https://wenatcheeoutdoors.org/event/hike-for-health-series-september/
END:VEVENT
BEGIN:VEVENT
DTSTART;TZID=America/Los_Angeles:20240914T193000
DTEND;TZID=America/Los_Angeles:20240914T193000
DTSTAMP:20260422T160214
CREATED:20240905T224338Z
LAST-MODIFIED:20240905T224338Z
UID:10002447-1726342200-1726342200@wenatcheeoutdoors.org
SUMMARY:City of Wenatchee Movies in the Park
DESCRIPTION:Finish the summer with our FREE movies in the park brought to you by the Abel Mendez Agency of Farmers Insurance and \nGoodfellow Bros. It’s just like the drive-in except without the car! \nSo bring a blanket and the entire family for games and a lot of fun! \nWhere: Lincoln Park \nWhen: September 14 \nTime: 7:30 pm \nMovie: Migration
URL:https://wenatcheeoutdoors.org/event/city-of-wenatchee-movies-in-the-park/
ATTACH;FMTTYPE=image/jpeg:https://wenatcheeoutdoors.org/wp-content/uploads/2024/09/Movies-in-the-Park-e1725576196548.jpg
END:VEVENT
END:VCALENDAR