BEGIN:VCALENDAR
VERSION:2.0
PRODID:-//Wenatchee Outdoors - ECPv6.15.18//NONSGML v1.0//EN
CALSCALE:GREGORIAN
METHOD:PUBLISH
X-ORIGINAL-URL:https://wenatcheeoutdoors.org
X-WR-CALDESC:Events for Wenatchee Outdoors
REFRESH-INTERVAL;VALUE=DURATION:PT1H
X-Robots-Tag:noindex
X-PUBLISHED-TTL:PT1H
BEGIN:VTIMEZONE
TZID:America/Los_Angeles
BEGIN:DAYLIGHT
TZOFFSETFROM:-0800
TZOFFSETTO:-0700
TZNAME:PDT
DTSTART:20230312T100000
END:DAYLIGHT
BEGIN:STANDARD
TZOFFSETFROM:-0700
TZOFFSETTO:-0800
TZNAME:PST
DTSTART:20231105T090000
END:STANDARD
BEGIN:DAYLIGHT
TZOFFSETFROM:-0800
TZOFFSETTO:-0700
TZNAME:PDT
DTSTART:20240310T100000
END:DAYLIGHT
BEGIN:STANDARD
TZOFFSETFROM:-0700
TZOFFSETTO:-0800
TZNAME:PST
DTSTART:20241103T090000
END:STANDARD
BEGIN:DAYLIGHT
TZOFFSETFROM:-0800
TZOFFSETTO:-0700
TZNAME:PDT
DTSTART:20250309T100000
END:DAYLIGHT
BEGIN:STANDARD
TZOFFSETFROM:-0700
TZOFFSETTO:-0800
TZNAME:PST
DTSTART:20251102T090000
END:STANDARD
END:VTIMEZONE
BEGIN:VEVENT
DTSTART;TZID=America/Los_Angeles:20241211T080000
DTEND;TZID=America/Los_Angeles:20241211T093000
DTSTAMP:20260422T160239
CREATED:20240906T220445Z
LAST-MODIFIED:20240906T220613Z
UID:10002462-1733904000-1733909400@wenatcheeoutdoors.org
SUMMARY:Birding by the River
DESCRIPTION:Go birding with knowledgeable WRI staff around the WRI campus! All birding skill levels are welcome. Need binoculars? We have loaner binoculars that you can borrow. \nThis is a great opportunity to learn about eBird\, the largest biodiversity-related community science project in the world\, and utilize it to record our observations of local wild birds. Total walking distance is ½ mile\, over a gravel path with two moderate hills. Come prepared for the weather. These walks will happen on the second Wednesday of each month for the whole year. Join us for as many as you can! \nTrail difficulty level: beginner\nTrail is wide enough for ADA access\, but trails are gravel\nBathrooms available at the start and end of the walk \nMeet outside the River Haus at 8am and plan to be finished by 9:30am. This is a FREE event and no registration is needed. \nEvent Link
URL:https://wenatcheeoutdoors.org/event/birding-by-the-river-14/
END:VEVENT
BEGIN:VEVENT
DTSTART;TZID=America/Los_Angeles:20241211T170000
DTEND;TZID=America/Los_Angeles:20241211T190000
DTSTAMP:20260422T160239
CREATED:20241009T233454Z
LAST-MODIFIED:20241009T233457Z
UID:10001803-1733936400-1733943600@wenatcheeoutdoors.org
SUMMARY:Wenatchee Run Club
DESCRIPTION:This event is hosted by the Wenatchee Run Club\n\nEvent Summary: Wednesday night weekly\n\nDescription: Come join us from 5-7 pm at the Taproom by Hellbent at Pybus for check in. We will have a 5k group start run at 5:30pm or you can run on your own. \nStay and hang out! Hellbent will be offering 10% off after the run for all participants. \nLocation: The Taproom at Pybus \nMore Info: https://www.facebook.com/profile.php?id=61556162716960
URL:https://wenatcheeoutdoors.org/event/wenatchee-run-club-2/2024-12-11/
LOCATION:Pybus\, 3 N Worthen St\, Wenatchee\, WA\, 98801\, United States
ATTACH;FMTTYPE=image/png:https://wenatcheeoutdoors.org/wp-content/uploads/2024/04/wenatchee-runclub-e1728517041128.png
END:VEVENT
END:VCALENDAR