BEGIN:VCALENDAR
VERSION:2.0
PRODID:-//Wenatchee Outdoors - ECPv6.15.18//NONSGML v1.0//EN
CALSCALE:GREGORIAN
METHOD:PUBLISH
X-ORIGINAL-URL:https://wenatcheeoutdoors.org
X-WR-CALDESC:Events for Wenatchee Outdoors
REFRESH-INTERVAL;VALUE=DURATION:PT1H
X-Robots-Tag:noindex
X-PUBLISHED-TTL:PT1H
BEGIN:VTIMEZONE
TZID:America/Los_Angeles
BEGIN:DAYLIGHT
TZOFFSETFROM:-0800
TZOFFSETTO:-0700
TZNAME:PDT
DTSTART:20240310T100000
END:DAYLIGHT
BEGIN:STANDARD
TZOFFSETFROM:-0700
TZOFFSETTO:-0800
TZNAME:PST
DTSTART:20241103T090000
END:STANDARD
BEGIN:DAYLIGHT
TZOFFSETFROM:-0800
TZOFFSETTO:-0700
TZNAME:PDT
DTSTART:20250309T100000
END:DAYLIGHT
BEGIN:STANDARD
TZOFFSETFROM:-0700
TZOFFSETTO:-0800
TZNAME:PST
DTSTART:20251102T090000
END:STANDARD
BEGIN:DAYLIGHT
TZOFFSETFROM:-0800
TZOFFSETTO:-0700
TZNAME:PDT
DTSTART:20260308T100000
END:DAYLIGHT
BEGIN:STANDARD
TZOFFSETFROM:-0700
TZOFFSETTO:-0800
TZNAME:PST
DTSTART:20261101T090000
END:STANDARD
END:VTIMEZONE
BEGIN:VEVENT
DTSTART;TZID=America/Los_Angeles:20250219T170000
DTEND;TZID=America/Los_Angeles:20250219T190000
DTSTAMP:20260422T172926
CREATED:20241009T233454Z
LAST-MODIFIED:20241009T233457Z
UID:10001823-1739984400-1739991600@wenatcheeoutdoors.org
SUMMARY:Wenatchee Run Club
DESCRIPTION:This event is hosted by the Wenatchee Run Club\n\nEvent Summary: Wednesday night weekly\n\nDescription: Come join us from 5-7 pm at the Taproom by Hellbent at Pybus for check in. We will have a 5k group start run at 5:30pm or you can run on your own. \nStay and hang out! Hellbent will be offering 10% off after the run for all participants. \nLocation: The Taproom at Pybus \nMore Info: https://www.facebook.com/profile.php?id=61556162716960
URL:https://wenatcheeoutdoors.org/event/wenatchee-run-club-2/2025-02-19/
LOCATION:Pybus\, 3 N Worthen St\, Wenatchee\, WA\, 98801\, United States
ATTACH;FMTTYPE=image/png:https://wenatcheeoutdoors.org/wp-content/uploads/2024/04/wenatchee-runclub-e1728517041128.png
END:VEVENT
BEGIN:VEVENT
DTSTART;TZID=America/Los_Angeles:20250219T180000
DTEND;TZID=America/Los_Angeles:20250219T190000
DTSTAMP:20260422T172926
CREATED:20241209T214637Z
LAST-MODIFIED:20241212T215053Z
UID:10002817-1739988000-1739991600@wenatcheeoutdoors.org
SUMMARY:Restoring the Salish Sea: What's working? What's not? What you can do to help!-Online
DESCRIPTION:North Cascades Institute \nWhen: Feb 19\, 2025 from 6:00pm- 7:00pm \nWhere: Online \nInstructor: Joe Gaydos \nClass Tuition: $10.00 \n  \nThe Salish Sea is one of the world’s most magnificent inland seas. Shared by Washington State\, British Columbia and dozens of independent Tribes and First Nations\, this 17\,000 square kilometer ecosystem holds wonders beyond imagination. \nSome of the world’s greatest animals call this place home: the world’s largest oceanic predator\, largest burying clam\, largest octopus\, largest chiton\, tallest anemone\, and so much more. \nIt shapes our local climate\, puts food on our table\, and is a billion-dollar driver of our regional economy. \nUnfortunately\, humans have been systematically altering this place for hundreds of years. Getting people to know and connect to the Salish Sea are critical first steps towards protecting it. \nCome learn the secrets of this magical place. Be inspired and feel hopeful by hearing about local restoration success stories. And maybe most important\, learn what you can do to be a part of taking care of one of the greatest places on earth! \nFor more information and registration Click Here
URL:https://wenatcheeoutdoors.org/event/restoring-the-salish-sea-whats-working-whats-not-what-you-can-do-to-help-online/
CATEGORIES:Clinics & Instruction
END:VEVENT
END:VCALENDAR