BEGIN:VCALENDAR
VERSION:2.0
PRODID:-//Wenatchee Outdoors - ECPv6.15.18//NONSGML v1.0//EN
CALSCALE:GREGORIAN
METHOD:PUBLISH
X-WR-CALNAME:Wenatchee Outdoors
X-ORIGINAL-URL:https://wenatcheeoutdoors.org
X-WR-CALDESC:Events for Wenatchee Outdoors
REFRESH-INTERVAL;VALUE=DURATION:PT1H
X-Robots-Tag:noindex
X-PUBLISHED-TTL:PT1H
BEGIN:VTIMEZONE
TZID:America/Los_Angeles
BEGIN:DAYLIGHT
TZOFFSETFROM:-0800
TZOFFSETTO:-0700
TZNAME:PDT
DTSTART:20240310T100000
END:DAYLIGHT
BEGIN:STANDARD
TZOFFSETFROM:-0700
TZOFFSETTO:-0800
TZNAME:PST
DTSTART:20241103T090000
END:STANDARD
BEGIN:DAYLIGHT
TZOFFSETFROM:-0800
TZOFFSETTO:-0700
TZNAME:PDT
DTSTART:20250309T100000
END:DAYLIGHT
BEGIN:STANDARD
TZOFFSETFROM:-0700
TZOFFSETTO:-0800
TZNAME:PST
DTSTART:20251102T090000
END:STANDARD
BEGIN:DAYLIGHT
TZOFFSETFROM:-0800
TZOFFSETTO:-0700
TZNAME:PDT
DTSTART:20260308T100000
END:DAYLIGHT
BEGIN:STANDARD
TZOFFSETFROM:-0700
TZOFFSETTO:-0800
TZNAME:PST
DTSTART:20261101T090000
END:STANDARD
END:VTIMEZONE
BEGIN:VEVENT
DTSTART;TZID=America/Los_Angeles:20250306T160000
DTEND;TZID=America/Los_Angeles:20250306T170000
DTSTAMP:20260422T042121
CREATED:20250221T214845Z
LAST-MODIFIED:20250221T214845Z
UID:10002973-1741276800-1741280400@wenatcheeoutdoors.org
SUMMARY:CDLT Art on the Trails
DESCRIPTION:Chelan-Douglas Land Trust Presents \nThe “Art in the Park” series is coming to our trails! \nJoin the Chelan-Douglas Land Trust and NCW Libraries for an opportunity to show your creative side outdoors. \nCome learn about nature and our local trailheads to spark your creativity. Then\, participate in creating a watercolor postcard at the Saddle Rock shelter. All materials will be provided; all you need to bring is yourself and your creativity. \nThis event is FREE and open to the public. All ages are welcome. \nDid you know that you can take the bus to Saddle Rock? Use Link Transit Route 3 to get there! Service to Saddle Rock is “on call” for all trips. You need to call 509-664-7639 for the bus to pick you up. \nAccessibility: The Land Trust is working to make all of our events as accessible as possible. Please let us know at least one week in advance if there is something we can do or provide to support you in participating in this outing to the fullest\, and we will accommodate as possible. \nQuestions? Please contact Ayla\, Community Inclusion Coordinator\, at ayla@cdlandtrust.org or (509) 667-9708. \nRegistration is optional\, but gives us a sense of how many people to expect (plus you get reminder emails). \nFor more information and to register please Click Here.
URL:https://wenatcheeoutdoors.org/event/cdlt-art-on-the-trails/
CATEGORIES:Clinics & Instruction
END:VEVENT
END:VCALENDAR