BEGIN:VCALENDAR
VERSION:2.0
PRODID:-//Wenatchee Outdoors - ECPv6.15.18//NONSGML v1.0//EN
CALSCALE:GREGORIAN
METHOD:PUBLISH
X-ORIGINAL-URL:https://wenatcheeoutdoors.org
X-WR-CALDESC:Events for Wenatchee Outdoors
REFRESH-INTERVAL;VALUE=DURATION:PT1H
X-Robots-Tag:noindex
X-PUBLISHED-TTL:PT1H
BEGIN:VTIMEZONE
TZID:America/Los_Angeles
BEGIN:DAYLIGHT
TZOFFSETFROM:-0800
TZOFFSETTO:-0700
TZNAME:PDT
DTSTART:20240310T100000
END:DAYLIGHT
BEGIN:STANDARD
TZOFFSETFROM:-0700
TZOFFSETTO:-0800
TZNAME:PST
DTSTART:20241103T090000
END:STANDARD
BEGIN:DAYLIGHT
TZOFFSETFROM:-0800
TZOFFSETTO:-0700
TZNAME:PDT
DTSTART:20250309T100000
END:DAYLIGHT
BEGIN:STANDARD
TZOFFSETFROM:-0700
TZOFFSETTO:-0800
TZNAME:PST
DTSTART:20251102T090000
END:STANDARD
BEGIN:DAYLIGHT
TZOFFSETFROM:-0800
TZOFFSETTO:-0700
TZNAME:PDT
DTSTART:20260308T100000
END:DAYLIGHT
BEGIN:STANDARD
TZOFFSETFROM:-0700
TZOFFSETTO:-0800
TZNAME:PST
DTSTART:20261101T090000
END:STANDARD
END:VTIMEZONE
BEGIN:VEVENT
DTSTART;TZID=America/Los_Angeles:20250831T210000
DTEND;TZID=America/Los_Angeles:20250831T220000
DTSTAMP:20260420T181534
CREATED:20250323T015931Z
LAST-MODIFIED:20250323T020745Z
UID:10003196-1756674000-1756677600@wenatcheeoutdoors.org
SUMMARY:Lake Astro Program
DESCRIPTION:About the Program \nGrab a blanket or a chair and lay out under the stars on the beach of Lake Wenatchee South Park where WVAC members will answer your deepest cosmic questions\, dive into the depths of the cosmos\, explore our small harmonious Solar System\, and massive chaotic celestial objects. \nEvery program is different in this series and is catered to the curious and imaginative. So\, bring your deepest cosmic questions and let’s blast off into space! \nThis program is subject to cancellation or change based on weather conditions. Check back here or call 218 403-1345 to see if the program is cancelled or changed in anyway if weather looks inclement.  \nThis program can be either telescope based or a constellation tour depending on wind. \nProgram Rules \nDuring the program\, please avoid the use of white light\, red lensed lights are allowed. If you’re driving to the event\, please try to avoid pointing headlights towards the beach while parking. \nPlease arrive 10 minutes early\, dress appropriately for the weather and possible wind; insect repellant may be necessary. The event is free. Day use visitors will require a Discover Pass on their vehicle for parking.  \nLocation \nThis program will take place on the large South Beach at Lake Wenatchee South Park. There will be a red-illuminated sign at the event. Please arrive early to avoid shining white lights onto the beach. \nCost \nWhile this program is free\, we do accept donations. All donations will be used to expand WVAC’s programming and outreach efforts. A Discover Pass ($30) or a Daily Permit ($10) is required for parking in State Parks\, be sure to display this permit on your dashboard. A credit card machine is available in the parking lot.
URL:https://wenatcheeoutdoors.org/event/lake-astro-program-9/
LOCATION:Lake Wenatchee State Park\, 201 Washington St\, Cashmere\, WA\, United States
CATEGORIES:Beginners Welcome,Clinics & Instruction
GEO:47.518764;-120.468551
X-APPLE-STRUCTURED-LOCATION;VALUE=URI;X-ADDRESS=Lake Wenatchee State Park 201 Washington St Cashmere WA United States;X-APPLE-RADIUS=500;X-TITLE=201 Washington St:geo:-120.468551,47.518764
END:VEVENT
END:VCALENDAR