BEGIN:VCALENDAR
VERSION:2.0
PRODID:-//Wenatchee Outdoors - ECPv6.15.18//NONSGML v1.0//EN
CALSCALE:GREGORIAN
METHOD:PUBLISH
X-ORIGINAL-URL:https://wenatcheeoutdoors.org
X-WR-CALDESC:Events for Wenatchee Outdoors
REFRESH-INTERVAL;VALUE=DURATION:PT1H
X-Robots-Tag:noindex
X-PUBLISHED-TTL:PT1H
BEGIN:VTIMEZONE
TZID:America/Los_Angeles
BEGIN:DAYLIGHT
TZOFFSETFROM:-0800
TZOFFSETTO:-0700
TZNAME:PDT
DTSTART:20240310T100000
END:DAYLIGHT
BEGIN:STANDARD
TZOFFSETFROM:-0700
TZOFFSETTO:-0800
TZNAME:PST
DTSTART:20241103T090000
END:STANDARD
BEGIN:DAYLIGHT
TZOFFSETFROM:-0800
TZOFFSETTO:-0700
TZNAME:PDT
DTSTART:20250309T100000
END:DAYLIGHT
BEGIN:STANDARD
TZOFFSETFROM:-0700
TZOFFSETTO:-0800
TZNAME:PST
DTSTART:20251102T090000
END:STANDARD
BEGIN:DAYLIGHT
TZOFFSETFROM:-0800
TZOFFSETTO:-0700
TZNAME:PDT
DTSTART:20260308T100000
END:DAYLIGHT
BEGIN:STANDARD
TZOFFSETFROM:-0700
TZOFFSETTO:-0800
TZNAME:PST
DTSTART:20261101T090000
END:STANDARD
END:VTIMEZONE
BEGIN:VEVENT
DTSTART;TZID=America/Los_Angeles:20250903T170000
DTEND;TZID=America/Los_Angeles:20250903T190000
DTSTAMP:20260420T182454
CREATED:20241009T233454Z
LAST-MODIFIED:20241009T233457Z
UID:10001879-1756918800-1756926000@wenatcheeoutdoors.org
SUMMARY:Wenatchee Run Club
DESCRIPTION:This event is hosted by the Wenatchee Run Club\n\nEvent Summary: Wednesday night weekly\n\nDescription: Come join us from 5-7 pm at the Taproom by Hellbent at Pybus for check in. We will have a 5k group start run at 5:30pm or you can run on your own. \nStay and hang out! Hellbent will be offering 10% off after the run for all participants. \nLocation: The Taproom at Pybus \nMore Info: https://www.facebook.com/profile.php?id=61556162716960
URL:https://wenatcheeoutdoors.org/event/wenatchee-run-club-2/2025-09-03/
LOCATION:Pybus\, 3 N Worthen St\, Wenatchee\, WA\, 98801\, United States
ATTACH;FMTTYPE=image/png:https://wenatcheeoutdoors.org/wp-content/uploads/2024/04/wenatchee-runclub-e1728517041128.png
END:VEVENT
BEGIN:VEVENT
DTSTART;TZID=America/Los_Angeles:20250903T180000
DTEND;TZID=America/Los_Angeles:20250903T191500
DTSTAMP:20260420T182454
CREATED:20250506T185955Z
LAST-MODIFIED:20250506T192620Z
UID:10003268-1756922400-1756926900@wenatcheeoutdoors.org
SUMMARY:From Snow to Ash: How Increasing Wildfires Threaten North Cascades Canada Lynx
DESCRIPTION:North Cascades Institute is offering this online course. \nWHEN: Sep 03\, 2025 from 06:00 PM to 07:15 PM \nWHERE: Any where you want!! \n\nINSTRUCTOR: Carmen Vanbianchi\n\n\nACTIVITY LEVEL: 1.0\n\n\nCLASS TUITION: $10.00 \n\n\n\n\nWildfires in the Pacific Northwest are reshaping landscapes at an unprecedented pace\, impacting both human communities and the wildlife that call these forests home. Among the most vulnerable is the elusive Canada lynx—an iconic predator of the North Cascades that relies on dense\, high-elevation forests for survival. \nOver the past two decades\, wildfires have rapidly altered lynx habitat\, pushing this already rare species to the brink. Conservationists need new tools to confront this era of mega wildfires\, and Home Range Wildlife Research is working hard to provide them. \nJoin Carmen Vanbianchi\, Research Director at Home Range\, for an inside look at their lynx and wildfire research. Learn about the dynamics between lynx and wildfire\, how researchers study this elusive carnivore during harsh winter months in the mountains (hint: snowmobiles\, roadkill deer\, and cat toys)\, and what their findings mean for the future of lynx conservation. \nIf you can’t make the specific date or time of a class you want to take\, you can still register and we will send you a link to view the program on your own time! All registrants will have access to the class recording for a limited time to re-watch too. \n\nEvent Link and to Register \n\n 
URL:https://wenatcheeoutdoors.org/event/from-snow-to-ash-how-increasing-wildfires-threaten-north-cascades-canada-lynx/
CATEGORIES:Clinics & Instruction
END:VEVENT
END:VCALENDAR