BEGIN:VCALENDAR
VERSION:2.0
PRODID:-//Wenatchee Outdoors - ECPv6.15.18//NONSGML v1.0//EN
CALSCALE:GREGORIAN
METHOD:PUBLISH
X-ORIGINAL-URL:https://wenatcheeoutdoors.org
X-WR-CALDESC:Events for Wenatchee Outdoors
REFRESH-INTERVAL;VALUE=DURATION:PT1H
X-Robots-Tag:noindex
X-PUBLISHED-TTL:PT1H
BEGIN:VTIMEZONE
TZID:America/Los_Angeles
BEGIN:DAYLIGHT
TZOFFSETFROM:-0800
TZOFFSETTO:-0700
TZNAME:PDT
DTSTART:20240310T100000
END:DAYLIGHT
BEGIN:STANDARD
TZOFFSETFROM:-0700
TZOFFSETTO:-0800
TZNAME:PST
DTSTART:20241103T090000
END:STANDARD
BEGIN:DAYLIGHT
TZOFFSETFROM:-0800
TZOFFSETTO:-0700
TZNAME:PDT
DTSTART:20250309T100000
END:DAYLIGHT
BEGIN:STANDARD
TZOFFSETFROM:-0700
TZOFFSETTO:-0800
TZNAME:PST
DTSTART:20251102T090000
END:STANDARD
BEGIN:DAYLIGHT
TZOFFSETFROM:-0800
TZOFFSETTO:-0700
TZNAME:PDT
DTSTART:20260308T100000
END:DAYLIGHT
BEGIN:STANDARD
TZOFFSETFROM:-0700
TZOFFSETTO:-0800
TZNAME:PST
DTSTART:20261101T090000
END:STANDARD
END:VTIMEZONE
BEGIN:VEVENT
DTSTART;TZID=America/Los_Angeles:20251021T120000
DTEND;TZID=America/Los_Angeles:20251021T150000
DTSTAMP:20260420T144118
CREATED:20250913T173612Z
LAST-MODIFIED:20250913T173612Z
UID:10003475-1761048000-1761058800@wenatcheeoutdoors.org
SUMMARY:Field Work Party- VOLUNTEER! (Event 5)
DESCRIPTION:Come join us for a hands-on volunteer work party focused on trail and habitat restoration!  \nYou will help plant native species to improve the health of our local lands. You may also prepare sites for planting\, mulch around new plants\, or help with general trail maintenance. \n\nWe will provide all the tools\, gloves\, and gear you’ll need\, along with water and snacks before and after the event.\nPlease wear sturdy work clothes and closed-toe shoes that are good for hiking and working outdoors.\n\nMeeting Location: We will meet at the Saddle Rock Trailhead at 12pm and will walk up to 1 mile to our project site\, Saddle Rock East trail. \nRegistration is required! When you register\, you will get event reminder emails and updates. Please register below. \nAccessibility: The Land Trust is working to make all of our events as accessible as possible. Please let us know at least one week in advance if there is something we can do or provide to support you in participating in this outing to the fullest\, and we will accommodate as possible. \nEvent Link \nQuestions? Please contact Ayla Medina Ulloa\, Community Inclusion Coordinator\, at ayla@cdlandtrust.org or (509) 667-9708
URL:https://wenatcheeoutdoors.org/event/field-work-party-volunteer-event-5/
END:VEVENT
END:VCALENDAR