BEGIN:VCALENDAR
VERSION:2.0
PRODID:-//Wenatchee Outdoors - ECPv6.15.18//NONSGML v1.0//EN
CALSCALE:GREGORIAN
METHOD:PUBLISH
X-WR-CALNAME:Wenatchee Outdoors
X-ORIGINAL-URL:https://wenatcheeoutdoors.org
X-WR-CALDESC:Events for Wenatchee Outdoors
REFRESH-INTERVAL;VALUE=DURATION:PT1H
X-Robots-Tag:noindex
X-PUBLISHED-TTL:PT1H
BEGIN:VTIMEZONE
TZID:America/Los_Angeles
BEGIN:DAYLIGHT
TZOFFSETFROM:-0800
TZOFFSETTO:-0700
TZNAME:PDT
DTSTART:20240310T100000
END:DAYLIGHT
BEGIN:STANDARD
TZOFFSETFROM:-0700
TZOFFSETTO:-0800
TZNAME:PST
DTSTART:20241103T090000
END:STANDARD
BEGIN:DAYLIGHT
TZOFFSETFROM:-0800
TZOFFSETTO:-0700
TZNAME:PDT
DTSTART:20250309T100000
END:DAYLIGHT
BEGIN:STANDARD
TZOFFSETFROM:-0700
TZOFFSETTO:-0800
TZNAME:PST
DTSTART:20251102T090000
END:STANDARD
BEGIN:DAYLIGHT
TZOFFSETFROM:-0800
TZOFFSETTO:-0700
TZNAME:PDT
DTSTART:20260308T100000
END:DAYLIGHT
BEGIN:STANDARD
TZOFFSETFROM:-0700
TZOFFSETTO:-0800
TZNAME:PST
DTSTART:20261101T090000
END:STANDARD
END:VTIMEZONE
BEGIN:VEVENT
DTSTART;TZID=America/Los_Angeles:20251112T160000
DTEND;TZID=America/Los_Angeles:20251112T183000
DTSTAMP:20260420T161310
CREATED:20250704T173910Z
LAST-MODIFIED:20250912T190519Z
UID:10003435-1762963200-1762972200@wenatcheeoutdoors.org
SUMMARY:Entiat Watershed Planning Unit Meeting
DESCRIPTION:Quarterly Meeting for the Entiat Watershed Planning Unit \nLocation: Entiat Fire Station 2200 Entiat Way & Zoom \nTime 4:00pm-6:30pm \nFood and Drinks will be provided. \nEmail marki@cascadiacd.org in order to be added to email list.
URL:https://wenatcheeoutdoors.org/event/entiat-watershed-planning-unit-meeting-5/
END:VEVENT
BEGIN:VEVENT
DTSTART;TZID=America/Los_Angeles:20251112T170000
DTEND;TZID=America/Los_Angeles:20251112T190000
DTSTAMP:20260420T161310
CREATED:20241009T233454Z
LAST-MODIFIED:20241009T233457Z
UID:10001899-1762966800-1762974000@wenatcheeoutdoors.org
SUMMARY:Wenatchee Run Club
DESCRIPTION:This event is hosted by the Wenatchee Run Club\n\nEvent Summary: Wednesday night weekly\n\nDescription: Come join us from 5-7 pm at the Taproom by Hellbent at Pybus for check in. We will have a 5k group start run at 5:30pm or you can run on your own. \nStay and hang out! Hellbent will be offering 10% off after the run for all participants. \nLocation: The Taproom at Pybus \nMore Info: https://www.facebook.com/profile.php?id=61556162716960
URL:https://wenatcheeoutdoors.org/event/wenatchee-run-club-2/2025-11-12/
LOCATION:Pybus\, 3 N Worthen St\, Wenatchee\, WA\, 98801\, United States
ATTACH;FMTTYPE=image/png:https://wenatcheeoutdoors.org/wp-content/uploads/2024/04/wenatchee-runclub-e1728517041128.png
END:VEVENT
BEGIN:VEVENT
DTSTART;TZID=America/Los_Angeles:20251112T183000
DTEND;TZID=America/Los_Angeles:20251112T203000
DTSTAMP:20260420T161310
CREATED:20251106T002245Z
LAST-MODIFIED:20251106T002245Z
UID:10003502-1762972200-1762979400@wenatcheeoutdoors.org
SUMMARY:Sustainable NCW Hosts "Green as a Verb" Panel on Living Sustainably
DESCRIPTION:This free evening panel will feature local voices who are leading by example—showing how sustainability can be a daily practice rooted in creativity\, community\, and care. The event will include Spanish interpretation\, light refreshments\, and opportunities for connection with local organizations driving change in our region. \nPlease find the full press release here-Press Rel – Green as a Verb.
URL:https://wenatcheeoutdoors.org/event/sustainable-ncw-hosts-green-as-a-verb-panel-on-living-sustainably/
CATEGORIES:Clinics & Instruction,Special Events
END:VEVENT
END:VCALENDAR