BEGIN:VCALENDAR
VERSION:2.0
PRODID:-//Wenatchee Outdoors - ECPv6.15.18//NONSGML v1.0//EN
CALSCALE:GREGORIAN
METHOD:PUBLISH
X-ORIGINAL-URL:https://wenatcheeoutdoors.org
X-WR-CALDESC:Events for Wenatchee Outdoors
REFRESH-INTERVAL;VALUE=DURATION:PT1H
X-Robots-Tag:noindex
X-PUBLISHED-TTL:PT1H
BEGIN:VTIMEZONE
TZID:America/Los_Angeles
BEGIN:DAYLIGHT
TZOFFSETFROM:-0800
TZOFFSETTO:-0700
TZNAME:PDT
DTSTART:20240310T100000
END:DAYLIGHT
BEGIN:STANDARD
TZOFFSETFROM:-0700
TZOFFSETTO:-0800
TZNAME:PST
DTSTART:20241103T090000
END:STANDARD
BEGIN:DAYLIGHT
TZOFFSETFROM:-0800
TZOFFSETTO:-0700
TZNAME:PDT
DTSTART:20250309T100000
END:DAYLIGHT
BEGIN:STANDARD
TZOFFSETFROM:-0700
TZOFFSETTO:-0800
TZNAME:PST
DTSTART:20251102T090000
END:STANDARD
BEGIN:DAYLIGHT
TZOFFSETFROM:-0800
TZOFFSETTO:-0700
TZNAME:PDT
DTSTART:20260308T100000
END:DAYLIGHT
BEGIN:STANDARD
TZOFFSETFROM:-0700
TZOFFSETTO:-0800
TZNAME:PST
DTSTART:20261101T090000
END:STANDARD
END:VTIMEZONE
BEGIN:VEVENT
DTSTART;TZID=America/Los_Angeles:20250130T190000
DTEND;TZID=America/Los_Angeles:20250130T200000
DTSTAMP:20260423T080852
CREATED:20241212T205921Z
LAST-MODIFIED:20241212T214445Z
UID:10002848-1738263600-1738267200@wenatcheeoutdoors.org
SUMMARY:Red Barn Event - Our Valley\, Our Light Pollution
DESCRIPTION:Wenatchee River Institute Presents \nStreaming link: https://www.youtube.com/watch?v=DokEhIoAKOQ \nDoors open at 6:30pm for a community social with beer\, wine\, sparkling water\, and tea available for purchase. The presentation will start at 7:00pm. \nLight pollution affects more than just the natural dark sky and star visibility\, it affects our local ecosystems and wastes money. Join Paul Tomas with the Wenatchee Valley Astronomy Club and learn how our communities are lighting up the valley – and not in a good way. Paul will discuss what light pollution is\, different ways to reduce our light pollution\, and how to talk with others that may be unintentionally lighting the dark sky. \nToday over 80% of the world lives under sky glow. Paul will discuss ways we can collect data through a citizen scientist program. These programs help others understand how our valley and the world around us is changing and show how light pollution is on the rise due to lack of awareness. \nAbout the Presenter: \nPaul Tomas is an avid environmental educator with a passion for astronomy. For over 8 years\, he has worked as a Park Ranger organizing and conducting interpretive programs covering various subjects from Snowshoe nature hikes to Astronomy Programs. During his work as a Park Ranger\, he has worked to change local parks into dark sky havens by advocating for Dark Skies and retrofitting exterior lights in parks. Paul Tomas is the founder of the Wenatchee Valley Astronomy Club. This local club gives local astronomers of all experience levels a place in this valley to come together to form new connections\, friendships\, and share with each other all things astronomy. \nEvent Link
URL:https://wenatcheeoutdoors.org/event/red-barn-event-our-valley-our-light-pollution/
CATEGORIES:Special Events
END:VEVENT
BEGIN:VEVENT
DTSTART;TZID=America/Los_Angeles:20250131T080000
DTEND;TZID=America/Los_Angeles:20250203T170000
DTSTAMP:20260423T080852
CREATED:20241226T172835Z
LAST-MODIFIED:20241226T172835Z
UID:10002933-1738310400-1738602000@wenatcheeoutdoors.org
SUMMARY:2025 Tour De Plain
DESCRIPTION:Click here for registration link \n  \n2025 Tour de Plain Event # 2 Course Description \n  \nThe event offers 3 race options:  There are two timed events with a short (5 KM) and long (18 KM) tour of the Beaver Creek Trail  and Meadow/Sprint loops area. You can opt for classic or freestyle technique. The 3rd option is untimed/noncompetitive with no time record for the short or long course.  The events begin and finish at the Meadow loop trailhead in Plain. \n  \nFor the 5 km short course\, begin from the Meadow loop parking lot and scan the START QR code there.  Ski clockwise on Meadow Loop trail to the Sprint loop. Continue clockwise on the Sprint Loop back into the Meadow Loop. Backtrack counterclockwise on Meadow loop to the finish at the Meadow Loop parking lot. Scan the short course FINISH QR code to complete the event. There are 3 QR codes scanned on the short course -START\, top of Sprint Loop and FINISH.  All QR codes for the short course are on red signs. \n  \nThe 18 km long course starts at the Meadow Loop parking lot. Scan the long course QR code and proceed up valley on the Beaver Creek Trail (BCT). Remain on the BCT to the Swamp Creek loop. Go right to enter the Swamp Creek loop counterclockwise. Scan the QR code at the top of Swamp Creek hill and continue through the loop.  When you rejoin the BCT\, turn right and continue to the Chiwawa Road crossing. Scan the QR code there and turnaround to return on the BCT to the Meadow loop (Do not return via the Swamp Creek loop).  Turn left on Meadow Loop and then ski to the Sprint Loop trail\, proceed counterclockwise on the Sprint Loop and return to the Meadow Loop trail and go left on the Meadow Loop trail to the finish at the Meadow Loop Parking Lot. Scan the long course QR FINISH to complete the event.  There are 5 QR codes scanned on the long course – START\, top of Swamp Creek\, Chiwawa Road turnaround\, top of Sprint loop and FINISH.  All QR codes for the long course are on blue signs. \n  \nThe course will be open from Friday\, January 31\, 2025 starting at 8 AM through Monday\, February 3\, 2025 completing the race by dusk. \n  \nYou can ski the course as many times as you’d like. Your times will be recorded and your fastest time counts. Enjoy the skiing! \n  \nSelf-timing \nTiming will be managed by each racer’s smart phone with Webscorer Race Timer app scanning QR codes. The QR codes are marked visibly and scanning can be done without internet connection. Timing instructions will be sent to each racer in their confirmation email. Your race registration fees support the youth ski education programs of the Plain Valley Nordic Team! \n 
URL:https://wenatcheeoutdoors.org/event/2025-tour-de-plain-2/
CATEGORIES:Special Events
END:VEVENT
END:VCALENDAR