BEGIN:VCALENDAR
VERSION:2.0
PRODID:-//Wenatchee Outdoors - ECPv6.15.18//NONSGML v1.0//EN
CALSCALE:GREGORIAN
METHOD:PUBLISH
X-WR-CALNAME:Wenatchee Outdoors
X-ORIGINAL-URL:https://wenatcheeoutdoors.org
X-WR-CALDESC:Events for Wenatchee Outdoors
REFRESH-INTERVAL;VALUE=DURATION:PT1H
X-Robots-Tag:noindex
X-PUBLISHED-TTL:PT1H
BEGIN:VTIMEZONE
TZID:America/Los_Angeles
BEGIN:DAYLIGHT
TZOFFSETFROM:-0800
TZOFFSETTO:-0700
TZNAME:PDT
DTSTART:20240310T100000
END:DAYLIGHT
BEGIN:STANDARD
TZOFFSETFROM:-0700
TZOFFSETTO:-0800
TZNAME:PST
DTSTART:20241103T090000
END:STANDARD
BEGIN:DAYLIGHT
TZOFFSETFROM:-0800
TZOFFSETTO:-0700
TZNAME:PDT
DTSTART:20250309T100000
END:DAYLIGHT
BEGIN:STANDARD
TZOFFSETFROM:-0700
TZOFFSETTO:-0800
TZNAME:PST
DTSTART:20251102T090000
END:STANDARD
BEGIN:DAYLIGHT
TZOFFSETFROM:-0800
TZOFFSETTO:-0700
TZNAME:PDT
DTSTART:20260308T100000
END:DAYLIGHT
BEGIN:STANDARD
TZOFFSETFROM:-0700
TZOFFSETTO:-0800
TZNAME:PST
DTSTART:20261101T090000
END:STANDARD
END:VTIMEZONE
BEGIN:VEVENT
DTSTART;TZID=America/Los_Angeles:20250228T080000
DTEND;TZID=America/Los_Angeles:20250303T170000
DTSTAMP:20260421T104805
CREATED:20241226T173506Z
LAST-MODIFIED:20241226T173605Z
UID:10002934-1740729600-1741021200@wenatcheeoutdoors.org
SUMMARY:2025 Tour De Plain
DESCRIPTION:Click here for registration link \n  \n2025 Tour de Plain Event # 3 Course Description \n  \nThe event offers 3 race options:  There are two timed events with a short (5 KM) and long (18 KM) tour of the Beaver Creek Trail. You can opt for classic or freestyle technique. The 3rd option is untimed/noncompetitive with no time record for the short course.  The events begin and finish at the Osprey Lodge Trailhead in Thousand Trails. \n  \nFor the 5 km short course\, begin from the Osprey Lodge trailhead and scan the START QR code there.  Ski along the BCT up valley to the Clear Creek loop.  Scan the QR code at the checkpoint in the loop. Then ski the BCT past the start to the Chiwawa Loop Rd crossing and scan the QR code at this checkpoint before returning on the BCT to the Osprey Lodge.   Scan the FINISH QR code there to complete the event. There are 4 QR codes scanned on the short course – START\, Clear Creek Loop\, Chiwawa Rd turnaround and FINISH.  All QR codes for the short course are on red signs. \n  \nThe long course starts at the Osprey Lodge trailhead. Scan the long course START QR code to begin the event and proceed on the BCT to the Clear Creek Loop. Scan the QR code at this checkpoint in the loop. Then ski BCT down valley to Plain until you reach the Meadow loop parking lot.  Scan the QR code near this trailhead and then return on the BCT back to the Osprey Lodge trailhead.    Scan the long course FINISH QR code to complete the event.  There are 4 QR codes scanned on the long course – START\, Clear Creek Loop\, Meadow Loop trailhead and FINISH.  All QR codes for the long course are on blue signs.  Do not scan the QR code at the Chiwawa Road crossing which is for the short course only. \n  \nThe course will be open from Friday\, February 28\, 2025 starting at 8 AM through Monday\, March 3\, 2025 completing the race by dusk. \n  \nYou can ski the course as many times as you’d like. Your times will be recorded and your fastest time counts. Enjoy the skiing! \n  \nSelf-timing \nTiming will be managed by each racer’s smart phone using the Webscorer Race Timer app to scan QR codes. The QR codes are marked visibly and scanning can be done without internet connection. Timing instructions will be sent to each racer in their confirmation email. Your race registration fees support the youth ski education programs of the Plain Valley Nordic Team! \n 
URL:https://wenatcheeoutdoors.org/event/2025-tour-de-plain-3/
CATEGORIES:Special Events
END:VEVENT
BEGIN:VEVENT
DTSTART;TZID=America/Los_Angeles:20250301T183000
DTEND;TZID=America/Los_Angeles:20250301T203000
DTSTAMP:20260421T104805
CREATED:20250225T194544Z
LAST-MODIFIED:20250225T194544Z
UID:10002984-1740853800-1740861000@wenatcheeoutdoors.org
SUMMARY:Mountain Music Series Feat. Bandits Of The Animal Kingdom
DESCRIPTION:Mission Ridge Presents \n\nCome experience the vibe of live music on the mountain in the Hampton Lodge on Saturday Nights! Take a break from your night turns\, or just head up for a night of good music\, dancing\, food\, and drinks at a higher elevation. The action goes down on the Ka Wham Cafe side of the lodge but can also be enjoyed from the Chair 5 Pub. Mountain Music Series nights are free and are all-ages events. \nAbout Bandits Of The Animal Kingdom \nBandits formed in 2019 in Central Washington. They play pop covers & originals with engaging vocal harmonies\, ukuleles\, mandolin\, guitar\, bass\, sax\, clarinet and drums. Bandits have played in the PNW at festivals/ events year-round. Put on those dancing shoes and head to the dance floor! \nFor more information Click Here
URL:https://wenatcheeoutdoors.org/event/mountain-music-series-feat-bandits-of-the-animal-kingdom/
CATEGORIES:Special Events
END:VEVENT
BEGIN:VEVENT
DTSTART;TZID=America/Los_Angeles:20250308T123000
DTEND;TZID=America/Los_Angeles:20250308T160000
DTSTAMP:20260421T104805
CREATED:20250225T193921Z
LAST-MODIFIED:20250225T194129Z
UID:10002983-1741437000-1741449600@wenatcheeoutdoors.org
SUMMARY:International Women’s Day
DESCRIPTION:Mission Ridge Presents \n\nInternational Women’s Day is an event to celebrate women and bring focus to the movement for women’s rights. This year we are celebrating by empowering women to get outdoors and create a supportive community. Follow the link to register for a day of fun\, plus enjoy discounted lift tickets and the chance to win some sweet giveaways! \nSchedule \n12:30pm-2:00pm – Intermediate group shred. We will meet at Midway and lap Chair 2. If you show up after 12:30pm\, look for the ladies and join the fun! \n2:30pm-4:00pm – We will enjoy some Apres wine and charcuterie in the Ka-Wham Cafe. \n3:00pm – Thanks to our sponsors\, we have some great stuff to give away! Be sure to register for a chance to win; you must be present to collect. \nSponsors \nRiverfront Rock Gym | Mervin | Ski like a Girl | SheJumps \nFor more information Click Here
URL:https://wenatcheeoutdoors.org/event/international-womens-day/
CATEGORIES:Special Events
END:VEVENT
BEGIN:VEVENT
DTSTART;TZID=America/Los_Angeles:20250308T160000
DTEND;TZID=America/Los_Angeles:20250308T220000
DTSTAMP:20260421T104805
CREATED:20250225T193626Z
LAST-MODIFIED:20250225T193626Z
UID:10002982-1741449600-1741471200@wenatcheeoutdoors.org
SUMMARY:Rails & Ales
DESCRIPTION:Missions Ridges Presents\n\nOne of the Wenatchee Valley’s legendary events\, Rails and Ales is back on Saturday\, March 8th! \nRails & Ales is a legendary winter festival drawing thousands to the heart of downtown Wenatchee. This epic spectacle of skiing\, snowboarding\, and music is fun for the whole family. Rails & Ales features some of the best skiers and snowboarders from across the country throwing down tricks and jumps to compete for a place on the podium. \nGet ready to dive into the excitement! Before the competition takes center stage\, gather at Centennial Park for a thrilling lineup of experiences. Test your skills on skis and snowboards\, traipse across the snow in a pair of snowshoes\, and embrace the fast-paced thrill of shooting a hockey puck – the park is your playground. And that’s not all – warm up with hot food and beverages from an array of vendors. This is just the beginning of the adventure that awaits you! After the park\, head over to Orondo Street to the Rail Jam for an action-packed\, high-energy night of thrilling tricks and stellar stunts. As you watch the action unfold\, treat your taste buds at a variety of food trucks and charming downtown establishments. And for those who are 21 and above\, enjoy a selection of locally crafted beer and cider in our vibrant beer gardens. \nThe night doesn’t end with the competition\, make your way back to Centennial Park\, where the excitement continues with the awards presentation and concert. Listen to  the rhythm of live music in a beer garden that will be in a designated audience area.  All ages can enjoy the music from various parts of the event. \nInterested in competing? \nThe Pro class is by invitation only. If you want a chance to fight with the Pros for the cash purse\, the top competitors from the Amateur class will move on to the Pro division. \nTo apply for entry into the Amateur class\, HERE \nDO NOT FORGET to sign your waiver\, HERE \nFor more information Click Here \nSchedule \n\n\n\n4:00PM – 4:30PM\nAmateur Check-in starts at\n\n\n4:30PM – 5:00PM\nAmateur All Practice\n\n\n5:00PM – 5:10PM\nCourse Maintenance\n\n\n5:10PM – 5:25PM\nAmateur Men’s/Women’s Snowboard Finals\n\n\n5:25PM – 5:35PM\nCourse Maintenance\n\n\n5:35PM – 5:50PM\nAmateur Men’s/Women’s Ski Finals\n\n\n5:00PM – 5:45PM\nPro Rider Check In\n\n\n5:50PM – 6:00PM\nBreak: Course Maintenance\n\n\n6:00PM – 6:30PM\nPro All Practice\n\n\n6:30PM – 6:45PM\nCourse Maintenance\n\n\n6:45PM – 7:15PM\nPro Men’s/Women’s Snowboard\n\n\n7:15PM – 7:30PM\nCourse Maintenance
URL:https://wenatcheeoutdoors.org/event/rails-ales-3/
CATEGORIES:Special Events
END:VEVENT
BEGIN:VEVENT
DTSTART;TZID=America/Los_Angeles:20250322T180000
DTEND;TZID=America/Los_Angeles:20250322T190000
DTSTAMP:20260421T104805
CREATED:20250318T184233Z
LAST-MODIFIED:20250318T184233Z
UID:10003174-1742666400-1742670000@wenatcheeoutdoors.org
SUMMARY:Leavenworth Film Festival
DESCRIPTION:8th Annual Festival\n\n\nMarch 22nd 2025\n\nVenue: Leavenworth Festhalle\nJoin us for an exciting showcase of the best recent short films that celebrate outdoor pursuits and the beauty of the natural world. This year’s festival features outstanding films from around the globe. Enjoy inspiring short films and a live performance!\n\nThe Leavenworth Chamber is a proud Platinum Sponsor of the 2025 Leavenworth Mountain Film Festival! To support the festival\, they have also partnered with the International Ocean Film Fest to present the afternoon program of films at 1:00 p.m. prior to the red carpet event \n\nEvent Details & Admission \n\n\nWildlands & Wildlife Films – 90 min\n1pm\n$10 Adult / $5 (12 & Under)\n\nThe Red Carpet Saturday Night Main Event\nDoors 6 p.m.- Films7:00 p.m.\n$20 Adult / $5 (12 & Under)\n\nAll Day Festival Pass: $28 \nAdditional Information:\nFree limo rides: available from 5 PM to 7 PM next to the Festhalle.\nCome and experience these remarkable films along with live performances! Dont forget to dress elegantly for the main event and make a grand entrance down the red carpet after enjoying a complimentary ride in an LMFF limousine. Food and drinks will be available throughout the event. \n\nFor more information Click Here
URL:https://wenatcheeoutdoors.org/event/leavenworth-film-festival/
CATEGORIES:Special Events
END:VEVENT
BEGIN:VEVENT
DTSTART;TZID=America/Los_Angeles:20250328T173000
DTEND;TZID=America/Los_Angeles:20250328T210000
DTSTAMP:20260421T104805
CREATED:20250124T204512Z
LAST-MODIFIED:20250124T204512Z
UID:10002966-1743183000-1743195600@wenatcheeoutdoors.org
SUMMARY:Central Washington Evergreen Mountain Bike Alliance Tacos for Trails
DESCRIPTION:Tacos for Trails 2025!\nMark your calendars for Friday\, March 28th\, 5:30–9 PM at Pybus Public Market\, and join us for an evening of good food\, great drinks\, and trail stoke—all to support our mission!\nWhat to Expect: Wine\, cider\, and beer by Pinnacle Brewing Delicious tacos from Tasty Tacos (veggie & meat options!) A silent auction with awesome items An Evergreen program update to see what’s next\n\n Tickets:\n$35 members / $45 non-members (through March 23)$45 members / $55 non-members (after March 23)Dinner included!\nJoin us for this fun-filled evening and help support the trails you love!\nGet your tickets now: Click here
URL:https://wenatcheeoutdoors.org/event/central-washington-evergreen-mountain-bike-alliance-tacos-for-trails/
CATEGORIES:Special Events
END:VEVENT
END:VCALENDAR