BEGIN:VCALENDAR
VERSION:2.0
PRODID:-//Wenatchee Outdoors - ECPv6.15.18//NONSGML v1.0//EN
CALSCALE:GREGORIAN
METHOD:PUBLISH
X-WR-CALNAME:Wenatchee Outdoors
X-ORIGINAL-URL:https://wenatcheeoutdoors.org
X-WR-CALDESC:Events for Wenatchee Outdoors
REFRESH-INTERVAL;VALUE=DURATION:PT1H
X-Robots-Tag:noindex
X-PUBLISHED-TTL:PT1H
BEGIN:VTIMEZONE
TZID:America/Los_Angeles
BEGIN:DAYLIGHT
TZOFFSETFROM:-0800
TZOFFSETTO:-0700
TZNAME:PDT
DTSTART:20230312T100000
END:DAYLIGHT
BEGIN:STANDARD
TZOFFSETFROM:-0700
TZOFFSETTO:-0800
TZNAME:PST
DTSTART:20231105T090000
END:STANDARD
BEGIN:DAYLIGHT
TZOFFSETFROM:-0800
TZOFFSETTO:-0700
TZNAME:PDT
DTSTART:20240310T100000
END:DAYLIGHT
BEGIN:STANDARD
TZOFFSETFROM:-0700
TZOFFSETTO:-0800
TZNAME:PST
DTSTART:20241103T090000
END:STANDARD
BEGIN:DAYLIGHT
TZOFFSETFROM:-0800
TZOFFSETTO:-0700
TZNAME:PDT
DTSTART:20250309T100000
END:DAYLIGHT
BEGIN:STANDARD
TZOFFSETFROM:-0700
TZOFFSETTO:-0800
TZNAME:PST
DTSTART:20251102T090000
END:STANDARD
END:VTIMEZONE
BEGIN:VEVENT
DTSTART;TZID=America/Los_Angeles:20241204T173000
DTEND;TZID=America/Los_Angeles:20241204T193000
DTSTAMP:20260424T014050
CREATED:20241115T200208Z
LAST-MODIFIED:20241115T204804Z
UID:10002810-1733333400-1733340600@wenatcheeoutdoors.org
SUMMARY:Holiday Wreath Making Party
DESCRIPTION:Join Wenatchee River Institute this winter season to create your own holiday wreath to take home. Come prepared to experiment with a variety of foraged materials such as lichens\, evergreen branches\, dried flower stems\, pinecones\, berries\, dried leaves\, and citrus slices. All the materials we will use have been gathered around WRI’s campus and surrounding areas by the Land Steward\, with all of the wreath bases being handmade from the weeping willow at the entrance to WRI! You can expect a fun gathering learning from WRI’s Land Steward to make an artistic\, nature inspired\, compostable wreath. \nYour beautiful creations will be fully compostable and can be dropped off at WRI for disposal. If you would like to bring some non-compostable garnishments from home to add to your wreath\, just make sure to remove them before composting. \nThis event will take place inside a heated building with seating available for those who need it. Bathrooms are onsite. Our building and bathrooms are both ADA accessible. \n  \nEvent Link to Register
URL:https://wenatcheeoutdoors.org/event/holiday-wreath-making-party/
CATEGORIES:Special Events
END:VEVENT
END:VCALENDAR