BEGIN:VCALENDAR
VERSION:2.0
PRODID:-//Wenatchee Outdoors - ECPv6.15.18//NONSGML v1.0//EN
CALSCALE:GREGORIAN
METHOD:PUBLISH
X-ORIGINAL-URL:https://wenatcheeoutdoors.org
X-WR-CALDESC:Events for Wenatchee Outdoors
REFRESH-INTERVAL;VALUE=DURATION:PT1H
X-Robots-Tag:noindex
X-PUBLISHED-TTL:PT1H
BEGIN:VTIMEZONE
TZID:America/Los_Angeles
BEGIN:DAYLIGHT
TZOFFSETFROM:-0800
TZOFFSETTO:-0700
TZNAME:PDT
DTSTART:20240310T100000
END:DAYLIGHT
BEGIN:STANDARD
TZOFFSETFROM:-0700
TZOFFSETTO:-0800
TZNAME:PST
DTSTART:20241103T090000
END:STANDARD
BEGIN:DAYLIGHT
TZOFFSETFROM:-0800
TZOFFSETTO:-0700
TZNAME:PDT
DTSTART:20250309T100000
END:DAYLIGHT
BEGIN:STANDARD
TZOFFSETFROM:-0700
TZOFFSETTO:-0800
TZNAME:PST
DTSTART:20251102T090000
END:STANDARD
BEGIN:DAYLIGHT
TZOFFSETFROM:-0800
TZOFFSETTO:-0700
TZNAME:PDT
DTSTART:20260308T100000
END:DAYLIGHT
BEGIN:STANDARD
TZOFFSETFROM:-0700
TZOFFSETTO:-0800
TZNAME:PST
DTSTART:20261101T090000
END:STANDARD
END:VTIMEZONE
BEGIN:VEVENT
DTSTART;TZID=America/Los_Angeles:20250131T080000
DTEND;TZID=America/Los_Angeles:20250203T170000
DTSTAMP:20260422T080054
CREATED:20241226T172835Z
LAST-MODIFIED:20241226T172835Z
UID:10002933-1738310400-1738602000@wenatcheeoutdoors.org
SUMMARY:2025 Tour De Plain
DESCRIPTION:Click here for registration link \n  \n2025 Tour de Plain Event # 2 Course Description \n  \nThe event offers 3 race options:  There are two timed events with a short (5 KM) and long (18 KM) tour of the Beaver Creek Trail  and Meadow/Sprint loops area. You can opt for classic or freestyle technique. The 3rd option is untimed/noncompetitive with no time record for the short or long course.  The events begin and finish at the Meadow loop trailhead in Plain. \n  \nFor the 5 km short course\, begin from the Meadow loop parking lot and scan the START QR code there.  Ski clockwise on Meadow Loop trail to the Sprint loop. Continue clockwise on the Sprint Loop back into the Meadow Loop. Backtrack counterclockwise on Meadow loop to the finish at the Meadow Loop parking lot. Scan the short course FINISH QR code to complete the event. There are 3 QR codes scanned on the short course -START\, top of Sprint Loop and FINISH.  All QR codes for the short course are on red signs. \n  \nThe 18 km long course starts at the Meadow Loop parking lot. Scan the long course QR code and proceed up valley on the Beaver Creek Trail (BCT). Remain on the BCT to the Swamp Creek loop. Go right to enter the Swamp Creek loop counterclockwise. Scan the QR code at the top of Swamp Creek hill and continue through the loop.  When you rejoin the BCT\, turn right and continue to the Chiwawa Road crossing. Scan the QR code there and turnaround to return on the BCT to the Meadow loop (Do not return via the Swamp Creek loop).  Turn left on Meadow Loop and then ski to the Sprint Loop trail\, proceed counterclockwise on the Sprint Loop and return to the Meadow Loop trail and go left on the Meadow Loop trail to the finish at the Meadow Loop Parking Lot. Scan the long course QR FINISH to complete the event.  There are 5 QR codes scanned on the long course – START\, top of Swamp Creek\, Chiwawa Road turnaround\, top of Sprint loop and FINISH.  All QR codes for the long course are on blue signs. \n  \nThe course will be open from Friday\, January 31\, 2025 starting at 8 AM through Monday\, February 3\, 2025 completing the race by dusk. \n  \nYou can ski the course as many times as you’d like. Your times will be recorded and your fastest time counts. Enjoy the skiing! \n  \nSelf-timing \nTiming will be managed by each racer’s smart phone with Webscorer Race Timer app scanning QR codes. The QR codes are marked visibly and scanning can be done without internet connection. Timing instructions will be sent to each racer in their confirmation email. Your race registration fees support the youth ski education programs of the Plain Valley Nordic Team! \n 
URL:https://wenatcheeoutdoors.org/event/2025-tour-de-plain-2/
CATEGORIES:Special Events
END:VEVENT
BEGIN:VEVENT
DTSTART;TZID=America/Los_Angeles:20250202T080000
DTEND;TZID=America/Los_Angeles:20250202T170000
DTSTAMP:20260422T080054
CREATED:20241212T205458Z
LAST-MODIFIED:20241212T214716Z
UID:10002847-1738483200-1738515600@wenatcheeoutdoors.org
SUMMARY:Winter Track and Sign Evaluation with David Moskowitz
DESCRIPTION:Wenatchee River Institute Presents \nSpend two full days in the greater Leavenworth area\, with professional wildlife tracker\, naturalist\, educator and author\, David Moskowitz. This wildlife track and sign evaluation is offered through CyberTracker North America. David’s approach to this class is highly interactive\, engaging participants in identification and interpretation of tracks and signs. There is lots of time for questions and discussion is built in. The style of this class is an excellent way to learn about animal sign and investigate real life tracking scenarios. Participants have the chance to achieve a certificate are awarded on three levels. \nCyberTracker courses provide an opportunity for quality\, focused learning with some of the best trackers in the country. Courses are designed to further participant’s tracking knowledge\, as well as to rigorously test and document their current tracking skill set. Originally designed to help African Bushmen gain employment on game preserves\, these courses also provide an internationally recognized certification of tracking ability. Certifications are an important credential for wildlife researchers and environmental educators as well as for people who want to test and push their own ability. Evaluations are entirely field based\, striving to expose participants to the widest range of tracks and signs as possible. Discussions are encouraged\, giving participants a chance to air their thoughts and receive individualized instruction. \nCost: $425 non-members\, $375 members\nFood and lodging not included.\nLimit of 10 participants\nTrail difficulty\, some off-trail travel\, up and down ridgelines. \nTo make these programs more accessible\, TCNA has made funds available for individuals from historically marginalized communities. Find the link below for the Financial Aid Application. The deadline for the initial review has already passed but you can still apply for the December 15th review. \nIf cost is still a barrier\, please fill out our Financial Access Form below. \nEvent Link to Register
URL:https://wenatcheeoutdoors.org/event/winter-track-and-sign-evaluation-with-david-moskowitz/2025-02-02/
CATEGORIES:Clinics & Instruction,Special Events
END:VEVENT
BEGIN:VEVENT
DTSTART;TZID=America/Los_Angeles:20250202T083000
DTEND;TZID=America/Los_Angeles:20250202T160000
DTSTAMP:20260422T080054
CREATED:20250124T193747Z
LAST-MODIFIED:20250124T193747Z
UID:10002963-1738485000-1738512000@wenatcheeoutdoors.org
SUMMARY:Leavenworth Winter Sports Club Bakke Cup
DESCRIPTION:ALL CHILDREN ARE WELCOME TO PARTICIPATE AND ALL PROCEEDS WILL BENEFIT THE LWSC SKI TEAMS. \nTHE BAKKE CUP IS A 3-WAY RACE. RACERS ARE ENCOURAGED TO DO AT LEAST 2 OF THE 3 EVENTS.\nThe event is open to any youth ages 6 through 17.\nRace categories by gender and age:  U8 (6-7)\, U10 (8-9)\, U12 (10-11)\, U14 (12-13)\, U18 (14-17).\nRace category based on on racer age as of 1/1/2025 (US Ski & Snowboard Age Rules) \nGetting kids out on the snow and having fun is the idea behind the day – we want kids to leave with good memories and lots of smiles. \nBakke isn’t just a name– Kjell Bakke\, for whom the race is named\, was a constant supporter of the LWSC and kids programs. He witnessed the North American Distance Records set at the Leavenworth Ski Hill and was a descendant of the men that constructed Bakke Hill in the 1920’s. Bakke Hill was the site of the National Ski Jumping Championships in 1941\, 1959\, 1967\, 1974 and 1978. Kjell was also instrumental in getting the “D” jump behind Ski Hill Lodge built.\nEVENT BASICS \nAlpine Race: \n\nGS course on the big hill. Places based on combined time for 2 runs.\n\nSki Jump: \n\n2 jumps per competitor. Distances added for the two jumps.\nAll kids under 12 will jump on small hill unless they have practiced on the big jump.\nKids 12-17 will have option to jump from the small hill or the big jump.\nAll kids must have jumped at least one time on the jump prior to the competition. (Practice jumping has been happening during Wednesday and some Friday night Alpine training- Reach out to Alpine Team head coach to confirm). Kids will be allowed one practice jump before the event that day.\nA small jump next to the Lodge will be constructed for the kids who have not jumped before (or younger kids not ready for the D jump) and will earn a set minimum score regardless of distance.\n\nNordic Race: \n\nRacers can either skate or Classic ski.\nThe Nordic stage is pursuit fashion\, based on the results of the first two events. If kids are only doing the Nordic\, they will be started after the other competitors.\n1K for 11 & under\, 2K for 12+.\nStarts behind Ski Hill Lodge\, loops by ski jump\, big tow\, back to lodge. 2k is twice around.\nTwo way competitors will start 20 seconds after the last 3-way racers.\n\n  \nTIMELINE \nCheck-in/ Bib pick up: 8:30am – on the Ski Hill Lodge patio \nAlpine Race: 9:30 – First racer starts (Warm up/course slip only (no racing) – 8:45-9:30am). \nSki Jump Competition: Following completion of the Alpine Race (time dependent on how many racers we’ve got) \n*Competitors will have a short break between jump and Nordic to change gear and refuel before the Nordic Pursuit while results are being calculated for Nordic start times.* \nNordic Race: After Ski Jump \nFees: Donation based (donate what you can – all donations benefit the LWSC Ski Team!) \n*ALL EVENTS\, TIMES AND LOCATIONS SUBJECT TO CHANGE WITHOUT NOTICE*  We appreciate your patience as details may change\, and as always events may run late or early depending on weather\, participants and other factors. \nHelmets are required for Alpine and Ski Jump for all participants. \nREGISTER\nEvent Link
URL:https://wenatcheeoutdoors.org/event/leavenworth-winter-sports-club-bakke-cup/
CATEGORIES:Special Events
END:VEVENT
END:VCALENDAR