BEGIN:VCALENDAR
VERSION:2.0
PRODID:-//Wenatchee Outdoors - ECPv6.15.18//NONSGML v1.0//EN
CALSCALE:GREGORIAN
METHOD:PUBLISH
X-ORIGINAL-URL:https://wenatcheeoutdoors.org
X-WR-CALDESC:Events for Wenatchee Outdoors
REFRESH-INTERVAL;VALUE=DURATION:PT1H
X-Robots-Tag:noindex
X-PUBLISHED-TTL:PT1H
BEGIN:VTIMEZONE
TZID:America/Los_Angeles
BEGIN:DAYLIGHT
TZOFFSETFROM:-0800
TZOFFSETTO:-0700
TZNAME:PDT
DTSTART:20240310T100000
END:DAYLIGHT
BEGIN:STANDARD
TZOFFSETFROM:-0700
TZOFFSETTO:-0800
TZNAME:PST
DTSTART:20241103T090000
END:STANDARD
BEGIN:DAYLIGHT
TZOFFSETFROM:-0800
TZOFFSETTO:-0700
TZNAME:PDT
DTSTART:20250309T100000
END:DAYLIGHT
BEGIN:STANDARD
TZOFFSETFROM:-0700
TZOFFSETTO:-0800
TZNAME:PST
DTSTART:20251102T090000
END:STANDARD
BEGIN:DAYLIGHT
TZOFFSETFROM:-0800
TZOFFSETTO:-0700
TZNAME:PDT
DTSTART:20260308T100000
END:DAYLIGHT
BEGIN:STANDARD
TZOFFSETFROM:-0700
TZOFFSETTO:-0800
TZNAME:PST
DTSTART:20261101T090000
END:STANDARD
END:VTIMEZONE
BEGIN:VEVENT
DTSTART;TZID=America/Los_Angeles:20250420T073000
DTEND;TZID=America/Los_Angeles:20250420T110000
DTSTAMP:20260421T074443
CREATED:20250418T191046Z
LAST-MODIFIED:20250418T191046Z
UID:10003209-1745134200-1745146800@wenatcheeoutdoors.org
SUMMARY:Easter On The Mountain
DESCRIPTION:Breakfast at Hampton Lodge\nJoin us for a delightful Easter Sunday filled with good food\, fun\, and family-friendly activities! Our Easter breakfast features a mouthwatering spread\, including: \n\nScrambled Eggs\nBacon\nSausage\nSeasoned Potatoes\nPancakes\nFruit Bowl\nAssorted Pastries\nAssorted Breads\nCoffee\nJuice\n\nSchedule & Pricing\n7:30 AM – 10:00 AM \nPre-Purchase & Save! \nAdults: $19.99\nKids (12 & under): $14.99 \nAt the Door Pricing:\nAdults: $22.99\nKids (12 & under): $17.99 \nStart your morning with a delicious breakfast. Secure your spot and save by purchasing in advance! \nEaster Egg Hunt\nThe Easter Egg Hunt will start promptly at 9:00 AM and continue until all eggs have been found. \nEggs will be hidden in the Mimi area and the Pika Peak learning zone. We kindly ask that non-lift riders and children ages 0-6 head to the Pika Peak area to hunt for eggs. For participants ages 6 and older\, please enjoy the egg hunt in the Mimi area. \nWe look forward to seeing you there! \nFor more information click here
URL:https://wenatcheeoutdoors.org/event/easter-on-the-mountain/
CATEGORIES:Special Events
END:VEVENT
END:VCALENDAR