BEGIN:VCALENDAR
VERSION:2.0
PRODID:-//Wenatchee Outdoors - ECPv6.15.18//NONSGML v1.0//EN
CALSCALE:GREGORIAN
METHOD:PUBLISH
X-WR-CALNAME:Wenatchee Outdoors
X-ORIGINAL-URL:https://wenatcheeoutdoors.org
X-WR-CALDESC:Events for Wenatchee Outdoors
REFRESH-INTERVAL;VALUE=DURATION:PT1H
X-Robots-Tag:noindex
X-PUBLISHED-TTL:PT1H
BEGIN:VTIMEZONE
TZID:America/Los_Angeles
BEGIN:DAYLIGHT
TZOFFSETFROM:-0800
TZOFFSETTO:-0700
TZNAME:PDT
DTSTART:20240310T100000
END:DAYLIGHT
BEGIN:STANDARD
TZOFFSETFROM:-0700
TZOFFSETTO:-0800
TZNAME:PST
DTSTART:20241103T090000
END:STANDARD
BEGIN:DAYLIGHT
TZOFFSETFROM:-0800
TZOFFSETTO:-0700
TZNAME:PDT
DTSTART:20250309T100000
END:DAYLIGHT
BEGIN:STANDARD
TZOFFSETFROM:-0700
TZOFFSETTO:-0800
TZNAME:PST
DTSTART:20251102T090000
END:STANDARD
BEGIN:DAYLIGHT
TZOFFSETFROM:-0800
TZOFFSETTO:-0700
TZNAME:PDT
DTSTART:20260308T100000
END:DAYLIGHT
BEGIN:STANDARD
TZOFFSETFROM:-0700
TZOFFSETTO:-0800
TZNAME:PST
DTSTART:20261101T090000
END:STANDARD
END:VTIMEZONE
BEGIN:VEVENT
DTSTART;TZID=America/Los_Angeles:20250426T090000
DTEND;TZID=America/Los_Angeles:20250426T140000
DTSTAMP:20260421T060630
CREATED:20250418T195059Z
LAST-MODIFIED:20250418T195059Z
UID:10003213-1745658000-1745676000@wenatcheeoutdoors.org
SUMMARY:Annual Plant Sale
DESCRIPTION:Master Gardener Foundation of Chelan-Douglas Counties Presents\n\n\nThe plant sale is held on the last Saturday of April each year. This year\, April 26\, 2025\, at 9:00am – 2:00pm. \n\n\nProceeds support:\n\n\nDemonstration gardens\nEducation programs\nFarmers’ market booths\nCounty fair booths\nTechnology to support the program\nAnd other special projects\n\n\nVisit the Community Education Garden at Springwater and Western Avenue to see an example of how your support beautifies our community and provides an educational resource for gardeners. \n\nLink for more information
URL:https://wenatcheeoutdoors.org/event/annual-plant-sale/
CATEGORIES:Special Events
END:VEVENT
BEGIN:VEVENT
DTSTART;TZID=America/Los_Angeles:20250426T093000
DTEND;TZID=America/Los_Angeles:20250426T140000
DTSTAMP:20260421T060630
CREATED:20250418T191706Z
LAST-MODIFIED:20250418T191706Z
UID:10003210-1745659800-1745676000@wenatcheeoutdoors.org
SUMMARY:Mission Ridge Flamingo Days
DESCRIPTION:Flamingo Days\n\nWe are sending off the season in style with Flamingo Days\, our season-ending tradition that is on the last operating weekend of the season every year. Join in on the Flamingo Scavenger hunt for your chance to win a 2025/26 Premier Pass. One lucky flamingo hunter will be rewarded each day with a season pass for next year\, and there are tons of other prizes to pick up as well. \nDust off your best neon ski gear and help us send off the season in style. Soak up some sun while you search for the plastic flamingos with numbers on them hidden around the mountain. \nTurn in flamingo for fun prizes with the Grand Prize being a 2025/26 Season Pass! Other prizes include Mission Ridge gear\, hats\, shirts\, candy\, and more! \nScavenger Hunt Rules\n\nFlamingos must be turned in from 9:30 am to 2 pm each day.\nOnly 3 flamingos may be turned in per person per day.\nFlamingos on Mimi may only be turned in by those 12 and younger.\nBaby Flamingos (size of rubber duckies in Base Area\, Pika Peak\, and Mimi may only be turned in by those 8 and younger.\n\nBaby flamingos can be turned in at Midway or at the Ticket Office.\n\n\nEach Flamingo turned in wins a prize.\nOne (1) 2025/26 Premier Season Pass will be given away each day.\n\nSchedule\nSaturday: \n\nTurn in Your Flamingos at the Wenatchee Express garage by Midway. Opens at 10 am – Close (or when all the Flamingos are turned in)\nFlamingo Scavenger Hunt 9:30 am until 2 pm.\nLive music at Midway 12 pm to 2 pm featuring Micah J.\nAmazing Retro and/or Flamingo-themed costumes all day.\n\nSunday: \n\nTurn in Your Flamingos at the Wenatchee Express garage by Midway. Opens at 10 am – Close (or when all the Flamingos are turned in)\nFlamingo Scavenger Hunt 9:30 am until they are all found\, or 2 pm\, whatever comes first.\nLive music at Midway featuring Micah J.\nAmazing Retro and/or Flamingo-themed costumes all day.\n\nLink for more information 
URL:https://wenatcheeoutdoors.org/event/mission-ridge-flamingo-days/2025-04-26/
CATEGORIES:Family Friendly,Special Events
END:VEVENT
END:VCALENDAR