BEGIN:VCALENDAR
VERSION:2.0
PRODID:-//Wenatchee Outdoors - ECPv6.15.18//NONSGML v1.0//EN
CALSCALE:GREGORIAN
METHOD:PUBLISH
X-ORIGINAL-URL:https://wenatcheeoutdoors.org
X-WR-CALDESC:Events for Wenatchee Outdoors
REFRESH-INTERVAL;VALUE=DURATION:PT1H
X-Robots-Tag:noindex
X-PUBLISHED-TTL:PT1H
BEGIN:VTIMEZONE
TZID:America/Los_Angeles
BEGIN:DAYLIGHT
TZOFFSETFROM:-0800
TZOFFSETTO:-0700
TZNAME:PDT
DTSTART:20240310T100000
END:DAYLIGHT
BEGIN:STANDARD
TZOFFSETFROM:-0700
TZOFFSETTO:-0800
TZNAME:PST
DTSTART:20241103T090000
END:STANDARD
BEGIN:DAYLIGHT
TZOFFSETFROM:-0800
TZOFFSETTO:-0700
TZNAME:PDT
DTSTART:20250309T100000
END:DAYLIGHT
BEGIN:STANDARD
TZOFFSETFROM:-0700
TZOFFSETTO:-0800
TZNAME:PST
DTSTART:20251102T090000
END:STANDARD
BEGIN:DAYLIGHT
TZOFFSETFROM:-0800
TZOFFSETTO:-0700
TZNAME:PDT
DTSTART:20260308T100000
END:DAYLIGHT
BEGIN:STANDARD
TZOFFSETFROM:-0700
TZOFFSETTO:-0800
TZNAME:PST
DTSTART:20261101T090000
END:STANDARD
END:VTIMEZONE
BEGIN:VEVENT
DTSTART;TZID=America/Los_Angeles:20250511T100000
DTEND;TZID=America/Los_Angeles:20250511T120000
DTSTAMP:20260421T205051
CREATED:20250418T192102Z
LAST-MODIFIED:20250418T192102Z
UID:10003212-1746957600-1746964800@wenatcheeoutdoors.org
SUMMARY:Mission Ridge Mother's Day Brunch
DESCRIPTION:Celebrate Mom in style this Mother’s Day with a delicious brunch surrounded by love and stunning views! Join us for a special celebration featuring mouthwatering dishes and a warm atmosphere to make her feel truly appreciated. Treat the most important woman in your life with a memorable brunch experience—because she deserves it all! \nWe will have three different seating times 10am\, 11am\, and 12pm. \nBrunch Menu\nMom’s receive a free Mimosa! \nOmelet Bar\n\nBacon\nSausage\nHam\nPeppers\nMushrooms\nOnions\nSpinach\nMixed Cheese\n\nBreakfast Bar\n\nScrambled Eggs\nBacon\nSausage\nSeasoned Potatoes\nFruit Bowl\nPancakes with fruit compote\nCaramelized Bananas\nWhipped Cream\nChocolate Spread\nAssorted Pastries\nOvernight Oat Cup with fresh fruit\nAssorted Breads\n\nBeverages\n\nCoffee\nTea\nHot Chocolate\nFountain Drinks\nJuice\n\nPrice\n12 & older – $32.99 \nUnder 12 – $18.99 \nReservations\nReservations can be placed online for 10am\, 11am\, and 12pm. \n\nLink for more information
URL:https://wenatcheeoutdoors.org/event/mission-ridge-mothers-day-brunch/
CATEGORIES:Special Events
END:VEVENT
END:VCALENDAR