BEGIN:VCALENDAR
VERSION:2.0
PRODID:-//Wenatchee Outdoors - ECPv6.15.18//NONSGML v1.0//EN
CALSCALE:GREGORIAN
METHOD:PUBLISH
X-ORIGINAL-URL:https://wenatcheeoutdoors.org
X-WR-CALDESC:Events for Wenatchee Outdoors
REFRESH-INTERVAL;VALUE=DURATION:PT1H
X-Robots-Tag:noindex
X-PUBLISHED-TTL:PT1H
BEGIN:VTIMEZONE
TZID:America/Los_Angeles
BEGIN:DAYLIGHT
TZOFFSETFROM:-0800
TZOFFSETTO:-0700
TZNAME:PDT
DTSTART:20240310T100000
END:DAYLIGHT
BEGIN:STANDARD
TZOFFSETFROM:-0700
TZOFFSETTO:-0800
TZNAME:PST
DTSTART:20241103T090000
END:STANDARD
BEGIN:DAYLIGHT
TZOFFSETFROM:-0800
TZOFFSETTO:-0700
TZNAME:PDT
DTSTART:20250309T100000
END:DAYLIGHT
BEGIN:STANDARD
TZOFFSETFROM:-0700
TZOFFSETTO:-0800
TZNAME:PST
DTSTART:20251102T090000
END:STANDARD
BEGIN:DAYLIGHT
TZOFFSETFROM:-0800
TZOFFSETTO:-0700
TZNAME:PDT
DTSTART:20260308T100000
END:DAYLIGHT
BEGIN:STANDARD
TZOFFSETFROM:-0700
TZOFFSETTO:-0800
TZNAME:PST
DTSTART:20261101T090000
END:STANDARD
END:VTIMEZONE
BEGIN:VEVENT
DTSTART;TZID=America/Los_Angeles:20250517T120000
DTEND;TZID=America/Los_Angeles:20250517T150000
DTSTAMP:20260421T074540
CREATED:20250514T171216Z
LAST-MODIFIED:20250514T171227Z
UID:10003270-1747483200-1747494000@wenatcheeoutdoors.org
SUMMARY:Wildflower Walk on Ski Hill - WRI Bird Fest
DESCRIPTION:Leader:  Don Schaechtel\, Connie McCauley\, Nancy Dunn\nTrip Difficulty: Easy\nLimit: 24\n\nSpend an afternoon walking the trails at the historic Leavenworth Ski Hill. You will discover an amazing diversity of wildflowers and flowering shrubs\, with the possibility of a visit by a white-headed woodpecker. We will see camas\, lupines\, tiger lilies\, false Solomon’s seal\, Mariposa lilies\, and many others. If that is not enough\, you will learn how to tell the difference between arrowleaf balsamroot and mule’s ears. Handouts will be provided. Your guides are members of the Wenatchee Valley Chapter of the Washington Native Plant Society. Bring water\, binoculars\, and dress for the weather. Register through the Wenatchee River Institute Bird Fest at https://wenatcheeriverinstitute.org/bird-fest/schedule.html
URL:https://wenatcheeoutdoors.org/event/wildflower-walk-on-ski-hill-wri-bird-fest/
CATEGORIES:Beginners Welcome,Special Events
END:VEVENT
END:VCALENDAR