BEGIN:VCALENDAR
VERSION:2.0
PRODID:-//Wenatchee Outdoors - ECPv6.15.18//NONSGML v1.0//EN
CALSCALE:GREGORIAN
METHOD:PUBLISH
X-ORIGINAL-URL:https://wenatcheeoutdoors.org
X-WR-CALDESC:Events for Wenatchee Outdoors
REFRESH-INTERVAL;VALUE=DURATION:PT1H
X-Robots-Tag:noindex
X-PUBLISHED-TTL:PT1H
BEGIN:VTIMEZONE
TZID:America/Los_Angeles
BEGIN:DAYLIGHT
TZOFFSETFROM:-0800
TZOFFSETTO:-0700
TZNAME:PDT
DTSTART:20240310T100000
END:DAYLIGHT
BEGIN:STANDARD
TZOFFSETFROM:-0700
TZOFFSETTO:-0800
TZNAME:PST
DTSTART:20241103T090000
END:STANDARD
BEGIN:DAYLIGHT
TZOFFSETFROM:-0800
TZOFFSETTO:-0700
TZNAME:PDT
DTSTART:20250309T100000
END:DAYLIGHT
BEGIN:STANDARD
TZOFFSETFROM:-0700
TZOFFSETTO:-0800
TZNAME:PST
DTSTART:20251102T090000
END:STANDARD
BEGIN:DAYLIGHT
TZOFFSETFROM:-0800
TZOFFSETTO:-0700
TZNAME:PDT
DTSTART:20260308T100000
END:DAYLIGHT
BEGIN:STANDARD
TZOFFSETFROM:-0700
TZOFFSETTO:-0800
TZNAME:PST
DTSTART:20261101T090000
END:STANDARD
END:VTIMEZONE
BEGIN:VEVENT
DTSTART;TZID=America/Los_Angeles:20250530T090000
DTEND;TZID=America/Los_Angeles:20250530T123000
DTSTAMP:20260421T011533
CREATED:20250514T172313Z
LAST-MODIFIED:20250527T185010Z
UID:10003274-1748595600-1748608200@wenatcheeoutdoors.org
SUMMARY:WA Native Plant Society Hike at Little Bear Trail (Lake Chelan State Park)
DESCRIPTION:Leader:  Stephen Easley\nTrip Difficulty: Easy\nLimit: 8\n\nThe Little Bear trail begins in the state park and the trail transitions into a figure-eight loop composed of a forest loop (1.0) mile and a bitterbrush loop (1.3) miles. As the loop names imply\, there is a considerable different in plant species that we will find along this trail. There are sections of the trail with fabulous views of Lake Chelan and the surrounding area.\n\nLake Chelan State Park is up-lake 8 miles from the town of Chelan on South Lakeshore Road\, and is also opposite the northern terminus of Navarre Coulee Road for those coming from the south on Hwy 97A. Wear good hiking shoes\, bring water and snacks\, and dress in layers for the weather. A discover pass is required to park. A plant list titled “Little Bear Trail (Lake Chelan State Park)”\, is available at https://www.wnps.org/plant-lists/county?Chelan.  If you would like to attend and receive more details\, please RSVP to Stephen at seasley@nwi.net.
URL:https://wenatcheeoutdoors.org/event/little-bear-trail-lake-chelan-state-park/
CATEGORIES:Special Events
END:VEVENT
END:VCALENDAR