BEGIN:VCALENDAR
VERSION:2.0
PRODID:-//Wenatchee Outdoors - ECPv6.15.18//NONSGML v1.0//EN
CALSCALE:GREGORIAN
METHOD:PUBLISH
X-ORIGINAL-URL:https://wenatcheeoutdoors.org
X-WR-CALDESC:Events for Wenatchee Outdoors
REFRESH-INTERVAL;VALUE=DURATION:PT1H
X-Robots-Tag:noindex
X-PUBLISHED-TTL:PT1H
BEGIN:VTIMEZONE
TZID:America/Los_Angeles
BEGIN:DAYLIGHT
TZOFFSETFROM:-0800
TZOFFSETTO:-0700
TZNAME:PDT
DTSTART:20240310T100000
END:DAYLIGHT
BEGIN:STANDARD
TZOFFSETFROM:-0700
TZOFFSETTO:-0800
TZNAME:PST
DTSTART:20241103T090000
END:STANDARD
BEGIN:DAYLIGHT
TZOFFSETFROM:-0800
TZOFFSETTO:-0700
TZNAME:PDT
DTSTART:20250309T100000
END:DAYLIGHT
BEGIN:STANDARD
TZOFFSETFROM:-0700
TZOFFSETTO:-0800
TZNAME:PST
DTSTART:20251102T090000
END:STANDARD
BEGIN:DAYLIGHT
TZOFFSETFROM:-0800
TZOFFSETTO:-0700
TZNAME:PDT
DTSTART:20260308T100000
END:DAYLIGHT
BEGIN:STANDARD
TZOFFSETFROM:-0700
TZOFFSETTO:-0800
TZNAME:PST
DTSTART:20261101T090000
END:STANDARD
END:VTIMEZONE
BEGIN:VEVENT
DTSTART;TZID=America/Los_Angeles:20250606T120000
DTEND;TZID=America/Los_Angeles:20250606T150000
DTSTAMP:20260420T215253
CREATED:20250430T150609Z
LAST-MODIFIED:20250430T150609Z
UID:10003216-1749211200-1749222000@wenatcheeoutdoors.org
SUMMARY:Leave No Trace Pop-up Education & Clean up
DESCRIPTION:The Okanogan-Wenatchee National Forest invites you to be a part of our Leave No Trace Spotlight events\, scheduled from June 5 to June 7. These events are being co-hosted by the Wenatchee Bureau of Land Management and the Washington Trails Association. The Spotlight program creates opportunities for communities to be the solution to conservation issues. Be part of this on the ground action to protect and preserve public lands in Central Washington.\n\nThe weekend will include a combination of workshops\, stewardship opportunities\, and community outreach events. Let’s join together to strengthen our efforts to benefit these special resources.\n\nThe following is a list of stewardship projects\, educational programs and outreach events that are open to the public. Your organization staff\, partners\, volunteers and members are encouraged to attend.\n\nProgram: Leave No Trace Pop-up Education & Clean up\, Lake Cle Elum-Speelyi Beach\, Cle Elum Ranger District\nDate/Time: Friday\, June 6\, 12 pm – 3:00 pm\n \nProgram: Leave No Trace Trivia & Social Hour\, Riverfront Rock Gym\, Wenatchee\, WA\nDate/Time: Friday\, June 6\, 6 pm – 8 pm\nRSVP is encouraged but not required: LNT.org/OWNF-Trivia\n\nProgram: Volunteer Stewardship Workday\, BLM Liberty Campground\nDate/Time: Saturday\, June 7\, 9 am -1 pm\nRSVP is required: LNT.org/OWNF-Volunteer\n\nPlease visit https://lnt.org/event/leave-no-trace-spotlight-okanogan-wenatchee-national-forest/ for more information and to RSVP as required.
URL:https://wenatcheeoutdoors.org/event/leave-no-trace-pop-up-education-clean-up/
CATEGORIES:Special Events
END:VEVENT
BEGIN:VEVENT
DTSTART;TZID=America/Los_Angeles:20250606T180000
DTEND;TZID=America/Los_Angeles:20250606T200000
DTSTAMP:20260420T215253
CREATED:20250430T150821Z
LAST-MODIFIED:20250430T150821Z
UID:10003217-1749232800-1749240000@wenatcheeoutdoors.org
SUMMARY:Leave No Trace Trivia & Social Hour
DESCRIPTION:The Okanogan-Wenatchee National Forest invites you to be a part of our Leave No Trace Spotlight events\, scheduled from June 5 to June 7. These events are being co-hosted by the Wenatchee Bureau of Land Management and the Washington Trails Association. The Spotlight program creates opportunities for communities to be the solution to conservation issues. Be part of this on the ground action to protect and preserve public lands in Central Washington.\n\nThe weekend will include a combination of workshops\, stewardship opportunities\, and community outreach events. Let’s join together to strengthen our efforts to benefit these special resources.\n\nThe following is a list of stewardship projects\, educational programs and outreach events that are open to the public. Your organization staff\, partners\, volunteers and members are encouraged to attend.\n\nProgram: Leave No Trace Pop-up Education & Clean up\, Lake Cle Elum-Speelyi Beach\, Cle Elum Ranger District\nDate/Time: Friday\, June 6\, 12 pm – 3:00 pm\n \nProgram: Leave No Trace Trivia & Social Hour\, Riverfront Rock Gym\, Wenatchee\, WA\nDate/Time: Friday\, June 6\, 6 pm – 8 pm\nRSVP is encouraged but not required: LNT.org/OWNF-Trivia\n\nProgram: Volunteer Stewardship Workday\, BLM Liberty Campground\nDate/Time: Saturday\, June 7\, 9 am -1 pm\nRSVP is required: LNT.org/OWNF-Volunteer\n\nPlease visit https://lnt.org/event/leave-no-trace-spotlight-okanogan-wenatchee-national-forest/ for more information and to RSVP as required.
URL:https://wenatcheeoutdoors.org/event/leave-no-trace-trivia-social-hour/
CATEGORIES:Special Events
END:VEVENT
END:VCALENDAR