BEGIN:VCALENDAR
VERSION:2.0
PRODID:-//Wenatchee Outdoors - ECPv6.15.18//NONSGML v1.0//EN
CALSCALE:GREGORIAN
METHOD:PUBLISH
X-ORIGINAL-URL:https://wenatcheeoutdoors.org
X-WR-CALDESC:Events for Wenatchee Outdoors
REFRESH-INTERVAL;VALUE=DURATION:PT1H
X-Robots-Tag:noindex
X-PUBLISHED-TTL:PT1H
BEGIN:VTIMEZONE
TZID:America/Los_Angeles
BEGIN:DAYLIGHT
TZOFFSETFROM:-0800
TZOFFSETTO:-0700
TZNAME:PDT
DTSTART:20240310T100000
END:DAYLIGHT
BEGIN:STANDARD
TZOFFSETFROM:-0700
TZOFFSETTO:-0800
TZNAME:PST
DTSTART:20241103T090000
END:STANDARD
BEGIN:DAYLIGHT
TZOFFSETFROM:-0800
TZOFFSETTO:-0700
TZNAME:PDT
DTSTART:20250309T100000
END:DAYLIGHT
BEGIN:STANDARD
TZOFFSETFROM:-0700
TZOFFSETTO:-0800
TZNAME:PST
DTSTART:20251102T090000
END:STANDARD
BEGIN:DAYLIGHT
TZOFFSETFROM:-0800
TZOFFSETTO:-0700
TZNAME:PDT
DTSTART:20260308T100000
END:DAYLIGHT
BEGIN:STANDARD
TZOFFSETFROM:-0700
TZOFFSETTO:-0800
TZNAME:PST
DTSTART:20261101T090000
END:STANDARD
END:VTIMEZONE
BEGIN:VEVENT
DTSTART;VALUE=DATE:20250614
DTEND;VALUE=DATE:20250616
DTSTAMP:20260420T215210
CREATED:20250123T211728Z
LAST-MODIFIED:20250123T211728Z
UID:10002960-1749859200-1750031999@wenatcheeoutdoors.org
SUMMARY:Evergreen Mountain Bike Festival
DESCRIPTION:Join Evergreen Mountain Bike Alliance this June for the Evergreen Mountain Bike Festival! We’ll be partying at Raging River again this year with over 30 miles of trails and 2\,500′ feet of vertical. Get ready for demo bikes\, group rides\, bike shuttles\, skills clinics\, kids zones\, food trucks\, beer garden\, tons of vendors and more. Bring your friends and family for a weekend full of all things mountain biking! \nInterested in more information check out all the information at the Event Link.
URL:https://wenatcheeoutdoors.org/event/evergreen-mountain-bike-festival/
CATEGORIES:Special Events
END:VEVENT
END:VCALENDAR