BEGIN:VCALENDAR
VERSION:2.0
PRODID:-//Wenatchee Outdoors - ECPv6.15.18//NONSGML v1.0//EN
CALSCALE:GREGORIAN
METHOD:PUBLISH
X-ORIGINAL-URL:https://wenatcheeoutdoors.org
X-WR-CALDESC:Events for Wenatchee Outdoors
REFRESH-INTERVAL;VALUE=DURATION:PT1H
X-Robots-Tag:noindex
X-PUBLISHED-TTL:PT1H
BEGIN:VTIMEZONE
TZID:America/Los_Angeles
BEGIN:DAYLIGHT
TZOFFSETFROM:-0800
TZOFFSETTO:-0700
TZNAME:PDT
DTSTART:20240310T100000
END:DAYLIGHT
BEGIN:STANDARD
TZOFFSETFROM:-0700
TZOFFSETTO:-0800
TZNAME:PST
DTSTART:20241103T090000
END:STANDARD
BEGIN:DAYLIGHT
TZOFFSETFROM:-0800
TZOFFSETTO:-0700
TZNAME:PDT
DTSTART:20250309T100000
END:DAYLIGHT
BEGIN:STANDARD
TZOFFSETFROM:-0700
TZOFFSETTO:-0800
TZNAME:PST
DTSTART:20251102T090000
END:STANDARD
BEGIN:DAYLIGHT
TZOFFSETFROM:-0800
TZOFFSETTO:-0700
TZNAME:PDT
DTSTART:20260308T100000
END:DAYLIGHT
BEGIN:STANDARD
TZOFFSETFROM:-0700
TZOFFSETTO:-0800
TZNAME:PST
DTSTART:20261101T090000
END:STANDARD
END:VTIMEZONE
BEGIN:VEVENT
DTSTART;TZID=America/Los_Angeles:20250823T110000
DTEND;TZID=America/Los_Angeles:20250823T150000
DTSTAMP:20260420T183031
CREATED:20250522T190449Z
LAST-MODIFIED:20250522T190449Z
UID:10003287-1755946800-1755961200@wenatcheeoutdoors.org
SUMMARY:Confluence Health Adaptive Cycling
DESCRIPTION:Confluence Health has four adaptive cycling events planned for this year! These events are FREE and open to everyone in our community ages 7 to 105+ with cognitive\, physical\, and/or sensory disabilities. Outdoors for All will be providing a variety of adaptive bikes including handcycles\, trikes\, recumbents and tandems for participants to ride on the Loop Trail at their leisure. We will not be scheduling specific appointments so participants can drop in and ride at any time during event hours. \nPlease come join us at Walla Walla Point Park in Wenatchee on: \n\nSaturday\, May 31\, 11:00 to 3:00\nFriday\, June 27\, 3:00 to 7:00\n\nSaturday\, August 23\, 11:00 to 3:00\n\n\nSaturday\, September 27\, 11:00 to 3:00\n\n\n\nPlease see the attached flyers and distribute to anyone that might be interested in joining us. You are also welcome to post flyers and share on social media to help us get the word out. If you are interested in volunteering at any of these events\, please let me know.\nPlease note: events will be cancelled if the Air Quality Index is > 150 per airnow.gov. \n  \nThese events are made possible by the generous donors to the Confluence Health Foundation. \n2025 Community Events – English \n2025 Community Events – Spanish
URL:https://wenatcheeoutdoors.org/event/confluence-health-adaptive-cycling/2025-08-23/
CATEGORIES:Special Events
END:VEVENT
END:VCALENDAR