BEGIN:VCALENDAR
VERSION:2.0
PRODID:-//Wenatchee Outdoors - ECPv6.15.18//NONSGML v1.0//EN
CALSCALE:GREGORIAN
METHOD:PUBLISH
X-ORIGINAL-URL:https://wenatcheeoutdoors.org
X-WR-CALDESC:Events for Wenatchee Outdoors
REFRESH-INTERVAL;VALUE=DURATION:PT1H
X-Robots-Tag:noindex
X-PUBLISHED-TTL:PT1H
BEGIN:VTIMEZONE
TZID:America/Los_Angeles
BEGIN:DAYLIGHT
TZOFFSETFROM:-0800
TZOFFSETTO:-0700
TZNAME:PDT
DTSTART:20240310T100000
END:DAYLIGHT
BEGIN:STANDARD
TZOFFSETFROM:-0700
TZOFFSETTO:-0800
TZNAME:PST
DTSTART:20241103T090000
END:STANDARD
BEGIN:DAYLIGHT
TZOFFSETFROM:-0800
TZOFFSETTO:-0700
TZNAME:PDT
DTSTART:20250309T100000
END:DAYLIGHT
BEGIN:STANDARD
TZOFFSETFROM:-0700
TZOFFSETTO:-0800
TZNAME:PST
DTSTART:20251102T090000
END:STANDARD
BEGIN:DAYLIGHT
TZOFFSETFROM:-0800
TZOFFSETTO:-0700
TZNAME:PDT
DTSTART:20260308T100000
END:DAYLIGHT
BEGIN:STANDARD
TZOFFSETFROM:-0700
TZOFFSETTO:-0800
TZNAME:PST
DTSTART:20261101T090000
END:STANDARD
END:VTIMEZONE
BEGIN:VEVENT
DTSTART;TZID=America/Los_Angeles:20251113T180000
DTEND;TZID=America/Los_Angeles:20251113T200000
DTSTAMP:20260420T120158
CREATED:20251017T204308Z
LAST-MODIFIED:20251017T204308Z
UID:10003500-1763056800-1763064000@wenatcheeoutdoors.org
SUMMARY:Fish War
DESCRIPTION:The 2025-26 Film and Speaker Series presents: Fish War \nThe Wenatchee Valley Museum & Cultural Center is honored to host a screening of the award-winning documentary Fish Waron Thursday\, Nov. 13\, at 6 PM. \nFilm Description: \nWhen the state of Washington made it illegal for tribes to fish for salmon in their usual and accustomed places\, it was a declaration of war. FISH WAR follows the tribes’ fight to exercise their treaty-reserved fishing rights. A landmark court case in 1974 would affirm the tribes’ treaty rights and establish them as co-managers of the resource\, but the fate of salmon in the Pacific Northwest still hangs in the balance. \nFollowing the screening\, the Indigenous Roots and Reparation Foundation (IRRF) will host a Q&A panel discussing the impacts of this film. \nAdmission is free for both WVMCC and tribal members and $5 for non-members. Registration is recommended. \nFor More information Click Here \nREGISTER HERE \nFunds from this event support the Museum’s mission-serving programs\, including featured exhibits\, MakerSpace\, robotics clubs\, field trips\, student scholarships\, community cultural events\, film and speaker series\, and collection restorations.  \nFish War was produced by Wenatchee-based documentary film company\, North 40 Productions. The 2025-26 Film & Speaker Series is supported by the City of Wenatchee and the City of East Wenatchee.
URL:https://wenatcheeoutdoors.org/event/fish-war/
CATEGORIES:Special Events
END:VEVENT
END:VCALENDAR