BEGIN:VCALENDAR
VERSION:2.0
PRODID:-//Wenatchee Outdoors - ECPv6.15.18//NONSGML v1.0//EN
CALSCALE:GREGORIAN
METHOD:PUBLISH
X-WR-CALNAME:Wenatchee Outdoors
X-ORIGINAL-URL:https://wenatcheeoutdoors.org
X-WR-CALDESC:Events for Wenatchee Outdoors
REFRESH-INTERVAL;VALUE=DURATION:PT1H
X-Robots-Tag:noindex
X-PUBLISHED-TTL:PT1H
BEGIN:VTIMEZONE
TZID:America/Los_Angeles
BEGIN:DAYLIGHT
TZOFFSETFROM:-0800
TZOFFSETTO:-0700
TZNAME:PDT
DTSTART:20250309T100000
END:DAYLIGHT
BEGIN:STANDARD
TZOFFSETFROM:-0700
TZOFFSETTO:-0800
TZNAME:PST
DTSTART:20251102T090000
END:STANDARD
BEGIN:DAYLIGHT
TZOFFSETFROM:-0800
TZOFFSETTO:-0700
TZNAME:PDT
DTSTART:20260308T100000
END:DAYLIGHT
BEGIN:STANDARD
TZOFFSETFROM:-0700
TZOFFSETTO:-0800
TZNAME:PST
DTSTART:20261101T090000
END:STANDARD
BEGIN:DAYLIGHT
TZOFFSETFROM:-0800
TZOFFSETTO:-0700
TZNAME:PDT
DTSTART:20270314T100000
END:DAYLIGHT
BEGIN:STANDARD
TZOFFSETFROM:-0700
TZOFFSETTO:-0800
TZNAME:PST
DTSTART:20271107T090000
END:STANDARD
END:VTIMEZONE
BEGIN:VEVENT
DTSTART;VALUE=DATE:20260130
DTEND;VALUE=DATE:20260203
DTSTAMP:20260420T070750
CREATED:20251216T232549Z
LAST-MODIFIED:20251216T232922Z
UID:10003639-1769731200-1770076799@wenatcheeoutdoors.org
SUMMARY:PVST TOUR de PLAIN 2026
DESCRIPTION:Plain Valley Ski Trails Presents TOUR de PLAIN 2026\nThe Tour de Plain is our annual\, family-friendly race series that brings community together for a fun race series including 4 rave events. Each event welcomes skiers of all ages and abilities to Tour the Plain Valley Ski Trails Nordic Team’s barrier-free ski education program. Join us on the snow! \nFor more information and to register click here. \nRegister for Race #1 (Jan. 16-19)\nRegister for Race #2 (Jan. 30 – Feb. 2)\nRegister for Race #3 (Feb. 13-16)\nRegister for Race #4* (Feb. 22) *A Master’s event has been added to the Washington Nordic Cup
URL:https://wenatcheeoutdoors.org/event/pvst-tour-de-plain-2026-2/
CATEGORIES:Special Events
END:VEVENT
BEGIN:VEVENT
DTSTART;TZID=America/Los_Angeles:20260131T100000
DTEND;TZID=America/Los_Angeles:20260131T120000
DTSTAMP:20260420T070750
CREATED:20260113T210050Z
LAST-MODIFIED:20260113T212344Z
UID:10003670-1769853600-1769860800@wenatcheeoutdoors.org
SUMMARY:WRI Snowshoe Stroll at the Hatchery
DESCRIPTION:Wenatchee River Institute presents. \nLocation: Leavenworth National Fish Hatchery\n12790 Fish Hatchery Rd\, Leavenworth\, WA 98826 \nBegin the year with new discoveries! Starting from the Leavenworth National Fish Hatchery\, join Wenatchee River Institute naturalist guides on a one-mile snowshoe trail along beautiful Icicle Creek. We will learn about native wildlife and ecology along the way. What signs do we see along the trail that tell us what animals were there? How do the plants and animals survive winter? Even if this is your first time on snowshoes\, come along and enjoy this fun outdoor winter program! Bring your enthusiasm for the wonders of winter and nature\, and make sure to dress in warm layers. \nProvided – Snowshoes\, gaiters\, and poles.\nLimit of 12 participants per group – Registration required for everyone in the party.\nDifficulty level – Beginner level\, all skill levels are welcome. Not ADA accessible due to non-plowed trails.\nMeeting location – Leavenworth National Fish Hatchery visitor center. \nCost – Pay What You Can: \nWe offer the Pay What You Can model in recognition that paying for education programs looks different for different people. \nThese prices are based on the costs to WRI to put on this program. If you want to attend this program\, we want you to be there. Use the below discount codes to adjust the total cost of tickets. If these costs are not realistic for you but you are still excited to attend\, please fill out our Financial Access Form. \n$40/person\nThis option may be for you if you are excited to attend this program and are able to pay the market rate so WRI can offer future programming at affordable rates\, including our free events. \n$30/person (use code 25percent) \n\nThis option may be for you if you are excited to support WRI\, and attending this program doesn’t put a strain on your weekly budget. This covers the break-even cost for WRI to put on this particular program. \n$24/person (use code 40percent)\nThis option may be for you if your budget is tight\, but you still really want to attend this program and support WRI. \n$20/children 5-12 years old (25% and 40% discount codes will also apply to child tickets\, making them $15 or $12).\nThis option is for any children you may be strolling with. There are 4 tickets per group for children. If you are interested in a date when the child tickets are sold out but there are still adult tickets\, please give us a call and we can check if there is extra space! \nFree/children 5 and under\nOnly 2 spaces available per stroll. Please note there are no snowshoes available for most children of this size. \nClick Here for more information and to register.
URL:https://wenatcheeoutdoors.org/event/wri-snowshoe-stroll-at-the-hatchery/2026-01-31/1/
CATEGORIES:Family Friendly,Special Events
END:VEVENT
BEGIN:VEVENT
DTSTART;TZID=America/Los_Angeles:20260131T120000
DTEND;TZID=America/Los_Angeles:20260131T133000
DTSTAMP:20260420T070750
CREATED:20260113T220301Z
LAST-MODIFIED:20260113T221525Z
UID:10003741-1769860800-1769866200@wenatcheeoutdoors.org
SUMMARY:WRI Free Community Seed Swap-Midday
DESCRIPTION:Free Community Seed Swap!\nJoin WRI on National Seed Swap Day\, January 31st from 12-1:30pm and 5:00-6:30pm. Come to swap seeds or just pick up some seeds for your garden this year. All are welcome! \nIt’s time to start garden planning and getting your seeds started. If you have seeds to share & trade – great! If you don’t have seeds but are interested in gardening and getting seeds to get you started – come anyway! Let’s kick off the spring season by gathering together\, perusing all of the fun vegetable\, fruit\, and flower seed varieties\, and dreaming of our bountiful future gardens. \nMembers of Wenatchee River Institute’s E. Lorene Young Community Garden will be there to share about our garden & graciously provide seeds. Registration for the 2026 garden season will happen soon after the seed swap. If you are interested in having your own plot\, come down to learn more! \nThis year the Master Gardeners will also have a table set up with information and free seed starting containers\, so all you will need to start your seeds is soil and water. \nYou can stop by for a short while or set up a station and be there the whole time! Some seed envelopes and paper to make envelopes will be provided but if you can\, please also bring your own containers for seeds. \nInfo on how to save seeds\, which plants are easiest and hardest to save seed from\, companion planting guides\, and other helpful tips will be available. Get excited for Spring! \nThis event will take place inside the Red Barn. There is an accessible path and accessible bathrooms available. \nClick Here for the event link
URL:https://wenatcheeoutdoors.org/event/wri-free-community-seed-swap-midday/2026-01-31/1/
CATEGORIES:Special Events
END:VEVENT
BEGIN:VEVENT
DTSTART;TZID=America/Los_Angeles:20260131T130000
DTEND;TZID=America/Los_Angeles:20260131T150000
DTSTAMP:20260420T070750
CREATED:20260113T210050Z
LAST-MODIFIED:20260113T212344Z
UID:10003671-1769864400-1769871600@wenatcheeoutdoors.org
SUMMARY:WRI Snowshoe Stroll at the Hatchery
DESCRIPTION:Wenatchee River Institute presents. \nLocation: Leavenworth National Fish Hatchery\n12790 Fish Hatchery Rd\, Leavenworth\, WA 98826 \nBegin the year with new discoveries! Starting from the Leavenworth National Fish Hatchery\, join Wenatchee River Institute naturalist guides on a one-mile snowshoe trail along beautiful Icicle Creek. We will learn about native wildlife and ecology along the way. What signs do we see along the trail that tell us what animals were there? How do the plants and animals survive winter? Even if this is your first time on snowshoes\, come along and enjoy this fun outdoor winter program! Bring your enthusiasm for the wonders of winter and nature\, and make sure to dress in warm layers. \nProvided – Snowshoes\, gaiters\, and poles.\nLimit of 12 participants per group – Registration required for everyone in the party.\nDifficulty level – Beginner level\, all skill levels are welcome. Not ADA accessible due to non-plowed trails.\nMeeting location – Leavenworth National Fish Hatchery visitor center. \nCost – Pay What You Can: \nWe offer the Pay What You Can model in recognition that paying for education programs looks different for different people. \nThese prices are based on the costs to WRI to put on this program. If you want to attend this program\, we want you to be there. Use the below discount codes to adjust the total cost of tickets. If these costs are not realistic for you but you are still excited to attend\, please fill out our Financial Access Form. \n$40/person\nThis option may be for you if you are excited to attend this program and are able to pay the market rate so WRI can offer future programming at affordable rates\, including our free events. \n$30/person (use code 25percent) \n\nThis option may be for you if you are excited to support WRI\, and attending this program doesn’t put a strain on your weekly budget. This covers the break-even cost for WRI to put on this particular program. \n$24/person (use code 40percent)\nThis option may be for you if your budget is tight\, but you still really want to attend this program and support WRI. \n$20/children 5-12 years old (25% and 40% discount codes will also apply to child tickets\, making them $15 or $12).\nThis option is for any children you may be strolling with. There are 4 tickets per group for children. If you are interested in a date when the child tickets are sold out but there are still adult tickets\, please give us a call and we can check if there is extra space! \nFree/children 5 and under\nOnly 2 spaces available per stroll. Please note there are no snowshoes available for most children of this size. \nClick Here for more information and to register.
URL:https://wenatcheeoutdoors.org/event/wri-snowshoe-stroll-at-the-hatchery/2026-01-31/2/
CATEGORIES:Family Friendly,Special Events
END:VEVENT
BEGIN:VEVENT
DTSTART;TZID=America/Los_Angeles:20260131T170000
DTEND;TZID=America/Los_Angeles:20260131T183000
DTSTAMP:20260420T070750
CREATED:20260113T220301Z
LAST-MODIFIED:20260113T221525Z
UID:10003742-1769878800-1769884200@wenatcheeoutdoors.org
SUMMARY:WRI Free Community Seed Swap-Midday
DESCRIPTION:Free Community Seed Swap!\nJoin WRI on National Seed Swap Day\, January 31st from 12-1:30pm and 5:00-6:30pm. Come to swap seeds or just pick up some seeds for your garden this year. All are welcome! \nIt’s time to start garden planning and getting your seeds started. If you have seeds to share & trade – great! If you don’t have seeds but are interested in gardening and getting seeds to get you started – come anyway! Let’s kick off the spring season by gathering together\, perusing all of the fun vegetable\, fruit\, and flower seed varieties\, and dreaming of our bountiful future gardens. \nMembers of Wenatchee River Institute’s E. Lorene Young Community Garden will be there to share about our garden & graciously provide seeds. Registration for the 2026 garden season will happen soon after the seed swap. If you are interested in having your own plot\, come down to learn more! \nThis year the Master Gardeners will also have a table set up with information and free seed starting containers\, so all you will need to start your seeds is soil and water. \nYou can stop by for a short while or set up a station and be there the whole time! Some seed envelopes and paper to make envelopes will be provided but if you can\, please also bring your own containers for seeds. \nInfo on how to save seeds\, which plants are easiest and hardest to save seed from\, companion planting guides\, and other helpful tips will be available. Get excited for Spring! \nThis event will take place inside the Red Barn. There is an accessible path and accessible bathrooms available. \nClick Here for the event link
URL:https://wenatcheeoutdoors.org/event/wri-free-community-seed-swap-midday/2026-01-31/2/
CATEGORIES:Special Events
END:VEVENT
END:VCALENDAR