BEGIN:VCALENDAR
VERSION:2.0
PRODID:-//Wenatchee Outdoors - ECPv6.15.18//NONSGML v1.0//EN
CALSCALE:GREGORIAN
METHOD:PUBLISH
X-ORIGINAL-URL:https://wenatcheeoutdoors.org
X-WR-CALDESC:Events for Wenatchee Outdoors
REFRESH-INTERVAL;VALUE=DURATION:PT1H
X-Robots-Tag:noindex
X-PUBLISHED-TTL:PT1H
BEGIN:VTIMEZONE
TZID:America/Los_Angeles
BEGIN:DAYLIGHT
TZOFFSETFROM:-0800
TZOFFSETTO:-0700
TZNAME:PDT
DTSTART:20250309T100000
END:DAYLIGHT
BEGIN:STANDARD
TZOFFSETFROM:-0700
TZOFFSETTO:-0800
TZNAME:PST
DTSTART:20251102T090000
END:STANDARD
BEGIN:DAYLIGHT
TZOFFSETFROM:-0800
TZOFFSETTO:-0700
TZNAME:PDT
DTSTART:20260308T100000
END:DAYLIGHT
BEGIN:STANDARD
TZOFFSETFROM:-0700
TZOFFSETTO:-0800
TZNAME:PST
DTSTART:20261101T090000
END:STANDARD
BEGIN:DAYLIGHT
TZOFFSETFROM:-0800
TZOFFSETTO:-0700
TZNAME:PDT
DTSTART:20270314T100000
END:DAYLIGHT
BEGIN:STANDARD
TZOFFSETFROM:-0700
TZOFFSETTO:-0800
TZNAME:PST
DTSTART:20271107T090000
END:STANDARD
END:VTIMEZONE
BEGIN:VEVENT
DTSTART;TZID=America/Los_Angeles:20260218T190000
DTEND;TZID=America/Los_Angeles:20260218T210000
DTSTAMP:20260420T053420
CREATED:20260114T013430Z
LAST-MODIFIED:20260114T013446Z
UID:10003827-1771441200-1771448400@wenatcheeoutdoors.org
SUMMARY:Mission Ridge-The Ninety-Pound Rucksack Challenge
DESCRIPTION:The Ninety-Pound Rucksack Challenge \nThe Ninety-Pound Rucksack Challenge is an annual ski mountaineering event that honors the legacy of the 10th Mountain Division\, their historic World War II ascent of Riva Ridge\, and their post-war contributions to American skiing.\nParticipants across the country recreate the 10th’s legendary climb by ascending 1\,500 to 2\,500 feet and skiing back down. This event is a chance to celebrate history\, community\, and the spirit of adventure embodied by the 10th. \nFull Details coming soon! \nCheck for updates on Mission Ridge Event Page.
URL:https://wenatcheeoutdoors.org/event/mission-ridge-the-ninety-pound-rucksack-challenge/
CATEGORIES:Special Events
END:VEVENT
END:VCALENDAR