BEGIN:VCALENDAR
VERSION:2.0
PRODID:-//Wenatchee Outdoors - ECPv6.15.18//NONSGML v1.0//EN
CALSCALE:GREGORIAN
METHOD:PUBLISH
X-ORIGINAL-URL:https://wenatcheeoutdoors.org
X-WR-CALDESC:Events for Wenatchee Outdoors
REFRESH-INTERVAL;VALUE=DURATION:PT1H
X-Robots-Tag:noindex
X-PUBLISHED-TTL:PT1H
BEGIN:VTIMEZONE
TZID:America/Los_Angeles
BEGIN:DAYLIGHT
TZOFFSETFROM:-0800
TZOFFSETTO:-0700
TZNAME:PDT
DTSTART:20250309T100000
END:DAYLIGHT
BEGIN:STANDARD
TZOFFSETFROM:-0700
TZOFFSETTO:-0800
TZNAME:PST
DTSTART:20251102T090000
END:STANDARD
BEGIN:DAYLIGHT
TZOFFSETFROM:-0800
TZOFFSETTO:-0700
TZNAME:PDT
DTSTART:20260308T100000
END:DAYLIGHT
BEGIN:STANDARD
TZOFFSETFROM:-0700
TZOFFSETTO:-0800
TZNAME:PST
DTSTART:20261101T090000
END:STANDARD
BEGIN:DAYLIGHT
TZOFFSETFROM:-0800
TZOFFSETTO:-0700
TZNAME:PDT
DTSTART:20270314T100000
END:DAYLIGHT
BEGIN:STANDARD
TZOFFSETFROM:-0700
TZOFFSETTO:-0800
TZNAME:PST
DTSTART:20271107T090000
END:STANDARD
END:VTIMEZONE
BEGIN:VEVENT
DTSTART;TZID=America/Los_Angeles:20260307T120000
DTEND;TZID=America/Los_Angeles:20260307T220000
DTSTAMP:20260420T041037
CREATED:20260114T183656Z
LAST-MODIFIED:20260114T183656Z
UID:10003830-1772884800-1772920800@wenatcheeoutdoors.org
SUMMARY:Mission Ridge Rails & Ales
DESCRIPTION:Rails & Ales \nExperience one of the Wenatchee Valley’s most iconic events\, Rails & Ales! This highly legendary winter festival brings together skiers\, snowboarders\, and mountain fans for an evening of stoke\, style\, and good brews\, right in the heart of downtown Wenatchee. Centered around a rail jam and beer garden\, Rails & Ales features some of the best skiers and snowboarders from across the country competing for a spot on the podium. \nBefore the main action gets underway\, check out our on-snow experience: beginner skiing & snowboarding lessons right here in town! There will also be plenty of hot food and beverages from an array of vendors\, along with live music. \nWhere \n1 Orondo Ave\, Wenatchee WA 98801 \nWhat to Expect \n\nA custom rail setup right in downtown Wenatchee\nLocal riders throwing down their best tricks for prizes and bragging rights\nOn snow experience: introductory snowshoeing\, skiing and snowboarding lessons\nA lively beer garden featuring regional breweries\nMusic\, food\, and all the mountain vibes brought down to the heart of Wenatchee\n\nGrab your crew\, raise a glass\, and get ready for Rails & Ales\, where winter stoke is brought to the valley by the truckload. \nFull schedule with more details can be found HERE.
URL:https://wenatcheeoutdoors.org/event/mission-ridge-rails-ales/
CATEGORIES:Special Events
END:VEVENT
END:VCALENDAR