BEGIN:VCALENDAR
VERSION:2.0
PRODID:-//Wenatchee Outdoors - ECPv6.15.18//NONSGML v1.0//EN
CALSCALE:GREGORIAN
METHOD:PUBLISH
X-ORIGINAL-URL:https://wenatcheeoutdoors.org
X-WR-CALDESC:Events for Wenatchee Outdoors
REFRESH-INTERVAL;VALUE=DURATION:PT1H
X-Robots-Tag:noindex
X-PUBLISHED-TTL:PT1H
BEGIN:VTIMEZONE
TZID:America/Los_Angeles
BEGIN:DAYLIGHT
TZOFFSETFROM:-0800
TZOFFSETTO:-0700
TZNAME:PDT
DTSTART:20230312T100000
END:DAYLIGHT
BEGIN:STANDARD
TZOFFSETFROM:-0700
TZOFFSETTO:-0800
TZNAME:PST
DTSTART:20231105T090000
END:STANDARD
BEGIN:DAYLIGHT
TZOFFSETFROM:-0800
TZOFFSETTO:-0700
TZNAME:PDT
DTSTART:20240310T100000
END:DAYLIGHT
BEGIN:STANDARD
TZOFFSETFROM:-0700
TZOFFSETTO:-0800
TZNAME:PST
DTSTART:20241103T090000
END:STANDARD
BEGIN:DAYLIGHT
TZOFFSETFROM:-0800
TZOFFSETTO:-0700
TZNAME:PDT
DTSTART:20250309T100000
END:DAYLIGHT
BEGIN:STANDARD
TZOFFSETFROM:-0700
TZOFFSETTO:-0800
TZNAME:PST
DTSTART:20251102T090000
END:STANDARD
BEGIN:DAYLIGHT
TZOFFSETFROM:-0800
TZOFFSETTO:-0700
TZNAME:PDT
DTSTART:20260308T100000
END:DAYLIGHT
BEGIN:STANDARD
TZOFFSETFROM:-0700
TZOFFSETTO:-0800
TZNAME:PST
DTSTART:20261101T090000
END:STANDARD
END:VTIMEZONE
BEGIN:VEVENT
DTSTART;TZID=America/Los_Angeles:20250131T080000
DTEND;TZID=America/Los_Angeles:20250203T170000
DTSTAMP:20260420T111833
CREATED:20241226T172835Z
LAST-MODIFIED:20241226T172835Z
UID:10002933-1738310400-1738602000@wenatcheeoutdoors.org
SUMMARY:2025 Tour De Plain
DESCRIPTION:Click here for registration link \n  \n2025 Tour de Plain Event # 2 Course Description \n  \nThe event offers 3 race options:  There are two timed events with a short (5 KM) and long (18 KM) tour of the Beaver Creek Trail  and Meadow/Sprint loops area. You can opt for classic or freestyle technique. The 3rd option is untimed/noncompetitive with no time record for the short or long course.  The events begin and finish at the Meadow loop trailhead in Plain. \n  \nFor the 5 km short course\, begin from the Meadow loop parking lot and scan the START QR code there.  Ski clockwise on Meadow Loop trail to the Sprint loop. Continue clockwise on the Sprint Loop back into the Meadow Loop. Backtrack counterclockwise on Meadow loop to the finish at the Meadow Loop parking lot. Scan the short course FINISH QR code to complete the event. There are 3 QR codes scanned on the short course -START\, top of Sprint Loop and FINISH.  All QR codes for the short course are on red signs. \n  \nThe 18 km long course starts at the Meadow Loop parking lot. Scan the long course QR code and proceed up valley on the Beaver Creek Trail (BCT). Remain on the BCT to the Swamp Creek loop. Go right to enter the Swamp Creek loop counterclockwise. Scan the QR code at the top of Swamp Creek hill and continue through the loop.  When you rejoin the BCT\, turn right and continue to the Chiwawa Road crossing. Scan the QR code there and turnaround to return on the BCT to the Meadow loop (Do not return via the Swamp Creek loop).  Turn left on Meadow Loop and then ski to the Sprint Loop trail\, proceed counterclockwise on the Sprint Loop and return to the Meadow Loop trail and go left on the Meadow Loop trail to the finish at the Meadow Loop Parking Lot. Scan the long course QR FINISH to complete the event.  There are 5 QR codes scanned on the long course – START\, top of Swamp Creek\, Chiwawa Road turnaround\, top of Sprint loop and FINISH.  All QR codes for the long course are on blue signs. \n  \nThe course will be open from Friday\, January 31\, 2025 starting at 8 AM through Monday\, February 3\, 2025 completing the race by dusk. \n  \nYou can ski the course as many times as you’d like. Your times will be recorded and your fastest time counts. Enjoy the skiing! \n  \nSelf-timing \nTiming will be managed by each racer’s smart phone with Webscorer Race Timer app scanning QR codes. The QR codes are marked visibly and scanning can be done without internet connection. Timing instructions will be sent to each racer in their confirmation email. Your race registration fees support the youth ski education programs of the Plain Valley Nordic Team! \n 
URL:https://wenatcheeoutdoors.org/event/2025-tour-de-plain-2/
CATEGORIES:Special Events
END:VEVENT
BEGIN:VEVENT
DTSTART;TZID=America/Los_Angeles:20250130T190000
DTEND;TZID=America/Los_Angeles:20250130T200000
DTSTAMP:20260420T111833
CREATED:20241212T205921Z
LAST-MODIFIED:20241212T214445Z
UID:10002848-1738263600-1738267200@wenatcheeoutdoors.org
SUMMARY:Red Barn Event - Our Valley\, Our Light Pollution
DESCRIPTION:Wenatchee River Institute Presents \nStreaming link: https://www.youtube.com/watch?v=DokEhIoAKOQ \nDoors open at 6:30pm for a community social with beer\, wine\, sparkling water\, and tea available for purchase. The presentation will start at 7:00pm. \nLight pollution affects more than just the natural dark sky and star visibility\, it affects our local ecosystems and wastes money. Join Paul Tomas with the Wenatchee Valley Astronomy Club and learn how our communities are lighting up the valley – and not in a good way. Paul will discuss what light pollution is\, different ways to reduce our light pollution\, and how to talk with others that may be unintentionally lighting the dark sky. \nToday over 80% of the world lives under sky glow. Paul will discuss ways we can collect data through a citizen scientist program. These programs help others understand how our valley and the world around us is changing and show how light pollution is on the rise due to lack of awareness. \nAbout the Presenter: \nPaul Tomas is an avid environmental educator with a passion for astronomy. For over 8 years\, he has worked as a Park Ranger organizing and conducting interpretive programs covering various subjects from Snowshoe nature hikes to Astronomy Programs. During his work as a Park Ranger\, he has worked to change local parks into dark sky havens by advocating for Dark Skies and retrofitting exterior lights in parks. Paul Tomas is the founder of the Wenatchee Valley Astronomy Club. This local club gives local astronomers of all experience levels a place in this valley to come together to form new connections\, friendships\, and share with each other all things astronomy. \nEvent Link
URL:https://wenatcheeoutdoors.org/event/red-barn-event-our-valley-our-light-pollution/
CATEGORIES:Special Events
END:VEVENT
BEGIN:VEVENT
DTSTART;TZID=America/Los_Angeles:20241218T080000
DTEND;TZID=America/Los_Angeles:20241218T160000
DTSTAMP:20260420T111833
CREATED:20241212T200947Z
LAST-MODIFIED:20241212T200947Z
UID:10002821-1734508800-1734537600@wenatcheeoutdoors.org
SUMMARY:2025 Leavenworth Christmas Bird Count
DESCRIPTION:Wenatchee River Institute is hosting the Leavenworth Christmas Bird Count this year! \nThe Christmas Bird Count (CBC) is a nationwide community science effort to count birds that has been happening for over 120 years. It is organized by the National Audubon Society\, and local counts are compiled by regional Audubon chapters\, community members\, or organizations like WRI. Specific counts occur on one day in a 15-mile diameter circle around a town\, and the Leavenworth count is happening on Wednesday\, December 18th! \nThere are plenty of routes to cover and lots of space for volunteer leaders or beginning birders to join in. If you’d like to participate\, please send an email to Joshua (contact info below). \nThis is a great opportunity to both volunteer for this amazing community science project as well as learn from fellow community members. There is no cost to participate. Depending on the route you are on\, there are varying amounts of birding to be done on foot or from the car. You can also participate from home! \n  \nEvent Link
URL:https://wenatcheeoutdoors.org/event/2025-leavenworth-christmas-bird-count/
CATEGORIES:Special Events
END:VEVENT
BEGIN:VEVENT
DTSTART;TZID=America/Los_Angeles:20241214T103000
DTEND;TZID=America/Los_Angeles:20241214T130000
DTSTAMP:20260420T111833
CREATED:20241128T020957Z
LAST-MODIFIED:20241128T020957Z
UID:10002812-1734172200-1734181200@wenatcheeoutdoors.org
SUMMARY:Santa Paws Fun Run
DESCRIPTION:The event will take place on Saturday\, December 14th\, hosted by Wenatchee Valley Brewing. The run will kick off at 10:30 from the loop trail at E. Island View\, with both 2K and 5K route options heading north and then lunch and drinks will be available to purchase after 10:45 at WVB. \nHighlights of the event include: \n\nPrizes for Best Team Name and Theme\, Best Costume\, and Most Festive\nFamily-friendly\, fun\, with Santa photos for a festive keepsake\n\nWe’d love to see families\, friends\, and furry companions come out for this special day!
URL:https://wenatcheeoutdoors.org/event/santa-paws-fun-run/
CATEGORIES:Family Friendly,Special Events
END:VEVENT
BEGIN:VEVENT
DTSTART;TZID=America/Los_Angeles:20241204T173000
DTEND;TZID=America/Los_Angeles:20241204T193000
DTSTAMP:20260420T111833
CREATED:20241115T200208Z
LAST-MODIFIED:20241115T204804Z
UID:10002810-1733333400-1733340600@wenatcheeoutdoors.org
SUMMARY:Holiday Wreath Making Party
DESCRIPTION:Join Wenatchee River Institute this winter season to create your own holiday wreath to take home. Come prepared to experiment with a variety of foraged materials such as lichens\, evergreen branches\, dried flower stems\, pinecones\, berries\, dried leaves\, and citrus slices. All the materials we will use have been gathered around WRI’s campus and surrounding areas by the Land Steward\, with all of the wreath bases being handmade from the weeping willow at the entrance to WRI! You can expect a fun gathering learning from WRI’s Land Steward to make an artistic\, nature inspired\, compostable wreath. \nYour beautiful creations will be fully compostable and can be dropped off at WRI for disposal. If you would like to bring some non-compostable garnishments from home to add to your wreath\, just make sure to remove them before composting. \nThis event will take place inside a heated building with seating available for those who need it. Bathrooms are onsite. Our building and bathrooms are both ADA accessible. \n  \nEvent Link to Register
URL:https://wenatcheeoutdoors.org/event/holiday-wreath-making-party/
CATEGORIES:Special Events
END:VEVENT
BEGIN:VEVENT
DTSTART;TZID=America/Los_Angeles:20240810T090000
DTEND;TZID=America/Los_Angeles:20240810T130000
DTSTAMP:20260420T111833
CREATED:20240411T211647Z
LAST-MODIFIED:20240731T012311Z
UID:10002310-1723280400-1723294800@wenatcheeoutdoors.org
SUMMARY:Evergreen Youth Bike Fest!
DESCRIPTION:When: August 10\, 2024 from 9:00am-1:00pm \nWhere: Squilchuck State Park – 2805 Mission Ridge Rd\, Wenatchee\, WA. \nGoogle Maps link: https://goo.gl/maps/udBBWX6BSF4AnwJq9 \nWho: Kids aged 3-13 and their families \nCamping is available Friday and Saturday nights. For camping questions or reservations\, please email Ray at raybirks@evergreenmtb.org \nPlease note: A Washington State Discover Pass is required at Squilchuck State Park. Available on-site or online here. \nThe Central Washington Evergreen Mountain Bike Alliance is delighted to announce the return of the Evergreen Youth Bike Festival. This event offers a diverse array of activities suitable for children and families of all biking proficiencies—from toddlers on balance bikes to young enthusiasts mastering more challenging trails. The festival will feature organized rides specifically tailored for youth between the ages of 3 and 13\, alongside bike games that cater to various age groups. Additionally\, the event will provide open trails for biking or hiking\, allowing families the opportunity to explore the natural beauty of the area together. \nParticipants will also find an assortment of booths dedicated to outdoor activities in the region\, as well as attractions such as face painting among other engaging activities. Attendees are welcome to bring a picnic or opt for on-site dining options. The festival encourages families to make the most of the weekend by immersing themselves in mountain play. \nFor those wishing to extend their stay\, RV\, trailer\, and tent camping are available within the park adjacent to the event grounds. It should be noted that camping spots are limited and require prior registration of a child participant. While the campsite provides essential bathroom facilities equipped with water\, it lacks power\, water\, or sewer connections for individual sites. In the interest of safety and preservation\, open fires are strictly prohibited and all pets must be kept on a leash at all times. \nCompetitive Youth Rides\nSomething for every child! Competitive rides include: \n\nRidge Riders: 2.6 miles – Geared towards pre-teen and teens wanting to challenge their endurance\nAlpine Rippers: 1.35 Miles – Geared towards pre-teen riders who are comfortable on blue trails with adequate endurance.\nForest Riders: 0.5 miles – Geared towards young riders who are comfortable on trails.\nMeadow Cruisers: 0.33 miles – Geared toward first and second year young riders.\nPedal-less: Balance Bikes – Geared towards the tiny tike shredders.\n\nTickets\n\nTickets:\n\n$5 per child for Evergreen Members\n$10 per child for non-members (Join today!)\n$20 per child day-of (no member discounts day-of)\n\n\nTicket availability is limited\nDay-of on-site registration available\, ticket availability pending\nOnline registration ends August 9th\nCamping available – please email Ray at raybirks@evergreenmtb.org\n\nFor event questions\, please email Rob at centraleducation@evergreenmtb.org
URL:https://wenatcheeoutdoors.org/event/evergreen-youth-bike-fest/
CATEGORIES:Beginners Welcome,Family Friendly,Special Events
END:VEVENT
BEGIN:VEVENT
DTSTART;TZID=America/Los_Angeles:20240412T170000
DTEND;TZID=America/Los_Angeles:20240412T193000
DTSTAMP:20260420T111833
CREATED:20240408T163550Z
LAST-MODIFIED:20240408T163550Z
UID:10002257-1712941200-1712950200@wenatcheeoutdoors.org
SUMMARY:Trail Builders Ball 2024
DESCRIPTION:Help us kick off the 2024 riding season with a night of food\, drink\, entertainment and fundraising as we celebrate mountain biking in Central Washington. Join us and help us say thanks to our sponsors\, supporters\, passionate volunteers\, and trailbuilders who build some of the best trails in Washington State! Entertainment to include yard games on the patio\, a bucket raffle\, and live music by local folk band\, The Chumlilies. \nAttire is business casual with jorts\, dungarees\, flannels\, mullets\, tuxedo t-shirts and pit vipers encouraged! \nThis event is for ages 21+. \nSponsors\nPresented by the Evergreen Mountain Bike Alliance – Central Chapter with support from these amazing Sponsors: \n\nGarlinis restaurant\nWenatchee Valley Brewing\nRidge Cycle Sport\nWeinstein Beverage\nBest Days Brewing\n\nEvent Highlights\n\nDinner catered by Garlini’s\nBeer and Wine\nFree Members-only Happy Hour 5-6pm\nBucket Raffle\nLive music by The Chumlilies\nPatio games\n\nDetails\nWhen: Friday\, April 12\, 2024 – Starting at 5:00pm\nWhere: LocalTel Events Center\, Pybus Public Market\, 3 N Worthen St\, Wenatchee\, WA 98801 \nGoogle maps link: https://goo.gl/maps/CD79yGtNiNZnNh5e7 \nThis event is for ages 21+. \nTickets\nPresale through April 5 – $59\nAfter April 5 – $69\nAt the door – $79 \nTickets include dinner and 2 drink tokens. \nEvergreen Members: Please join us for a Free Members-only Happy Hour 5-6pm! \nTicket availability is limited. Online registration ends April 12. \nFor questions\, please email Riley at rileyshewak@evergreenmtb.org.
URL:https://wenatcheeoutdoors.org/event/trail-builders-ball-2024/
CATEGORIES:Special Events
END:VEVENT
BEGIN:VEVENT
DTSTART;TZID=America/Los_Angeles:20240222T190000
DTEND;TZID=America/Los_Angeles:20240222T200000
DTSTAMP:20260420T111833
CREATED:20240208T005737Z
LAST-MODIFIED:20240208T052117Z
UID:10001681-1708628400-1708632000@wenatcheeoutdoors.org
SUMMARY:The 70 Project
DESCRIPTION:In this slideshow presentation\, Andy Dappen discusses his year-long Seventy Project. In the year between his last and his next June birthday\, Andy plans to mountain bike 70 days\, ski 70 days\, paddle 70 days\, summit 70 peaks\, lead 70 outdoor rock routes of a specified difficulty\, lead 70 indoor rock climbs of a specified difficulty\, enjoy 70 outings with his wife\, take outings with 70 different people\, ascend 210\,000 vertical feet (70K x 3)\, travel 1\,400 non-motorized miles (70 x 20)\, and more. \nThis presentations discusses the whys and wherefores of the project\, shows slides of various adventures along the way\, presents lessons learned and challenges encountered\, fesses up to where he is and is not on pace\, and strives to motivate others to take on projects of their own. \n 
URL:https://wenatcheeoutdoors.org/event/presentation/
LOCATION:TBD\, Wenatchee\, WA\, 98801\, United States
CATEGORIES:Member Outings,Special Events
ATTACH;FMTTYPE=image/jpeg:https://wenatcheeoutdoors.org/wp-content/uploads/2024/02/The-70-Project-Andy-Dappen-5-e1707368561414.jpg
ORGANIZER;CN="Andy Dappen":MAILTO:ardappen@gmail.com
END:VEVENT
END:VCALENDAR