BEGIN:VCALENDAR
VERSION:2.0
PRODID:-//Wenatchee Outdoors - ECPv6.15.18//NONSGML v1.0//EN
CALSCALE:GREGORIAN
METHOD:PUBLISH
X-ORIGINAL-URL:https://wenatcheeoutdoors.org
X-WR-CALDESC:Events for Wenatchee Outdoors
REFRESH-INTERVAL;VALUE=DURATION:PT1H
X-Robots-Tag:noindex
X-PUBLISHED-TTL:PT1H
BEGIN:VTIMEZONE
TZID:America/Los_Angeles
BEGIN:DAYLIGHT
TZOFFSETFROM:-0800
TZOFFSETTO:-0700
TZNAME:PDT
DTSTART:20240310T100000
END:DAYLIGHT
BEGIN:STANDARD
TZOFFSETFROM:-0700
TZOFFSETTO:-0800
TZNAME:PST
DTSTART:20241103T090000
END:STANDARD
BEGIN:DAYLIGHT
TZOFFSETFROM:-0800
TZOFFSETTO:-0700
TZNAME:PDT
DTSTART:20250309T100000
END:DAYLIGHT
BEGIN:STANDARD
TZOFFSETFROM:-0700
TZOFFSETTO:-0800
TZNAME:PST
DTSTART:20251102T090000
END:STANDARD
BEGIN:DAYLIGHT
TZOFFSETFROM:-0800
TZOFFSETTO:-0700
TZNAME:PDT
DTSTART:20260308T100000
END:DAYLIGHT
BEGIN:STANDARD
TZOFFSETFROM:-0700
TZOFFSETTO:-0800
TZNAME:PST
DTSTART:20261101T090000
END:STANDARD
END:VTIMEZONE
BEGIN:VEVENT
DTSTART;TZID=America/Los_Angeles:20251026T140000
DTEND;TZID=America/Los_Angeles:20251026T150000
DTSTAMP:20260422T042503
CREATED:20251008T203417Z
LAST-MODIFIED:20251008T203417Z
UID:10003499-1761487200-1761490800@wenatcheeoutdoors.org
SUMMARY:Wenatchee Witches & Warlocks Community Costume Paddle
DESCRIPTION:Wenatchee Row and Paddle Club Presents Wenatchees Witches and Warlocks Community Costume Paddle \nOct 26\, 2025\, 2:00 PM \nConfluence State Park Wenatchee\, 333 Olds Station Rd\, Wenatchee\, WA 98801 \nBring a costume your boat\, and some Halloween spirit!! SUPs\, kayaks\, canoes and rowing shells are all welcome! We’ll meet at the swim/boat launch area of Confluence State Park at 2:00pm and paddle down to Pybus Market. The WRPC boat trailer and a Link Transit Bus will be available at Pybus. \nFor more information and to RSVP click the link below. \nWenatchee Witches & Warlocks Community Costume Paddle – 5th Annual
URL:https://wenatcheeoutdoors.org/event/wenatchee-witches-warlocks-community-costume-paddle/
CATEGORIES:Special Events
END:VEVENT
BEGIN:VEVENT
DTSTART;TZID=America/Los_Angeles:20251027T163000
DTEND;TZID=America/Los_Angeles:20251027T173000
DTSTAMP:20260422T042503
CREATED:20250911T182141Z
LAST-MODIFIED:20251020T234356Z
UID:10003453-1761582600-1761586200@wenatcheeoutdoors.org
SUMMARY:RESCHEDULED-Trails & Treats
DESCRIPTION:Join Wenatchee Outdoors and Chelan-Douglas Land Trust for a FREE Halloween hike up Castle Rock. \nRESCHEDULED \nMeet us at the Castle Rock trailhead\, we will start at 4:30pm and make a loop along the Castle Rock Trails. Don’t forget to bring those Trick or Treat bags there will be some treats along the way! \nTrail information: We will be walking less than a mile on compacted soil. The average slope is 12% and the trail width is 18-24in. The elevation gain is about 195 feet. \nNo registration is required. This event is FREE and open to all ages. \nWhen: October 27\, 2025 \nTime: 4:30pm-5:30pm \nWhere: Castle Rock Trailhead \nNote: Costumes are encouraged but not required
URL:https://wenatcheeoutdoors.org/event/trails-treats/
LOCATION:Castlerock Trailhead\, 1963 Castlerock Ave\, Wenatchee\, 98801\, United States
CATEGORIES:Family Friendly,Special Events
ATTACH;FMTTYPE=image/jpeg:https://wenatcheeoutdoors.org/wp-content/uploads/2025/09/1-1-e1760026451631.jpg
END:VEVENT
END:VCALENDAR