BEGIN:VCALENDAR
VERSION:2.0
PRODID:-//Wenatchee Outdoors - ECPv6.15.18//NONSGML v1.0//EN
CALSCALE:GREGORIAN
METHOD:PUBLISH
X-WR-CALNAME:Wenatchee Outdoors
X-ORIGINAL-URL:https://wenatcheeoutdoors.org
X-WR-CALDESC:Events for Wenatchee Outdoors
REFRESH-INTERVAL;VALUE=DURATION:PT1H
X-Robots-Tag:noindex
X-PUBLISHED-TTL:PT1H
BEGIN:VTIMEZONE
TZID:America/Los_Angeles
BEGIN:DAYLIGHT
TZOFFSETFROM:-0800
TZOFFSETTO:-0700
TZNAME:PDT
DTSTART:20250309T100000
END:DAYLIGHT
BEGIN:STANDARD
TZOFFSETFROM:-0700
TZOFFSETTO:-0800
TZNAME:PST
DTSTART:20251102T090000
END:STANDARD
BEGIN:DAYLIGHT
TZOFFSETFROM:-0800
TZOFFSETTO:-0700
TZNAME:PDT
DTSTART:20260308T100000
END:DAYLIGHT
BEGIN:STANDARD
TZOFFSETFROM:-0700
TZOFFSETTO:-0800
TZNAME:PST
DTSTART:20261101T090000
END:STANDARD
BEGIN:DAYLIGHT
TZOFFSETFROM:-0800
TZOFFSETTO:-0700
TZNAME:PDT
DTSTART:20270314T100000
END:DAYLIGHT
BEGIN:STANDARD
TZOFFSETFROM:-0700
TZOFFSETTO:-0800
TZNAME:PST
DTSTART:20271107T090000
END:STANDARD
END:VTIMEZONE
BEGIN:VEVENT
DTSTART;VALUE=DATE:20260222
DTEND;VALUE=DATE:20260223
DTSTAMP:20260420T023553
CREATED:20251216T232846Z
LAST-MODIFIED:20251216T232939Z
UID:10003641-1771718400-1771804799@wenatcheeoutdoors.org
SUMMARY:PVST TOUR de PLAIN 2026
DESCRIPTION:Plain Valley Ski Trails Presents TOUR de PLAIN 2026\nThe Tour de Plain is our annual\, family-friendly race series that brings community together for a fun race series including 4 rave events. Each event welcomes skiers of all ages and abilities to Tour the Plain Valley Ski Trails Nordic Team’s barrier-free ski education program. Join us on the snow! \nFor more information and to register click here. \nRegister for Race #1 (Jan. 16-19)\nRegister for Race #2 (Jan. 30 – Feb. 2)\nRegister for Race #3 (Feb. 13-16)\nRegister for Race #4* (Feb. 22) *A Master’s event has been added to the Washington Nordic Cup
URL:https://wenatcheeoutdoors.org/event/pvst-tour-de-plain-2026-4/
CATEGORIES:Special Events
END:VEVENT
BEGIN:VEVENT
DTSTART;TZID=America/Los_Angeles:20260224T100000
DTEND;TZID=America/Los_Angeles:20260224T120000
DTSTAMP:20260420T023553
CREATED:20260113T233827Z
LAST-MODIFIED:20260113T234659Z
UID:10003751-1771927200-1771934400@wenatcheeoutdoors.org
SUMMARY:Women’s Escape at Mission Ridge
DESCRIPTION:Women’s Escape is your gateway to a better ski day. \nWorking in small groups with our best women coaches\, you’ll build skills\, confidence\, and flow while having a blast doing it. You could come up early for a coffee and then meet us at Ka Wham Café. We’ll take it to the snow from 10:00 am–12:00 pm\, leaving you plenty of time for afternoon laps with friends new and old. \nChoose the day you’d like to join. We encourage you to come multiple Tuesdays throughout the season to keep progressing and keep the stoke rolling. \nAfter your 5th lesson\, your next one is FREE. Bonus: Participation in our Friday Carve Club also counts toward your five. \nLift Access\nLift access not included. If you do not have a Season Pass\, please purchase the Women’s Escape All Mountain Access Day Pass ($45) for the day of your session. \nWhat to Bring / Know Before You Go \n\nPlease arrive a little early to get settled and ready to head out on time.\nDress for mountain conditions\, bring water\, and consider a snack for after your session.\nHelmets are strongly recommended.\n\nFind more information on Mission Ridge Events Page.
URL:https://wenatcheeoutdoors.org/event/womens-escape-at-mission-ridge/2026-02-24/
CATEGORIES:Special Events
END:VEVENT
BEGIN:VEVENT
DTSTART;TZID=America/Los_Angeles:20260227T100000
DTEND;TZID=America/Los_Angeles:20260227T120000
DTSTAMP:20260420T023553
CREATED:20260213T040739Z
LAST-MODIFIED:20260213T040739Z
UID:10003879-1772186400-1772193600@wenatcheeoutdoors.org
SUMMARY:WRI Winter Wander at the Hatchery
DESCRIPTION:Begin the year with new discoveries! Starting from the Leavenworth National Fish Hatchery\, join Wenatchee River Institute naturalist guides on a one-mile trail along beautiful Icicle Creek. We will learn about native wildlife and ecology along the way. What signs do we see along the trail that tell us what animals were there? How do the plants and animals survive winter? Even if this is your first time on a trail\, come along and enjoy this fun outdoor winter program! Bring your enthusiasm for the wonders of winter and nature\, and make sure to dress in warm layers. \nProvided – Gaiters and poles (snowshoes if weather/snowpack permits).\nLimit of 12 participants per group – Registration required for everyone in the party.\nDifficulty level – Beginner level\, all skill levels are welcome. Not ADA accessible due to non-plowed trails.\nMeeting location – Leavenworth National Fish Hatchery visitor center. \n\nCost – Pay What You Can: \nWe offer the Pay What You Can model in recognition that paying for education programs looks different for different people. \nThese prices are based on the costs to WRI to put on this program. If you want to attend this program\, we want you to be there. Use the below discount codes to adjust the total cost of tickets. If these costs are not realistic for you but you are still excited to attend\, please fill out our Financial Access Form. \n$25/person\nThis option may be for you if you are excited to attend this program and are able to pay the market rate so WRI can offer future programming at affordable rates\, including our free events. \n$20/person (use code 20percent)\nThis option may be for you if you are excited to support WRI\, and attending this program doesn’t put a strain on your weekly budget. This covers the break-even cost for WRI to put on this particular program. \n$15/person (use code 40percent)\nThis option may be for you if your budget is tight\, but you still really want to attend this program and support WRI. \n$10/children 5-12 years old (20% and 40% discount codes will also apply to child tickets\, making them $8 or $6).\nThis option is for any children you may be strolling with. There are 4 tickets per group for children. If you are interested in a date when the child tickets are sold out but there are still adult tickets\, please give us a call and we can check if there is extra space! \nFree/children 5 and under \nOnly 2 spaces available per stroll. Please note there are no snowshoes available for most children of this size. \nClick here for WRI Calendar\, more information and to Register. \n\n\n\nCONTACT INFO\nFern Lopez Cruz\nflopezcruz@wenatcheeriverinstitute.org\n\n509-548-0181\, ext. 5
URL:https://wenatcheeoutdoors.org/event/wri-winter-wander-at-the-hatchery/2026-02-27/
CATEGORIES:Special Events
END:VEVENT
BEGIN:VEVENT
DTSTART;TZID=America/Los_Angeles:20260228T090000
DTEND;TZID=America/Los_Angeles:20260228T160000
DTSTAMP:20260420T023553
CREATED:20260114T175900Z
LAST-MODIFIED:20260114T175900Z
UID:10003828-1772269200-1772294400@wenatcheeoutdoors.org
SUMMARY:Skookum Kooker at Mission Ridge
DESCRIPTION:The Skookum Kooker – Represent your Ridge makes its debut this season\, inviting local mountains to Ride for their Ridge. This non-banked snowboard race is all about smooth riding\, speed\, and celebrating the local snowboard community. Riders will take on a fast\, flowing course designed to test skill and control. No banks\, just turns and timing. \nWill you take home the Represent your Ridge trophy and bragging rights for the next year? \nWhat to Expect \n\nOpen to snowboarders of all ages and abilities\nTimed two-run format with categories for boys and girls\nThe fastest women’s and men’s riders earn free entry into the Bomber Banked Slalom\nMusic\, prizes\, and good vibes in the Hampton Lodge afterwards\n\nRegistration\nRegistration will go live January 18th\, and the registration fee is $35 per rider. Be sure to fill out the questionnaire to choose which mountain you will be representing. \nClick here for the event page which includes schedule\, Rider Groups\, and Running Order.
URL:https://wenatcheeoutdoors.org/event/skookum-kooker-at-mission-ridge/
CATEGORIES:Special Events
END:VEVENT
BEGIN:VEVENT
DTSTART;TZID=America/Los_Angeles:20260228T100000
DTEND;TZID=America/Los_Angeles:20260228T120000
DTSTAMP:20260420T023553
CREATED:20260213T040739Z
LAST-MODIFIED:20260213T040739Z
UID:10003880-1772272800-1772280000@wenatcheeoutdoors.org
SUMMARY:WRI Winter Wander at the Hatchery
DESCRIPTION:Begin the year with new discoveries! Starting from the Leavenworth National Fish Hatchery\, join Wenatchee River Institute naturalist guides on a one-mile trail along beautiful Icicle Creek. We will learn about native wildlife and ecology along the way. What signs do we see along the trail that tell us what animals were there? How do the plants and animals survive winter? Even if this is your first time on a trail\, come along and enjoy this fun outdoor winter program! Bring your enthusiasm for the wonders of winter and nature\, and make sure to dress in warm layers. \nProvided – Gaiters and poles (snowshoes if weather/snowpack permits).\nLimit of 12 participants per group – Registration required for everyone in the party.\nDifficulty level – Beginner level\, all skill levels are welcome. Not ADA accessible due to non-plowed trails.\nMeeting location – Leavenworth National Fish Hatchery visitor center. \n\nCost – Pay What You Can: \nWe offer the Pay What You Can model in recognition that paying for education programs looks different for different people. \nThese prices are based on the costs to WRI to put on this program. If you want to attend this program\, we want you to be there. Use the below discount codes to adjust the total cost of tickets. If these costs are not realistic for you but you are still excited to attend\, please fill out our Financial Access Form. \n$25/person\nThis option may be for you if you are excited to attend this program and are able to pay the market rate so WRI can offer future programming at affordable rates\, including our free events. \n$20/person (use code 20percent)\nThis option may be for you if you are excited to support WRI\, and attending this program doesn’t put a strain on your weekly budget. This covers the break-even cost for WRI to put on this particular program. \n$15/person (use code 40percent)\nThis option may be for you if your budget is tight\, but you still really want to attend this program and support WRI. \n$10/children 5-12 years old (20% and 40% discount codes will also apply to child tickets\, making them $8 or $6).\nThis option is for any children you may be strolling with. There are 4 tickets per group for children. If you are interested in a date when the child tickets are sold out but there are still adult tickets\, please give us a call and we can check if there is extra space! \nFree/children 5 and under \nOnly 2 spaces available per stroll. Please note there are no snowshoes available for most children of this size. \nClick here for WRI Calendar\, more information and to Register. \n\n\n\nCONTACT INFO\nFern Lopez Cruz\nflopezcruz@wenatcheeriverinstitute.org\n\n509-548-0181\, ext. 5
URL:https://wenatcheeoutdoors.org/event/wri-winter-wander-at-the-hatchery/2026-02-28/1/
CATEGORIES:Special Events
END:VEVENT
BEGIN:VEVENT
DTSTART;TZID=America/Los_Angeles:20260228T130000
DTEND;TZID=America/Los_Angeles:20260228T150000
DTSTAMP:20260420T023553
CREATED:20260213T040739Z
LAST-MODIFIED:20260213T040739Z
UID:10003881-1772283600-1772290800@wenatcheeoutdoors.org
SUMMARY:WRI Winter Wander at the Hatchery
DESCRIPTION:Begin the year with new discoveries! Starting from the Leavenworth National Fish Hatchery\, join Wenatchee River Institute naturalist guides on a one-mile trail along beautiful Icicle Creek. We will learn about native wildlife and ecology along the way. What signs do we see along the trail that tell us what animals were there? How do the plants and animals survive winter? Even if this is your first time on a trail\, come along and enjoy this fun outdoor winter program! Bring your enthusiasm for the wonders of winter and nature\, and make sure to dress in warm layers. \nProvided – Gaiters and poles (snowshoes if weather/snowpack permits).\nLimit of 12 participants per group – Registration required for everyone in the party.\nDifficulty level – Beginner level\, all skill levels are welcome. Not ADA accessible due to non-plowed trails.\nMeeting location – Leavenworth National Fish Hatchery visitor center. \n\nCost – Pay What You Can: \nWe offer the Pay What You Can model in recognition that paying for education programs looks different for different people. \nThese prices are based on the costs to WRI to put on this program. If you want to attend this program\, we want you to be there. Use the below discount codes to adjust the total cost of tickets. If these costs are not realistic for you but you are still excited to attend\, please fill out our Financial Access Form. \n$25/person\nThis option may be for you if you are excited to attend this program and are able to pay the market rate so WRI can offer future programming at affordable rates\, including our free events. \n$20/person (use code 20percent)\nThis option may be for you if you are excited to support WRI\, and attending this program doesn’t put a strain on your weekly budget. This covers the break-even cost for WRI to put on this particular program. \n$15/person (use code 40percent)\nThis option may be for you if your budget is tight\, but you still really want to attend this program and support WRI. \n$10/children 5-12 years old (20% and 40% discount codes will also apply to child tickets\, making them $8 or $6).\nThis option is for any children you may be strolling with. There are 4 tickets per group for children. If you are interested in a date when the child tickets are sold out but there are still adult tickets\, please give us a call and we can check if there is extra space! \nFree/children 5 and under \nOnly 2 spaces available per stroll. Please note there are no snowshoes available for most children of this size. \nClick here for WRI Calendar\, more information and to Register. \n\n\n\nCONTACT INFO\nFern Lopez Cruz\nflopezcruz@wenatcheeriverinstitute.org\n\n509-548-0181\, ext. 5
URL:https://wenatcheeoutdoors.org/event/wri-winter-wander-at-the-hatchery/2026-02-28/2/
CATEGORIES:Special Events
END:VEVENT
END:VCALENDAR