BEGIN:VCALENDAR
VERSION:2.0
PRODID:-//Wenatchee Outdoors - ECPv6.15.18//NONSGML v1.0//EN
CALSCALE:GREGORIAN
METHOD:PUBLISH
X-WR-CALNAME:Wenatchee Outdoors
X-ORIGINAL-URL:https://wenatcheeoutdoors.org
X-WR-CALDESC:Events for Wenatchee Outdoors
REFRESH-INTERVAL;VALUE=DURATION:PT1H
X-Robots-Tag:noindex
X-PUBLISHED-TTL:PT1H
BEGIN:VTIMEZONE
TZID:America/Los_Angeles
BEGIN:DAYLIGHT
TZOFFSETFROM:-0800
TZOFFSETTO:-0700
TZNAME:PDT
DTSTART:20250309T100000
END:DAYLIGHT
BEGIN:STANDARD
TZOFFSETFROM:-0700
TZOFFSETTO:-0800
TZNAME:PST
DTSTART:20251102T090000
END:STANDARD
BEGIN:DAYLIGHT
TZOFFSETFROM:-0800
TZOFFSETTO:-0700
TZNAME:PDT
DTSTART:20260308T100000
END:DAYLIGHT
BEGIN:STANDARD
TZOFFSETFROM:-0700
TZOFFSETTO:-0800
TZNAME:PST
DTSTART:20261101T090000
END:STANDARD
BEGIN:DAYLIGHT
TZOFFSETFROM:-0800
TZOFFSETTO:-0700
TZNAME:PDT
DTSTART:20270314T100000
END:DAYLIGHT
BEGIN:STANDARD
TZOFFSETFROM:-0700
TZOFFSETTO:-0800
TZNAME:PST
DTSTART:20271107T090000
END:STANDARD
END:VTIMEZONE
BEGIN:VEVENT
DTSTART;TZID=America/Los_Angeles:20260322T070000
DTEND;TZID=America/Los_Angeles:20260322T170000
DTSTAMP:20260419T215528
CREATED:20260114T190119Z
LAST-MODIFIED:20260114T190558Z
UID:10003834-1774162800-1774198800@wenatcheeoutdoors.org
SUMMARY:Claim The Cliffs Freeride Competition at Mission Ridge
DESCRIPTION:Claim The Cliffs Freeride Competition \nGet ready for heartpounding skiing & snowboarding action at Claim the Cliffs\, part of the IFSA Freeride Series! Young athletes from across the Northwest will flock to The Ridge to take on the imposing Bomber Cliffs. \nThe event will take place in the Bowl 5 region of the Bomber Cliffs. The Bomber Cliffs will be closed on the day of the event. Catch all the action from the viewing areas located skier’s left of the Bomber Bowl run\, below the Cliffs.\nRegistration and additional info will be available on the IFSA website. \nFull schedule with more details can be found here.
URL:https://wenatcheeoutdoors.org/event/claim-the-cliffs-freeride-competition-at-mission-ridge/2026-03-22/
CATEGORIES:Special Events
END:VEVENT
BEGIN:VEVENT
DTSTART;TZID=America/Los_Angeles:20260324T100000
DTEND;TZID=America/Los_Angeles:20260324T120000
DTSTAMP:20260419T215528
CREATED:20260113T233827Z
LAST-MODIFIED:20260113T234659Z
UID:10003755-1774346400-1774353600@wenatcheeoutdoors.org
SUMMARY:Women’s Escape at Mission Ridge
DESCRIPTION:Women’s Escape is your gateway to a better ski day. \nWorking in small groups with our best women coaches\, you’ll build skills\, confidence\, and flow while having a blast doing it. You could come up early for a coffee and then meet us at Ka Wham Café. We’ll take it to the snow from 10:00 am–12:00 pm\, leaving you plenty of time for afternoon laps with friends new and old. \nChoose the day you’d like to join. We encourage you to come multiple Tuesdays throughout the season to keep progressing and keep the stoke rolling. \nAfter your 5th lesson\, your next one is FREE. Bonus: Participation in our Friday Carve Club also counts toward your five. \nLift Access\nLift access not included. If you do not have a Season Pass\, please purchase the Women’s Escape All Mountain Access Day Pass ($45) for the day of your session. \nWhat to Bring / Know Before You Go \n\nPlease arrive a little early to get settled and ready to head out on time.\nDress for mountain conditions\, bring water\, and consider a snack for after your session.\nHelmets are strongly recommended.\n\nFind more information on Mission Ridge Events Page.
URL:https://wenatcheeoutdoors.org/event/womens-escape-at-mission-ridge/2026-03-24/
CATEGORIES:Special Events
END:VEVENT
BEGIN:VEVENT
DTSTART;TZID=America/Los_Angeles:20260324T190000
DTEND;TZID=America/Los_Angeles:20260324T200000
DTSTAMP:20260419T215528
CREATED:20260208T020257Z
LAST-MODIFIED:20260208T020257Z
UID:10003863-1774378800-1774382400@wenatcheeoutdoors.org
SUMMARY:WRI Red Barn Event- Enchantments: What Comes Next?
DESCRIPTION:Livestream the event or watch it later on YouTube at this link. \nNo registration required\, but RSVP to receive email reminders and updates about this event! \nDoors open at 6:30pm for a community social with beer and wine available for purchase. The presentation will start at 7:00pm. \nAfter a summer of overcrowding and understaffing in The Enchantments\, the issue of day use management has reached an inflection point. Will this offseason present an opportunity to make changes along the Icicle Creek corridor\, and if so\, what will they entail? Hear from Seattle Times outdoors reporter Gregory Scruggs\, who covered the issue closely this summer and traveled to Colorado to learn how another mountain town grappled with a similar challenge\, along with Mat Lyons\, Executive Director of TREAD\, who has been working with Chelan County stakeholders on a proposal for alternative transportation options to Enchantments trailheads\, and Sarah Shaffer\, Executive Director of Wenatchee Outdoors\, who will share insights on the on-the-ground work with over 40 volunteers in partnership with the U.S. Forest Service\, packing out pounds of trash from the Enchantments Wilderness area. \nAbout the presenters:\nGregory Scruggs (he/him) is the outdoors reporter at The Seattle Times\, where he writes about the intersection of recreation\, land management and the outdoor industry in Washington. His coverage takes him deep into the Cascades and out on the Salish Sea. In 2022\, he won the President’s Award in the newspaper category from the Outdoor Writers Association of America. \nMat Lyons (he/him) is the Executive Director of TREAD\, a nonprofit that collaborate with all partners to drive sustainable outdoor recreation initiatives in North Central Washington. \nSarah Shaffer (she/her) is the Executive Director of Wenatchee Outdoors\, a nonprofit focused on engaging volunteers and the community in stewardship and recreation in North Central Washington. \nClick here for more information and to RSVP \n\n\n\n\n\nCONTACT INFO\nVirginia Shoup\nvshoup@wenatcheeriverinstitute.org\n509-548-0181\, ext 5
URL:https://wenatcheeoutdoors.org/event/wri-red-barn-event-enchantments-what-comes-next/
CATEGORIES:Special Events
ORGANIZER;CN="Adam Vognild":MAILTO:encompassfitnesscoach@gmail.com
END:VEVENT
BEGIN:VEVENT
DTSTART;TZID=America/Los_Angeles:20260326T153000
DTEND;TZID=America/Los_Angeles:20260326T163000
DTSTAMP:20260419T215528
CREATED:20260309T204146Z
LAST-MODIFIED:20260325T202230Z
UID:10003901-1774539000-1774542600@wenatcheeoutdoors.org
SUMMARY:WenOut Kids Thursday's
DESCRIPTION:  \n \nWenatchee Outdoors is looking forward to offering kids outings this spring each Thursday. Activities will include hiking\, biking\, birding\, story time\, and more. Details and locations will vary each week. Dates include: March 26\, April 2\, 9\, 16\, 23\, 30\, May 7\, 14\, 21\, 28. \nDue to changing spring weather conditions\, event details may change. Please be sure to check our website for the most up-to-date information\, updates\, or cancellations before attending. \nTime: 3:30pm \nLocation: Horan Natural Area \nDetails: Join us for a bird watching walk through Horan Natural Area. We will look for different birds throughout the walk\, and hopefully see the eagles nest! We will start at Confluence Park\, walk to the end of Horan Natural Area and back. This should be about a 2 mile mostly flat walk. Bikes are not allowed in Horan\, strollers are ok. \n*Children must be accompanied by an adult* \n 
URL:https://wenatcheeoutdoors.org/event/wenout-kids-thursdays-2/
CATEGORIES:Beginners Welcome,Family Friendly,Member Outings,Special Events
ORGANIZER;CN="Alli Scheumann":MAILTO:alli@wenatcheeoutdoors.org
END:VEVENT
BEGIN:VEVENT
DTSTART;TZID=America/Los_Angeles:20260328T080000
DTEND;TZID=America/Los_Angeles:20260328T170000
DTSTAMP:20260419T215528
CREATED:20260114T191759Z
LAST-MODIFIED:20260114T191759Z
UID:10003835-1774684800-1774717200@wenatcheeoutdoors.org
SUMMARY:Bomber Banked Slalom at Mission Ridge
DESCRIPTION:Bomber Banked Slalom \nThe 13th Annual Bomber Banked Slalom returns March 28th – 29th. This surfy slalom course built by the Mission Ridge Parks Department rests on Katsuk at the summit off of Chair 2. The Bomber Baked Slalom offers 14 different categories competitors will compete in based on age\, and complete one run per day. Open to 250 snowboarders\, you won’t want to miss this community-driven event. \nRegistration \nRegistration emails for legacy riders will be sent at 9:00AM on March 2nd\, 2026 \nRegistration for new riders will go live at 9:00AM on March 7th\, 2026 \nPricing \nRiders 17 & under – $40 \nRiders 18 & up – $65 \nCheck-In Details \nWe will be hosting an early check-in on Friday\, March 27th\, at Timberline Brewing from 5:30PM – 7:30PM. Check-in early for a seamless Saturday morning and catch up with old friends! \nSaturday\, March 28th\, check-in will be in the Hampton Lodge between 7:30AM and 8:30AM. There will be no option to check-in after this time. \nReminders \nBook your RV spot early to secure your spot! \nFor questions or interest in volunteering during the course build reach out to events@missionridge.com. \nWant to become a sponsors?! Fill out this form and we will be in touch!
URL:https://wenatcheeoutdoors.org/event/bomber-banked-slalom-at-mission-ridge/2026-03-28/
CATEGORIES:Special Events
END:VEVENT
END:VCALENDAR