BEGIN:VCALENDAR
VERSION:2.0
PRODID:-//Wenatchee Outdoors - ECPv6.15.18//NONSGML v1.0//EN
CALSCALE:GREGORIAN
METHOD:PUBLISH
X-ORIGINAL-URL:https://wenatcheeoutdoors.org
X-WR-CALDESC:Events for Wenatchee Outdoors
REFRESH-INTERVAL;VALUE=DURATION:PT1H
X-Robots-Tag:noindex
X-PUBLISHED-TTL:PT1H
BEGIN:VTIMEZONE
TZID:America/Los_Angeles
BEGIN:DAYLIGHT
TZOFFSETFROM:-0800
TZOFFSETTO:-0700
TZNAME:PDT
DTSTART:20250309T100000
END:DAYLIGHT
BEGIN:STANDARD
TZOFFSETFROM:-0700
TZOFFSETTO:-0800
TZNAME:PST
DTSTART:20251102T090000
END:STANDARD
BEGIN:DAYLIGHT
TZOFFSETFROM:-0800
TZOFFSETTO:-0700
TZNAME:PDT
DTSTART:20260308T100000
END:DAYLIGHT
BEGIN:STANDARD
TZOFFSETFROM:-0700
TZOFFSETTO:-0800
TZNAME:PST
DTSTART:20261101T090000
END:STANDARD
BEGIN:DAYLIGHT
TZOFFSETFROM:-0800
TZOFFSETTO:-0700
TZNAME:PDT
DTSTART:20270314T100000
END:DAYLIGHT
BEGIN:STANDARD
TZOFFSETFROM:-0700
TZOFFSETTO:-0800
TZNAME:PST
DTSTART:20271107T090000
END:STANDARD
END:VTIMEZONE
BEGIN:VEVENT
DTSTART;TZID=America/Los_Angeles:20260329T080000
DTEND;TZID=America/Los_Angeles:20260329T170000
DTSTAMP:20260419T162052
CREATED:20260114T191759Z
LAST-MODIFIED:20260114T191759Z
UID:10003836-1774771200-1774803600@wenatcheeoutdoors.org
SUMMARY:Bomber Banked Slalom at Mission Ridge
DESCRIPTION:Bomber Banked Slalom \nThe 13th Annual Bomber Banked Slalom returns March 28th – 29th. This surfy slalom course built by the Mission Ridge Parks Department rests on Katsuk at the summit off of Chair 2. The Bomber Baked Slalom offers 14 different categories competitors will compete in based on age\, and complete one run per day. Open to 250 snowboarders\, you won’t want to miss this community-driven event. \nRegistration \nRegistration emails for legacy riders will be sent at 9:00AM on March 2nd\, 2026 \nRegistration for new riders will go live at 9:00AM on March 7th\, 2026 \nPricing \nRiders 17 & under – $40 \nRiders 18 & up – $65 \nCheck-In Details \nWe will be hosting an early check-in on Friday\, March 27th\, at Timberline Brewing from 5:30PM – 7:30PM. Check-in early for a seamless Saturday morning and catch up with old friends! \nSaturday\, March 28th\, check-in will be in the Hampton Lodge between 7:30AM and 8:30AM. There will be no option to check-in after this time. \nReminders \nBook your RV spot early to secure your spot! \nFor questions or interest in volunteering during the course build reach out to events@missionridge.com. \nWant to become a sponsors?! Fill out this form and we will be in touch!
URL:https://wenatcheeoutdoors.org/event/bomber-banked-slalom-at-mission-ridge/2026-03-29/
CATEGORIES:Special Events
END:VEVENT
BEGIN:VEVENT
DTSTART;TZID=America/Los_Angeles:20260331T100000
DTEND;TZID=America/Los_Angeles:20260331T120000
DTSTAMP:20260419T162052
CREATED:20260113T233827Z
LAST-MODIFIED:20260113T234659Z
UID:10003756-1774951200-1774958400@wenatcheeoutdoors.org
SUMMARY:Women’s Escape at Mission Ridge
DESCRIPTION:Women’s Escape is your gateway to a better ski day. \nWorking in small groups with our best women coaches\, you’ll build skills\, confidence\, and flow while having a blast doing it. You could come up early for a coffee and then meet us at Ka Wham Café. We’ll take it to the snow from 10:00 am–12:00 pm\, leaving you plenty of time for afternoon laps with friends new and old. \nChoose the day you’d like to join. We encourage you to come multiple Tuesdays throughout the season to keep progressing and keep the stoke rolling. \nAfter your 5th lesson\, your next one is FREE. Bonus: Participation in our Friday Carve Club also counts toward your five. \nLift Access\nLift access not included. If you do not have a Season Pass\, please purchase the Women’s Escape All Mountain Access Day Pass ($45) for the day of your session. \nWhat to Bring / Know Before You Go \n\nPlease arrive a little early to get settled and ready to head out on time.\nDress for mountain conditions\, bring water\, and consider a snack for after your session.\nHelmets are strongly recommended.\n\nFind more information on Mission Ridge Events Page.
URL:https://wenatcheeoutdoors.org/event/womens-escape-at-mission-ridge/2026-03-31/
CATEGORIES:Special Events
END:VEVENT
BEGIN:VEVENT
DTSTART;TZID=America/Los_Angeles:20260401T190000
DTEND;TZID=America/Los_Angeles:20260401T200000
DTSTAMP:20260419T162052
CREATED:20260306T173018Z
LAST-MODIFIED:20260306T173138Z
UID:10003898-1775070000-1775073600@wenatcheeoutdoors.org
SUMMARY:WRI Red Barn Event: Shifting Currents of the Alsek River
DESCRIPTION:HYBRID EVENT: WRI’s Red Barn 347 Division Street\, Leavenworth\, WA 98826 or livestream via our YouTube \nShifting Currents: Paddling the Past and Future of the Alsek River \nLivestream the event or watch it later on YouTube at this link. \nNo registration required\, but RSVP to receive email reminders and updates about this event! \nDoors to the Red Barn open at 6:30pm for a community social with beer and wine available for purchase. The presentation will start at 7:00pm. \nAbout the presentation:\nJoin local packrafting enthusiast Jon Strahl for a slideshow presentation and discussion on exploration\, climate change\, and glaciers. The Alsek is a free flowing river the size of the Columbia that cuts through two 16\,000’ tall mountain ranges\, and runs through three major protected areas: Kluane National Park and Reserve in the Yukon\, Tatshenshini-Alsek Provincial Park in British Columbia\, and Glacier Bay National Park and Preserve in Alaska. These parks form part of the largest contiguous protected wilderness area in the world. Over numerous trips down different parts of the river\, Jon has witnessed the changing landscape. \nMany locals and visitors in the Wenatchee Valley are drawn by adventure and connection to landscape — whether that’s through packrafting\, kayaking\, climbing\, or simply appreciating mountains and rivers. \nThis slideshow and these stories can resonate with this shared spirit of exploration: \n\nHighlighting parallels between remote river travel and local outdoor adventures.\nSparking curiosity and pride in local landscape storytelling.\nInspiring people to reflect on why wild places matter — whether it’s the Alsek or the Wenatchee River right in our backyard.\n\nAbout Jon\nJon Strahl is a Wenatchee Valley–based adventurer\, river traveler\, and packraft instructor with a deep passion for wild places and human-powered exploration. His recent journey down the Alsek River—a glacially fed wilderness river flowing from the Yukon to the Pacific—sparked reflections on resilience\, climate\, and the power of moving through landscapes at river pace. Since 2022\, Jon has served as a co-instructor alongside Luc Mehl on expedition-style packrafting courses and also instructs with Basecamp Cascadia\, helping others build technical skills\, sound judgment\, and confidence in backcountry environments. Through vivid storytelling and photography\, Jon connects big wilderness experiences to the rivers and mountains we call home\, inviting our community to think deeper about adventure\, stewardship\, and why wild rivers matter. \nClick Here for Event Link and to RSVP
URL:https://wenatcheeoutdoors.org/event/wri-red-barn-event-shifting-currents-of-the-alsek-river/
CATEGORIES:Special Events
END:VEVENT
BEGIN:VEVENT
DTSTART;TZID=America/Los_Angeles:20260402T153000
DTEND;TZID=America/Los_Angeles:20260402T163000
DTSTAMP:20260419T162052
CREATED:20260309T204642Z
LAST-MODIFIED:20260401T212113Z
UID:10003902-1775143800-1775147400@wenatcheeoutdoors.org
SUMMARY:WenOut Kids Thursday's
DESCRIPTION:  \nDue to changing spring weather conditions\, event details may change. Please be sure to check our website and social media channels for the most up-to-date information\, updates\, or cancellations before attending. \nTime: 3:30 \nLocation: Kenzie Landing \nGuest: Virginia Shoup from Wenatchee River Institute \nDetails: We will hike the Kenzie’s Landing trail up to the three-trail saddle and back down. This will be approximately a 1-1.5 mile hike\, 400ft of elevation gain. Virginia Shoup from Wenatchee River Institute will lead a discussion following the hike on the picnic table by the trailhead. \n*Children must be accompanied by an adult*
URL:https://wenatcheeoutdoors.org/event/wenout-kids-thursdays-3/
CATEGORIES:Beginners Welcome,Family Friendly,Member Outings,Special Events
ORGANIZER;CN="Alli Scheumann":MAILTO:alli@wenatcheeoutdoors.org
END:VEVENT
BEGIN:VEVENT
DTSTART;TZID=America/Los_Angeles:20260402T170000
DTEND;TZID=America/Los_Angeles:20260402T190000
DTSTAMP:20260419T162052
CREATED:20260320T224505Z
LAST-MODIFIED:20260320T224505Z
UID:10003915-1775149200-1775156400@wenatcheeoutdoors.org
SUMMARY:WTA Hiker Happy Hour
DESCRIPTION:Join Washington Trails Association staff and volunteers for a night of talking trails with fellow hikers and people who love the outdoors. We’ll provide updates about what’s coming up for trails in central Washington and will share more about the ways you can get involved. \nTickets cost $25 and you’ll receive a complimentary drink ticket\, heavy appetizers and a one year membership to WTA. \nA WTA membership gets you a subscription to Washington Trails magazine\, a member decal (for first-time members)\, invites to member-only events and the knowledge that you’re helping improve access to trails across Washington. \nClick Here for Event link and to purchase tickets
URL:https://wenatcheeoutdoors.org/event/wta-hiker-happy-hour/
CATEGORIES:Special Events
END:VEVENT
BEGIN:VEVENT
DTSTART;TZID=America/Los_Angeles:20260404T100000
DTEND;TZID=America/Los_Angeles:20260404T120000
DTSTAMP:20260419T162052
CREATED:20260113T232048Z
LAST-MODIFIED:20260113T232431Z
UID:10003745-1775296800-1775304000@wenatcheeoutdoors.org
SUMMARY:CDLT Pets & People Outdoors
DESCRIPTION:Chelan-Douglas Land Trust (CDLT) and the Wenatchee Valley Humane Society (WVHS) are hosting the 3rd Annual Pets & People Outdoors. This event aims to build community by creating opportunities for people and their pets to come together and experience the beauty of the Chelan-Douglas Land Trust’s protected trails. \nJoin us for a fun event at Jacobson on April 4\, 2026\, from 10:00am-12:00pm. NO REGISTRATION REQUIRED. \nWe will have a marked walking route\, FREE food\, training stations\, veterinarians\, and vendor booths. \nDonations are welcome. Your donation will help take care of our local trails! \nClick Here for more details. \nQuestions? Contact Ayla\, Community Inclusion Coordinator\, at ayla@cdlandtrust.org or 509-667-9708.
URL:https://wenatcheeoutdoors.org/event/cdlt-pets-people-outdoors/
CATEGORIES:Special Events
END:VEVENT
BEGIN:VEVENT
DTSTART;TZID=America/Los_Angeles:20260404T160000
DTEND;TZID=America/Los_Angeles:20260404T180000
DTSTAMP:20260419T162052
CREATED:20260114T192519Z
LAST-MODIFIED:20260114T192643Z
UID:10003837-1775318400-1775325600@wenatcheeoutdoors.org
SUMMARY:Dummy Downhill at Mission Ridge
DESCRIPTION:Dummy Downhill \nCelebrate the start of April with laughs\, creativity\, and more than a little chaos at Dummy Downhill\, Mission Ridge’s most popular event! This beloved tradition invites participants to design their own homemade “dummies” to race down the hill and off a massive jump. The more outrageous\, the better. Awards will be given out in multiple categories with some sweet prizes on the line. \nFull schedule with details\, rules\, registration\, and prizes coming soon Here.
URL:https://wenatcheeoutdoors.org/event/dummy-downhill-at-mission-ridge-2/
CATEGORIES:Special Events
ORGANIZER;CN="Adam Vognild":MAILTO:encompassfitnesscoach@gmail.com
END:VEVENT
END:VCALENDAR