BEGIN:VCALENDAR
VERSION:2.0
PRODID:-//Wenatchee Outdoors - ECPv6.15.18//NONSGML v1.0//EN
CALSCALE:GREGORIAN
METHOD:PUBLISH
X-ORIGINAL-URL:https://wenatcheeoutdoors.org
X-WR-CALDESC:Events for Wenatchee Outdoors
REFRESH-INTERVAL;VALUE=DURATION:PT1H
X-Robots-Tag:noindex
X-PUBLISHED-TTL:PT1H
BEGIN:VTIMEZONE
TZID:America/Los_Angeles
BEGIN:DAYLIGHT
TZOFFSETFROM:-0800
TZOFFSETTO:-0700
TZNAME:PDT
DTSTART:20250309T100000
END:DAYLIGHT
BEGIN:STANDARD
TZOFFSETFROM:-0700
TZOFFSETTO:-0800
TZNAME:PST
DTSTART:20251102T090000
END:STANDARD
BEGIN:DAYLIGHT
TZOFFSETFROM:-0800
TZOFFSETTO:-0700
TZNAME:PDT
DTSTART:20260308T100000
END:DAYLIGHT
BEGIN:STANDARD
TZOFFSETFROM:-0700
TZOFFSETTO:-0800
TZNAME:PST
DTSTART:20261101T090000
END:STANDARD
BEGIN:DAYLIGHT
TZOFFSETFROM:-0800
TZOFFSETTO:-0700
TZNAME:PDT
DTSTART:20270314T100000
END:DAYLIGHT
BEGIN:STANDARD
TZOFFSETFROM:-0700
TZOFFSETTO:-0800
TZNAME:PST
DTSTART:20271107T090000
END:STANDARD
END:VTIMEZONE
BEGIN:VEVENT
DTSTART;TZID=America/Los_Angeles:20260414T100000
DTEND;TZID=America/Los_Angeles:20260414T120000
DTSTAMP:20260419T124236
CREATED:20260113T233827Z
LAST-MODIFIED:20260113T234659Z
UID:10003758-1776160800-1776168000@wenatcheeoutdoors.org
SUMMARY:Women’s Escape at Mission Ridge
DESCRIPTION:Women’s Escape is your gateway to a better ski day. \nWorking in small groups with our best women coaches\, you’ll build skills\, confidence\, and flow while having a blast doing it. You could come up early for a coffee and then meet us at Ka Wham Café. We’ll take it to the snow from 10:00 am–12:00 pm\, leaving you plenty of time for afternoon laps with friends new and old. \nChoose the day you’d like to join. We encourage you to come multiple Tuesdays throughout the season to keep progressing and keep the stoke rolling. \nAfter your 5th lesson\, your next one is FREE. Bonus: Participation in our Friday Carve Club also counts toward your five. \nLift Access\nLift access not included. If you do not have a Season Pass\, please purchase the Women’s Escape All Mountain Access Day Pass ($45) for the day of your session. \nWhat to Bring / Know Before You Go \n\nPlease arrive a little early to get settled and ready to head out on time.\nDress for mountain conditions\, bring water\, and consider a snack for after your session.\nHelmets are strongly recommended.\n\nFind more information on Mission Ridge Events Page.
URL:https://wenatcheeoutdoors.org/event/womens-escape-at-mission-ridge/2026-04-14/
CATEGORIES:Special Events
END:VEVENT
BEGIN:VEVENT
DTSTART;TZID=America/Los_Angeles:20260415T170000
DTEND;TZID=America/Los_Angeles:20260415T190000
DTSTAMP:20260419T124236
CREATED:20260414T164929Z
LAST-MODIFIED:20260415T211935Z
UID:10003916-1776272400-1776279600@wenatcheeoutdoors.org
SUMMARY:Trail Tales at Icicle Brewing
DESCRIPTION:We are thrilled to announce a fresh partnership with Icicle Brewing to help keep our local trails thriving! Throughout the months of April\, May\, and June\, our “wild backyard” gets a little extra love with every pour. For every pint of Enchantments beer purchased at the brewery\, Icicle Brewing will donate $1 directly to Wenatchee Outdoors. It is a fantastic way to enjoy a local favorite while contributing to the community resources\, maps\, and advocacy that keep us all moving through the beautiful terrain of North Central Washington. \nTo kick off this collaboration\, we invite you to join us this Wednesday for “Trail Tales\,” an open-mic storytelling night dedicated to our shared outdoor adventures. Whether you have a legendary story of being humbled by the Enchantments\, a hilarious account of a gear failure\, or a memory of a perfect morning in the North Cascades\, we want to hear from you. This is your chance to grab the mic for a five-minute highlight\, share a drink with fellow hikers and bikers\, and vote for your favorite story of the night. (Storytelling encouraged yet optional) \nThis gathering is about more than just swapping post-run reports; it’s about turning our collective experiences into “trail magic” for WenOut. Every dollar raised during the evening goes right back into supporting the trails you love. Come ready to toast to the upcoming season\, connect with the outdoor community\, and share the stories that make our region so special. \nWe hope to see you there!
URL:https://wenatcheeoutdoors.org/event/trail-tales-at-icicle-brewing/
LOCATION:Icicle Brewing Company\, 935 Front Street\, Leavenworth\, 98826\, United States
CATEGORIES:Member Outings,Special Events
ORGANIZER;CN="Angela Crampton":MAILTO:angela@wenatcheeoutdoors.org
END:VEVENT
BEGIN:VEVENT
DTSTART;TZID=America/Los_Angeles:20260416T153000
DTEND;TZID=America/Los_Angeles:20260416T163000
DTSTAMP:20260419T124236
CREATED:20260318T171237Z
LAST-MODIFIED:20260401T212434Z
UID:10003904-1776353400-1776357000@wenatcheeoutdoors.org
SUMMARY:WenOut Kids Thursday's
DESCRIPTION:  \n \nDue to changing spring weather conditions\, event details may change. Please be sure to check our website and social media channels for the most up-to-date information\, updates\, or cancellations before attending. \nDate: 4/16/2026 \nTime: 3:30 \nLocation: Rocky Reach Dam\, 5000 State Hwy 97A\, Wenatchee\, WA 98801 \n**We will meet at the lower park shelter area** \nGuest: Kristin Lodge from Rocky Reach Discovery Center \nDetails: We will have representatives from the Rocky Reach Dam helping us learn about salmon for our nature and conservation inspired learning! This will take place in the lower sheltered area at the Rocky Reach Discovery Center. Kids can play on the playground following the salmon activities or explore around the Discovery Center. \n*Children must be accompanied by an adult*
URL:https://wenatcheeoutdoors.org/event/wenout-kids-thursdays-5/
CATEGORIES:Beginners Welcome,Family Friendly,Member Outings,Special Events
ORGANIZER;CN="Alli Scheumann":MAILTO:alli@wenatcheeoutdoors.org
END:VEVENT
BEGIN:VEVENT
DTSTART;TZID=America/Los_Angeles:20260418T090000
DTEND;TZID=America/Los_Angeles:20260418T140000
DTSTAMP:20260419T124236
CREATED:20260305T213457Z
LAST-MODIFIED:20260305T213904Z
UID:10003896-1776502800-1776520800@wenatcheeoutdoors.org
SUMMARY:American Red Cross- Wildfire Preparedness Community Event
DESCRIPTION:  \n \nThe American Red Cross is hosting a Wildfire Preparedness Community Event in Wenatchee on Saturday\, April 18 from 9:00 AM to 2:00 PM\, and we’re looking for volunteers to help us share simple\, actionable preparedness information with nearby households. \nWildfire season moves fast — and preparation saves lives. \nVolunteers will: \n\nShare basic wildfire safety tips door‑to‑door\nHelp residents sign up for local emergency alerts\nProvide evacuation and defensible space information\nReceive all needed training (about 2 hours)\n\nThis is a light‑lift\, high‑impact way for outdoor‑minded community members to support their neighbors before wildfire season. It could be a great fit for Wenatchee Outdoors members\, volunteers\, outing leaders\, or anyone who enjoys supporting safe outdoor living in the valley. \nI’ve attached a flyer with full details. If it feels like a good fit\, we’d be grateful if you could share it in your newsletter\, on social\, or with any groups who might be interested. \nIf anyone has questions or wants to sign up\, they can email us at\nNW.Preparedness@redcross.org
URL:https://wenatcheeoutdoors.org/event/american-red-cross-wildfire-preparedness-community-event/
CATEGORIES:Special Events
END:VEVENT
END:VCALENDAR