BEGIN:VCALENDAR
VERSION:2.0
PRODID:-//Wenatchee Outdoors - ECPv6.15.18//NONSGML v1.0//EN
CALSCALE:GREGORIAN
METHOD:PUBLISH
X-WR-CALNAME:Wenatchee Outdoors
X-ORIGINAL-URL:https://wenatcheeoutdoors.org
X-WR-CALDESC:Events for Wenatchee Outdoors
REFRESH-INTERVAL;VALUE=DURATION:PT1H
X-Robots-Tag:noindex
X-PUBLISHED-TTL:PT1H
BEGIN:VTIMEZONE
TZID:America/Los_Angeles
BEGIN:DAYLIGHT
TZOFFSETFROM:-0800
TZOFFSETTO:-0700
TZNAME:PDT
DTSTART:20250309T100000
END:DAYLIGHT
BEGIN:STANDARD
TZOFFSETFROM:-0700
TZOFFSETTO:-0800
TZNAME:PST
DTSTART:20251102T090000
END:STANDARD
BEGIN:DAYLIGHT
TZOFFSETFROM:-0800
TZOFFSETTO:-0700
TZNAME:PDT
DTSTART:20260308T100000
END:DAYLIGHT
BEGIN:STANDARD
TZOFFSETFROM:-0700
TZOFFSETTO:-0800
TZNAME:PST
DTSTART:20261101T090000
END:STANDARD
BEGIN:DAYLIGHT
TZOFFSETFROM:-0800
TZOFFSETTO:-0700
TZNAME:PDT
DTSTART:20270314T100000
END:DAYLIGHT
BEGIN:STANDARD
TZOFFSETFROM:-0700
TZOFFSETTO:-0800
TZNAME:PST
DTSTART:20271107T090000
END:STANDARD
END:VTIMEZONE
BEGIN:VEVENT
DTSTART;TZID=America/Los_Angeles:20260512T100000
DTEND;TZID=America/Los_Angeles:20260512T120000
DTSTAMP:20260419T162725
CREATED:20260113T233827Z
LAST-MODIFIED:20260113T234659Z
UID:10003762-1778580000-1778587200@wenatcheeoutdoors.org
SUMMARY:Women’s Escape at Mission Ridge
DESCRIPTION:Women’s Escape is your gateway to a better ski day. \nWorking in small groups with our best women coaches\, you’ll build skills\, confidence\, and flow while having a blast doing it. You could come up early for a coffee and then meet us at Ka Wham Café. We’ll take it to the snow from 10:00 am–12:00 pm\, leaving you plenty of time for afternoon laps with friends new and old. \nChoose the day you’d like to join. We encourage you to come multiple Tuesdays throughout the season to keep progressing and keep the stoke rolling. \nAfter your 5th lesson\, your next one is FREE. Bonus: Participation in our Friday Carve Club also counts toward your five. \nLift Access\nLift access not included. If you do not have a Season Pass\, please purchase the Women’s Escape All Mountain Access Day Pass ($45) for the day of your session. \nWhat to Bring / Know Before You Go \n\nPlease arrive a little early to get settled and ready to head out on time.\nDress for mountain conditions\, bring water\, and consider a snack for after your session.\nHelmets are strongly recommended.\n\nFind more information on Mission Ridge Events Page.
URL:https://wenatcheeoutdoors.org/event/womens-escape-at-mission-ridge/2026-05-12/
CATEGORIES:Special Events
END:VEVENT
BEGIN:VEVENT
DTSTART;VALUE=DATE:20260514
DTEND;VALUE=DATE:20260518
DTSTAMP:20260419T162725
CREATED:20260208T025228Z
LAST-MODIFIED:20260208T025228Z
UID:10003865-1778716800-1779062399@wenatcheeoutdoors.org
SUMMARY:WRI 24th annual Leavenworth Spring Bird Fest
DESCRIPTION:The Leavenworth Spring Bird Fest\, put on by the Wenatchee River Institute and North Central Washington Audubon Society\, occurs every 3rd weekend in May. The annual Leavenworth Spring Bird Fest promotes conservation through educational and recreational activities about birds\, wildlife\, and their environments. \nCome bird with us\, discovering the natural beauty and wonders of North Central Washington! Celebrate the return of migratory birds in the midst of peak wildflower season. Enjoy the excitement of birding field trips and workshops. Take part in speaker events\, music\, visual arts\, picnics\, and activities for all ages and abilities. All of this is happening in beautiful Leavenworth\, WA and throughout the Wenatchee River Valley. Bird Fest happens in association with World Migratory Bird Day. Bird Fest contributes a list of all birds seen during the festival to eBird\, the world’s largest biodiversity-related community science project. \nFor all current Bird Fest info\, click the link below. \nClick here for more information \n\n\n\n\n\nCONTACT INFO\nprograms@wenatcheeriverinstitute.org\n509-548-0181
URL:https://wenatcheeoutdoors.org/event/wri-24th-annual-leavenworth-spring-bird-fest/
CATEGORIES:Special Events
END:VEVENT
BEGIN:VEVENT
DTSTART;TZID=America/Los_Angeles:20260514T153000
DTEND;TZID=America/Los_Angeles:20260514T163000
DTSTAMP:20260419T162725
CREATED:20260318T183211Z
LAST-MODIFIED:20260401T212923Z
UID:10003908-1778772600-1778776200@wenatcheeoutdoors.org
SUMMARY:WenOut Kids Thursday's
DESCRIPTION:Due to changing spring weather conditions\, event details may change. Please be sure to check our website and social media channels for the most up-to-date information\, updates\, or cancellations before attending. \nDate: 5/14/2026 \nTime: 3:30 \nLocation: Squilchuck State Park\, 2805 Mission Ridge Road\, Wenatchee \nGuest: Thom Schroeder\, Wenatchee Outdoors President \nDetails: Come ride the pump track at Squilchuck State Park! BYOB- bring your own bike. Discover Pass required to park at Squilchuck! \n*Children must be accompanied by an adult*
URL:https://wenatcheeoutdoors.org/event/wenout-kids-thursdays-9/
LOCATION:Squilchuck State Park\, 2805 Mission Ridge Road\, Wenatchee\, 98801\, United States
CATEGORIES:Beginners Welcome,Family Friendly,Member Outings,Special Events
ORGANIZER;CN="Alli Scheumann":MAILTO:alli@wenatcheeoutdoors.org
END:VEVENT
BEGIN:VEVENT
DTSTART;TZID=America/Los_Angeles:20260516T100000
DTEND;TZID=America/Los_Angeles:20260516T150000
DTSTAMP:20260419T162725
CREATED:20260208T030905Z
LAST-MODIFIED:20260208T030905Z
UID:10003867-1778925600-1778943600@wenatcheeoutdoors.org
SUMMARY:WRI Bird Fest Community Fair
DESCRIPTION:Join Us for the Annual Bird Fest Community Fair! \nA highlight of the festival season is back! We invite you to the Bird Fest Community Fair—a gathering for families\, youth\, and adults to celebrate birds\, wildlife\, and the beautiful Wenatchee Valley. \nContinuing our tradition of an extended schedule\, the fair remains open later into the afternoon so you can head over straight from your morning birding field trips. Enjoy a full afternoon of art and nature activities\, guided walks\, and live music from local musicians. With a wide variety of artists and vendors on-site\, there is truly something for everyone to enjoy. \nAre you interested in being a vendor? Please contact Angela Crampton at acrampton@wenatcheeriverinstitute.org. \nFor more information click here \n\n\n\n\n\nCONTACT INFO\nAngela Crampton\nacrampton@wenatcheeriverinstitute.org\n509-548-0181 ext. 7
URL:https://wenatcheeoutdoors.org/event/wri-bird-fest-community-fair/
CATEGORIES:Special Events
END:VEVENT
BEGIN:VEVENT
DTSTART;TZID=America/Los_Angeles:20260516T170000
DTEND;TZID=America/Los_Angeles:20260516T183000
DTSTAMP:20260419T162725
CREATED:20260208T025629Z
LAST-MODIFIED:20260212T200733Z
UID:10003866-1778950800-1778956200@wenatcheeoutdoors.org
SUMMARY:WRI Birders' BBQ
DESCRIPTION:Come join us to celebrate Bird Fest and enjoy a dinner! Socialize with your fellow birders before the Keynote Address begins. \n*Please RSVP for this event no later than May 9th* \nLocation: Wenatchee River Institute\, 347 Division St\, Leavenworth\, WA 98826 \nDinner will be provided by Ravenous Catering. Menu coming soon. \nYour ticket includes an entree which must be selected on registration\, sides\, and 1 free drink. Beer from Icicle Brewing Company and wine will be available for purchase. \nThe BBQ will take place outside on the lawn at Wenatchee River Institute. Register by May 9th to reserve your ticket. Buy your BBQ ticket and find all other Bird Fest trip registrations in mid-March. \nCome back to this page for a full menu once it becomes available. \nClick here for more information and to Register.
URL:https://wenatcheeoutdoors.org/event/wri-birders-bbq/
CATEGORIES:Special Events
END:VEVENT
END:VCALENDAR