BEGIN:VCALENDAR
VERSION:2.0
PRODID:-//Wenatchee Outdoors - ECPv6.15.18//NONSGML v1.0//EN
CALSCALE:GREGORIAN
METHOD:PUBLISH
X-ORIGINAL-URL:https://wenatcheeoutdoors.org
X-WR-CALDESC:Events for Wenatchee Outdoors
REFRESH-INTERVAL;VALUE=DURATION:PT1H
X-Robots-Tag:noindex
X-PUBLISHED-TTL:PT1H
BEGIN:VTIMEZONE
TZID:America/Los_Angeles
BEGIN:DAYLIGHT
TZOFFSETFROM:-0800
TZOFFSETTO:-0700
TZNAME:PDT
DTSTART:20250309T100000
END:DAYLIGHT
BEGIN:STANDARD
TZOFFSETFROM:-0700
TZOFFSETTO:-0800
TZNAME:PST
DTSTART:20251102T090000
END:STANDARD
BEGIN:DAYLIGHT
TZOFFSETFROM:-0800
TZOFFSETTO:-0700
TZNAME:PDT
DTSTART:20260308T100000
END:DAYLIGHT
BEGIN:STANDARD
TZOFFSETFROM:-0700
TZOFFSETTO:-0800
TZNAME:PST
DTSTART:20261101T090000
END:STANDARD
BEGIN:DAYLIGHT
TZOFFSETFROM:-0800
TZOFFSETTO:-0700
TZNAME:PDT
DTSTART:20270314T100000
END:DAYLIGHT
BEGIN:STANDARD
TZOFFSETFROM:-0700
TZOFFSETTO:-0800
TZNAME:PST
DTSTART:20271107T090000
END:STANDARD
END:VTIMEZONE
BEGIN:VEVENT
DTSTART;TZID=America/Los_Angeles:20260419T153000
DTEND;TZID=America/Los_Angeles:20260419T220000
DTSTAMP:20260419T085654
CREATED:20260312T191836Z
LAST-MODIFIED:20260312T191836Z
UID:10003912-1776612600-1776636000@wenatcheeoutdoors.org
SUMMARY:International Dark Sky Celebration
DESCRIPTION:Join Wenatchee Valley Astronomy Club and Wenatchee River Institute for a Dark Sky Celebration to close out International Dark Sky Week.\n\nIf you’ve been to the Red Barn Events\, this is like a Red Barn Event Plus- with two fantastic speakers\, trivia\, family-friendly crafts\, and star-gazing!\n\nJoin us for all or part of the festivities. BYO Snacks. Beer\, wine\, and sparkling water will be sold throughout the afternoon.\n\nEvent Link
URL:https://wenatcheeoutdoors.org/event/international-dark-sky-celebration/
CATEGORIES:Special Events
END:VEVENT
BEGIN:VEVENT
DTSTART;TZID=America/Los_Angeles:20260421T100000
DTEND;TZID=America/Los_Angeles:20260421T120000
DTSTAMP:20260419T085654
CREATED:20260113T233827Z
LAST-MODIFIED:20260113T234659Z
UID:10003759-1776765600-1776772800@wenatcheeoutdoors.org
SUMMARY:Women’s Escape at Mission Ridge
DESCRIPTION:Women’s Escape is your gateway to a better ski day. \nWorking in small groups with our best women coaches\, you’ll build skills\, confidence\, and flow while having a blast doing it. You could come up early for a coffee and then meet us at Ka Wham Café. We’ll take it to the snow from 10:00 am–12:00 pm\, leaving you plenty of time for afternoon laps with friends new and old. \nChoose the day you’d like to join. We encourage you to come multiple Tuesdays throughout the season to keep progressing and keep the stoke rolling. \nAfter your 5th lesson\, your next one is FREE. Bonus: Participation in our Friday Carve Club also counts toward your five. \nLift Access\nLift access not included. If you do not have a Season Pass\, please purchase the Women’s Escape All Mountain Access Day Pass ($45) for the day of your session. \nWhat to Bring / Know Before You Go \n\nPlease arrive a little early to get settled and ready to head out on time.\nDress for mountain conditions\, bring water\, and consider a snack for after your session.\nHelmets are strongly recommended.\n\nFind more information on Mission Ridge Events Page.
URL:https://wenatcheeoutdoors.org/event/womens-escape-at-mission-ridge/2026-04-21/
CATEGORIES:Special Events
END:VEVENT
BEGIN:VEVENT
DTSTART;TZID=America/Los_Angeles:20260422T090000
DTEND;TZID=America/Los_Angeles:20260422T110000
DTSTAMP:20260419T085654
CREATED:20260312T192153Z
LAST-MODIFIED:20260312T192153Z
UID:10003913-1776848400-1776855600@wenatcheeoutdoors.org
SUMMARY:Earth Day Trash Pick-Up
DESCRIPTION:Come on down to the Wenatchee River Institute to participate in a community cleanup of all the litter that accumulated over the winter along the riverfront trails.\n\nIt’s a great time to get outside to enjoy the beautiful spring wildflowers and birds and to work together to help out our natural areas. We will have gloves and bags available for volunteers! Meet at the WRI parking lot. We will walk along the trails and pick up any trash that we find. Extra points for microplastics!\n\nTell us you’re joining by heading to the event link below and RSVP!\n\nEvent Link
URL:https://wenatcheeoutdoors.org/event/earth-day-trash-pick-up/
CATEGORIES:Special Events
END:VEVENT
BEGIN:VEVENT
DTSTART;TZID=America/Los_Angeles:20260423T153000
DTEND;TZID=America/Los_Angeles:20260423T163000
DTSTAMP:20260419T085654
CREATED:20260318T172220Z
LAST-MODIFIED:20260401T212513Z
UID:10003905-1776958200-1776961800@wenatcheeoutdoors.org
SUMMARY:WenOut Kids Thursday's
DESCRIPTION:  \n \nDue to changing spring weather conditions\, event details may change. Please be sure to check our website and social media channels for the most up-to-date information\, updates\, or cancellations before attending. \nDate: 4/23/2026 \nTime: 3:30 \nLocation: Old Butte via Jacobson Trail head \nGuest: Jenise Coates a Wenatchee Outdoors volunteer \nDetails: We will be hiking the Old Butte trail while reading the story boards along the way. We will start at the Jacobson Trailhead. This hike will be about 1.6 miles round trip with about 200-400 feet elevation gain. Jenise Coates will join us for a discussion about nature journaling during the hike. \n*Children must be accompanied by an adult*
URL:https://wenatcheeoutdoors.org/event/wenout-kids-thursdays-6/
CATEGORIES:Beginners Welcome,Family Friendly,Member Outings,Special Events
ORGANIZER;CN="Alli Scheumann":MAILTO:alli@wenatcheeoutdoors.org
END:VEVENT
BEGIN:VEVENT
DTSTART;TZID=America/Los_Angeles:20260424T173000
DTEND;TZID=America/Los_Angeles:20260424T193000
DTSTAMP:20260419T085654
CREATED:20260208T021340Z
LAST-MODIFIED:20260208T021446Z
UID:10003864-1777051800-1777059000@wenatcheeoutdoors.org
SUMMARY:WRI 5th Annual Trashion Show
DESCRIPTION:Registration for teams is open! Click here or look for the link below to sign up to design and model your outfit! \nSave the date for Wenatchee River Institute’s 5th Annual Trashion Show! This fashion show will showcase wearable art made from recycled and repurposed materials. Come check out the creative pieces built by your neighbors! Team categories this year include: adult\, youth\, and family. Prizes are available for each category\, plus a People’s Choice Award where audience members will get to vote for their favorite outfit. \nThis event is held outside on the WRI River Haus Lawn. Bring snacks\, a picnic blanket\, or camp chair to make yourself comfortable. We will have some chairs available as well. Beer\, wine\, and non-alcoholic beverages will be for sale during this event. \nNo registration is required to attend this event as an audience member. Just show up and enjoy the fun! \nThis is a free event in partnership with the Wenatchee River Institute\, Sustainable NCW\, Eastside Rebuild\, and wonderful volunteers. If you wish to contribute to offset the costs of staff time and supplies used for this loved community event\, you can donate at the link below. \nClick here for Event Link \n\n\n\n\n\nCONTACT INFO\nVirginia Shoup\nvshoup@wenatcheeriverinstitute.org\n509-548-0181\, ext. 5
URL:https://wenatcheeoutdoors.org/event/wri-5th-annual-trashion-show/
CATEGORIES:Special Events
END:VEVENT
END:VCALENDAR