BEGIN:VCALENDAR
VERSION:2.0
PRODID:-//Wenatchee Outdoors - ECPv6.15.18//NONSGML v1.0//EN
CALSCALE:GREGORIAN
METHOD:PUBLISH
X-ORIGINAL-URL:https://wenatcheeoutdoors.org
X-WR-CALDESC:Events for Wenatchee Outdoors
REFRESH-INTERVAL;VALUE=DURATION:PT1H
X-Robots-Tag:noindex
X-PUBLISHED-TTL:PT1H
BEGIN:VTIMEZONE
TZID:America/Los_Angeles
BEGIN:DAYLIGHT
TZOFFSETFROM:-0800
TZOFFSETTO:-0700
TZNAME:PDT
DTSTART:20250309T100000
END:DAYLIGHT
BEGIN:STANDARD
TZOFFSETFROM:-0700
TZOFFSETTO:-0800
TZNAME:PST
DTSTART:20251102T090000
END:STANDARD
BEGIN:DAYLIGHT
TZOFFSETFROM:-0800
TZOFFSETTO:-0700
TZNAME:PDT
DTSTART:20260308T100000
END:DAYLIGHT
BEGIN:STANDARD
TZOFFSETFROM:-0700
TZOFFSETTO:-0800
TZNAME:PST
DTSTART:20261101T090000
END:STANDARD
BEGIN:DAYLIGHT
TZOFFSETFROM:-0800
TZOFFSETTO:-0700
TZNAME:PDT
DTSTART:20270314T100000
END:DAYLIGHT
BEGIN:STANDARD
TZOFFSETFROM:-0700
TZOFFSETTO:-0800
TZNAME:PST
DTSTART:20271107T090000
END:STANDARD
END:VTIMEZONE
BEGIN:VEVENT
DTSTART;TZID=America/Los_Angeles:20260404T160000
DTEND;TZID=America/Los_Angeles:20260404T180000
DTSTAMP:20260419T215432
CREATED:20260114T192519Z
LAST-MODIFIED:20260114T192643Z
UID:10003837-1775318400-1775325600@wenatcheeoutdoors.org
SUMMARY:Dummy Downhill at Mission Ridge
DESCRIPTION:Dummy Downhill \nCelebrate the start of April with laughs\, creativity\, and more than a little chaos at Dummy Downhill\, Mission Ridge’s most popular event! This beloved tradition invites participants to design their own homemade “dummies” to race down the hill and off a massive jump. The more outrageous\, the better. Awards will be given out in multiple categories with some sweet prizes on the line. \nFull schedule with details\, rules\, registration\, and prizes coming soon Here.
URL:https://wenatcheeoutdoors.org/event/dummy-downhill-at-mission-ridge-2/
CATEGORIES:Special Events
ORGANIZER;CN="Adam Vognild":MAILTO:encompassfitnesscoach@gmail.com
END:VEVENT
END:VCALENDAR