BEGIN:VCALENDAR
VERSION:2.0
PRODID:-//Wenatchee Outdoors - ECPv6.15.18//NONSGML v1.0//EN
CALSCALE:GREGORIAN
METHOD:PUBLISH
X-WR-CALNAME:Wenatchee Outdoors
X-ORIGINAL-URL:https://wenatcheeoutdoors.org
X-WR-CALDESC:Events for Wenatchee Outdoors
REFRESH-INTERVAL;VALUE=DURATION:PT1H
X-Robots-Tag:noindex
X-PUBLISHED-TTL:PT1H
BEGIN:VTIMEZONE
TZID:UTC
BEGIN:STANDARD
TZOFFSETFROM:+0000
TZOFFSETTO:+0000
TZNAME:UTC
DTSTART:20160101T000000
END:STANDARD
END:VTIMEZONE
BEGIN:VEVENT
DTSTART;TZID=UTC:20170925T160000
DTEND;TZID=UTC:20170925T180000
DTSTAMP:20260423T031317
CREATED:20170902T041407Z
LAST-MODIFIED:20170902T041407Z
UID:10000095-1506355200-1506362400@wenatcheeoutdoors.org
SUMMARY:Geology of the Icicle Valley
DESCRIPTION:Date\nMon\, 09/25/2017\n\nTime\n4:00 pm – 6:00 pm\n\n\nPresented by-the Chelan Douglas Land Trust \nJoin geologist Kelsay Stanton at CDLT’s Sam Hill property to look at the geology underfoot and in the surrounding landscape. We’ll check out Icicle Creek\, then head to the property for some moderate trail walking to see evidence of glaciers and identify local rocks. We’ll be done by 6 pm at the latest. \nBring sturdy walking shoes and a jacket\, since autumn evenings might be cool. Also consider bringing a camera and/or a field journal for sketching and documenting the landscape. Drawing the geology you see really helps you appreciate it! \nThis trip is open to members only. Consider joining the Land Trust if you haven’t already! If you’re already a member\, you can sign up online\, or call (509) 667-9708 or email info@cdlandtrust.org to register or for more information. For more information
URL:https://wenatcheeoutdoors.org/event/geology-of-the-icicle-valley/
END:VEVENT
BEGIN:VEVENT
DTSTART;TZID=UTC:20170928T180000
DTEND;TZID=UTC:20170928T190000
DTSTAMP:20260423T031317
CREATED:20170902T041714Z
LAST-MODIFIED:20170902T041714Z
UID:10000096-1506621600-1506625200@wenatcheeoutdoors.org
SUMMARY:Trailhead Talk Series: American Indian Stories with Wendell George
DESCRIPTION:Date-Thu\, 09/28/2017 \nTime-6-7pm \n\n\n\n\n\nLocation-Saddle Rock Trailhead\n\nPresented by the Chelan Douglas Land Trust\n\n\n\n\nAmerican Indians of our area\, including the Wenatchi and Entiat tribes\, have long told stories to pass down history\, information about natural resources\, and to teach children how to be in the world. Join Wendell George\, a leader of the Colville Confederated Tribes\, in an exploration of some of these stories and their importance to our local area.\n\nWendell George is a member of the Colville Confederated Tribes and is now retired after many careers including\, engineer for Boeing\, tribal planner\, elected tribal Councilman\, tribal corporation CEO\, author\, owner and operator of a 100-acre apple orchard and a 150-head cattle ranch. His great-grandfather\, Chilcosahaskt\, was Chief of the Entiat tribe\, his grandfather\, Lahompt\, started the first family cattle ranch and his dad\, Moses\, was elected to the first Tribal Council.
URL:https://wenatcheeoutdoors.org/event/trailhead-talk-series-american-indian-stories-with-wendell-george/
END:VEVENT
BEGIN:VEVENT
DTSTART;VALUE=DATE:20170930
DTEND;VALUE=DATE:20171001
DTSTAMP:20260423T031317
CREATED:20170914T033259Z
LAST-MODIFIED:20170914T033259Z
UID:10000103-1506729600-1506815999@wenatcheeoutdoors.org
SUMMARY:Dark Side Festival!
DESCRIPTION:September 30\, 2017 \n\nThe third-annual Dark Side Festival will be held from 10 a.m to 12 a.m.\, Saturday\, Sept.30\, 2017\, at Squilchuck State Park featuring a mountain bike race and a beginner skills clinic during the day\, and mountain bike rides and trail runs during the evening hours. There also will be live music\, a beer garden and food by Smoke Blossom. Weekend camping is available. \nTickets are $20 per person pre-event (online only) and $25 per person the day-of at the state park. For the price of admission\, you get to partake in multiple activities during the day. Adults 21 years and over will receive one free beer\, too. \nProceeds benefit local trails through the new Wenatchee Valley TREAD organization! \nBecause the venue is a state park\, anyone parking a car will need a Discovery Pass. Park rangers will be on hand and will issue fines to anyone without a Discovery Pass. \nWeekend camping at the state park is available for $20. Contact Steve Johnston at dracemon@hotmail.com to reserve a camping spot. \nCome for a race\, a ride or a run. Or come just for the music and beer and food. No matter what you partake in\, you’ll end up clamoring for more — and helping a great cause! \nFor more on Squilchuck State Park: http://parks.state.wa.us/589/Squilchuck \nTo register and buy a ticket: https://dark-side-2017.eventbrite.com  \nFor the Darkside Festival Facebook: https://www.facebook.com/darksidewenatchee
URL:https://wenatcheeoutdoors.org/event/dark-side-festival/
END:VEVENT
BEGIN:VEVENT
DTSTART;TZID=UTC:20170930T080000
DTEND;TZID=UTC:20170930T160000
DTSTAMP:20260423T031317
CREATED:20170914T032757Z
LAST-MODIFIED:20170914T032757Z
UID:10000102-1506758400-1506787200@wenatcheeoutdoors.org
SUMMARY:Squilchuck Sizzler Mountain Bike Race
DESCRIPTION:Location: Squilchuck State Park \nHosted by: Ridge Cycle Sport and Wenatchee Valley Velo \nCross country mountain bike race at Squilchuck State Park near Wenatchee. Racing for all ability levels and ages. Part of the Dark Side Festival so plan on coming early and hanging around all weekend for fantastic riding and fun! \nCLICK HERE for more information.
URL:https://wenatcheeoutdoors.org/event/squilchuck-sizzler-mountain-bike-race/
END:VEVENT
BEGIN:VEVENT
DTSTART;TZID=UTC:20170930T090000
DTEND;TZID=UTC:20170930T130000
DTSTAMP:20260423T031317
CREATED:20170804T045235Z
LAST-MODIFIED:20170804T045312Z
UID:10000066-1506762000-1506776400@wenatcheeoutdoors.org
SUMMARY:Fall Family Hikes
DESCRIPTION:Date: Sat\, 09/30/2017\n\nTime: 9 AM and 11 AM\n\n\nLocation: Saddle Rock Trailhead\n\n\nJoin the Chelan Douglas Land Trust at Saddle Rock Trailhead for weekly kid-focused hikes. Explore our trails with fun\, hands-on activities to get up close and personal with nature. Learn how to help your child love healthy\, active\, and safe play in the outdoors. \nThese hikes are about 1.5 hours long and are offered twice a day. They will be on easy to moderate terrain. We’ll take lots of breaks to explore and learn. \nGo on an adventure in the foothills to explore the things we often overlook. Learn how to use hand lenses and magnifying glasses to see things you may not even realize are right under your nose!  \nThis event is made possible because of a partnership with the City of Wenatchee Department of Parks\, Recreation\, and Cultural Services. Sign ups coming soon! Please email hillary@cdlandtrust.org  to get a reminder when registration becomes available. \n\nFor more information CLICK HERE
URL:https://wenatcheeoutdoors.org/event/fall-family-hikes/
END:VEVENT
END:VCALENDAR