BEGIN:VCALENDAR
VERSION:2.0
PRODID:-//Wenatchee Outdoors - ECPv6.15.18//NONSGML v1.0//EN
CALSCALE:GREGORIAN
METHOD:PUBLISH
X-WR-CALNAME:Wenatchee Outdoors
X-ORIGINAL-URL:https://wenatcheeoutdoors.org
X-WR-CALDESC:Events for Wenatchee Outdoors
REFRESH-INTERVAL;VALUE=DURATION:PT1H
X-Robots-Tag:noindex
X-PUBLISHED-TTL:PT1H
BEGIN:VTIMEZONE
TZID:UTC
BEGIN:STANDARD
TZOFFSETFROM:+0000
TZOFFSETTO:+0000
TZNAME:UTC
DTSTART:20160101T000000
END:STANDARD
END:VTIMEZONE
BEGIN:VEVENT
DTSTART;TZID=UTC:20171003T190000
DTEND;TZID=UTC:20171003T200000
DTSTAMP:20260422T222259
CREATED:20170902T032346Z
LAST-MODIFIED:20170902T032346Z
UID:10000078-1507057200-1507060800@wenatcheeoutdoors.org
SUMMARY:Lost Homeland
DESCRIPTION:When: Tuesday Oct. 3rd at 7pm. \nWhere: Wenatchee Valley Museum \nCost: Free with suggested donation of $5 \nHistorian E. Richard Hart and biologist/musician Ken Bevis team up to deliver a fun\, scholarly program on the history of the Methow tribe\, the Columbia Reservation and the beautiful valley and river system that sustained indigenous hunter/gatherer populations for centuries. Hart will use slides of newly discovered images featured in his book “Lost Homeland\,” while Bevis will perform original songs inspired by the beauty of the Methow Valley.
URL:https://wenatcheeoutdoors.org/event/lost-homeland/
END:VEVENT
BEGIN:VEVENT
DTSTART;TZID=UTC:20171007T190000
DTEND;TZID=UTC:20171007T203000
DTSTAMP:20260422T222259
CREATED:20170916T034749Z
LAST-MODIFIED:20170916T035234Z
UID:10000104-1507402800-1507408200@wenatcheeoutdoors.org
SUMMARY:Light the Loop Fun Run
DESCRIPTION:Date: Saturday\, October 7 at 7:00 PM – 8:30 PM PDT \nWhere: Pybus Public Market \nReady\, set\, GLOW! Serve Wenatchee Valley presents: Light The Loop 2017. Grab your friends and family and take a short stroll (or run!) down a fun\, lighted part of the trail. The night will be filled with glowing costumes\, music from local musicians\, activities for children and more. Registration and festivities begin at 6pm and the race starts at 7pm. All proceeds benefit the work of Serve Wenatchee Valley. \nSee this LINK for more information.
URL:https://wenatcheeoutdoors.org/event/light-the-loop-fun-run/
END:VEVENT
END:VCALENDAR