BEGIN:VCALENDAR
VERSION:2.0
PRODID:-//Wenatchee Outdoors - ECPv6.15.18//NONSGML v1.0//EN
CALSCALE:GREGORIAN
METHOD:PUBLISH
X-ORIGINAL-URL:https://wenatcheeoutdoors.org
X-WR-CALDESC:Events for Wenatchee Outdoors
REFRESH-INTERVAL;VALUE=DURATION:PT1H
X-Robots-Tag:noindex
X-PUBLISHED-TTL:PT1H
BEGIN:VTIMEZONE
TZID:UTC
BEGIN:STANDARD
TZOFFSETFROM:+0000
TZOFFSETTO:+0000
TZNAME:UTC
DTSTART:20160101T000000
END:STANDARD
END:VTIMEZONE
BEGIN:VEVENT
DTSTART;TZID=UTC:20171022T110000
DTEND;TZID=UTC:20171022T150000
DTSTAMP:20260421T202134
CREATED:20171018T050452Z
LAST-MODIFIED:20171018T050452Z
UID:10000110-1508670000-1508684400@wenatcheeoutdoors.org
SUMMARY:Leavenworth Winter Sports Club Gear Swap!
DESCRIPTION:The annual Ski/Gear Swap and Fall Fundraiser have joined forces!  ONE SPECTACULAR EVENT!  Fundraising efforts will support our purchase of equipment for snow making.  You can swap or purchase ski and human powered gear\, watch ski flicks\, enjoy music\, socialize and raise that paddle to support the snow making equipment.  The Swap & Fundraiser will be at the Leavenworth Festhalle on Sunday\, October 22nd. \n\n\n\nDate:\nSunday\, October 22\, 2017\n\n\n\nOne Day Event\n\n\nTime:\nOpen To Public – 11:00AM – 3:00PM\n\n\n\nSeller & Vendor Set-Up – 10:00AM\n\n\nLocation:\nLeavenworth Festhalle
URL:https://wenatcheeoutdoors.org/event/leavenworth-winter-sports-club-gear-swap/
END:VEVENT
BEGIN:VEVENT
DTSTART;TZID=UTC:20171028T090000
DTEND;TZID=UTC:20171028T150000
DTSTAMP:20260421T202134
CREATED:20171026T035130Z
LAST-MODIFIED:20171026T035130Z
UID:10000118-1509181200-1509202800@wenatcheeoutdoors.org
SUMMARY:Make a Difference Day: Restoration Planting
DESCRIPTION:Date\nSat\, 10/28/2017\n\nTime\n9 a.m. – 3 p.m.\n\nSign up online here! \n\nHelp plant 2000 sagebrush seedlings as part of our ongoing fire recovery efforts at Horse Lake Reserve for Make a Difference Day this fall. We’ll have a variety of tasks related to this project. Volunteers should come prepared for changes in the weather\, and wear work clothes and sturdy footwear. CDLT will supply all tools and equipment\, as well as a light lunch and snacks. \nPlease sign up online to RSVP so we can be sure to have enough equipment and food for everyone! \nQuestions? Contact Hanne: hanne@cdlandtrust.org\, or 667-9708
URL:https://wenatcheeoutdoors.org/event/make-a-difference-day-restoration-planting/
END:VEVENT
END:VCALENDAR