BEGIN:VCALENDAR
VERSION:2.0
PRODID:-//Wenatchee Outdoors - ECPv6.15.18//NONSGML v1.0//EN
CALSCALE:GREGORIAN
METHOD:PUBLISH
X-ORIGINAL-URL:https://wenatcheeoutdoors.org
X-WR-CALDESC:Events for Wenatchee Outdoors
REFRESH-INTERVAL;VALUE=DURATION:PT1H
X-Robots-Tag:noindex
X-PUBLISHED-TTL:PT1H
BEGIN:VTIMEZONE
TZID:UTC
BEGIN:STANDARD
TZOFFSETFROM:+0000
TZOFFSETTO:+0000
TZNAME:UTC
DTSTART:20160101T000000
END:STANDARD
END:VTIMEZONE
BEGIN:VEVENT
DTSTART;TZID=UTC:20171029T150000
DTEND;TZID=UTC:20171029T190000
DTSTAMP:20260421T073806
CREATED:20171023T231521Z
LAST-MODIFIED:20171023T231608Z
UID:10000111-1509289200-1509303600@wenatcheeoutdoors.org
SUMMARY:Bat Hang Halloween Party at R.R.G.
DESCRIPTION:RIVERFRONT ROCK GYM PRESENTS \nTHE BAT HANG\nHALLOWEEN PARTY \n\nSUNDAY\, OCTOBER 29TH\, 3-7PM \nPARTICIPATION INCLUDES: DAY PASS\, RENTAL GEAR (WHILE SUPPLIES LAST!)\, 2 HOURS OF CLIMBING GUIDED BY OUR EXPERIENCED INSTRUCTORS\, HALLOWEEN GAMES\, CANDY\, PRIZES\, 5 RAFFLE TICKETS & 5 EXTRA RAFFLE TICKETS IF YOU WEAR A COSTUME! \n$5 FOR MEMBERS 🕷 $12 FOR NON-MEMBERS\n(AGE 13 AND UNDER) \n🕸 3PM: COSTUME CONTEST & HALLOWEEN GAMES\n🕸 4PM: COSTUME CONTEST WINNERS ANNOUNCED\,\nCRATE STACKING CONTEST\n🕸 4:30-6:30PM: TRICK-OR-TOP ROPE CLIMBING &\nMORE HALLOWEEN GAMES\n🕸 6:30PM: RAFFLE \n1319 WALLA WALLA AVE\nWENATCHEE\, WA 98801\n509-888-2427
URL:https://wenatcheeoutdoors.org/event/bat-hang-halloween-party-at-r-r-g/
END:VEVENT
BEGIN:VEVENT
DTSTART;TZID=UTC:20171102T143000
DTEND;TZID=UTC:20171102T163000
DTSTAMP:20260421T073806
CREATED:20171026T035545Z
LAST-MODIFIED:20171026T035545Z
UID:10000120-1509633000-1509640200@wenatcheeoutdoors.org
SUMMARY:Trail Thursday's with C.D.L.T.
DESCRIPTION:Date Thu\, 11/02/2017\nTime\n\n2:30 – 4:30 p.m.\n\nSign up online here! \n\nWe’ll try and get some general maintenance of the trails in the Foothills done before winter arrives. Volunteers will hike along sections of the Foothills Trail System and work with handtools to fix erosion and drainage issues\, as well as any tread damage. CDLT will supply tools and snacks. Volunteers should wear work clothes and sturdy footwear\, and plan on walking at least 2 miles. \nPlease sign up online or RSVP so that we can keep you posted on updates for this event\, as well as the location. \nQuestions? Want to RSVP? Contact Hanne: hanne@cdlandtrust.org\, 667-9708.
URL:https://wenatcheeoutdoors.org/event/trail-thursdays-with-c-d-l-t/
END:VEVENT
BEGIN:VEVENT
DTSTART;TZID=UTC:20171104T180000
DTEND;TZID=UTC:20171104T220000
DTSTAMP:20260421T073806
CREATED:20171026T031216Z
LAST-MODIFIED:20171026T031300Z
UID:10000117-1509818400-1509832800@wenatcheeoutdoors.org
SUMMARY:Pray for Snow Concert
DESCRIPTION:The Pray for Snow Concert is the official kick off to the winter season! Come celebrate the start of winter and the upcoming season with your friends from Mission Ridge\, Leavenworth Winter Sports Club\, Badger Mountain Ski Area\, and Echo Valley Ski Area! Bands Buzz Brump and ANDONIMUS will provide the tunes. Their will also be a special showing of everyone’s favorite ski film – Lifted: A Ski Film for the Rest of Us. \nWho: This years show is 21+\nWhat: A rockin party with live music\, beer garden and tasty grub\nWhen: November 4th from 6pm-10pm\nWhere: All the fun will go down in the parking lot behind Arlberg Sports – Grand Central Building\, 25 N Wenatchee Ave\, Wenatchee\, WA 98801\nWhy: To build stoke for the upcoming winter season in the Greater Wenatchee Valley\nHow Much: $15 in advance | $20 at the door \nSpecial thanks goes out to all the sponsors that make this party happen: Arlberg Sports\, Cascade Autocenter\, HEAD SKI\, Mela Coffee Roasting Co.\, PEPSI\, Saddle Rock Pub & Brewery\, RLS Productions\, LLC\, North 40 Productions. Lithic Skis\, Bollinger Construction and Wenatche Valley Velo Club.. \nAll proceedes from this year’s beer garden support Leavenworth Ski Hill\, Badger Mountain Ski Area\, and Echo Valley Ski Area. \n\n\nDate: November 4th\, 2017\nTime: 6pm-10pm\nWhere: Parking lot behind Arlberg Sports – Grand Central Building\, 25 N Wenatchee Ave\n\nFor more information or to purchase tickets CLICK HERE
URL:https://wenatcheeoutdoors.org/event/pray-for-snow-concert/
END:VEVENT
END:VCALENDAR