BEGIN:VCALENDAR
VERSION:2.0
PRODID:-//Wenatchee Outdoors - ECPv6.15.18//NONSGML v1.0//EN
CALSCALE:GREGORIAN
METHOD:PUBLISH
X-WR-CALNAME:Wenatchee Outdoors
X-ORIGINAL-URL:https://wenatcheeoutdoors.org
X-WR-CALDESC:Events for Wenatchee Outdoors
REFRESH-INTERVAL;VALUE=DURATION:PT1H
X-Robots-Tag:noindex
X-PUBLISHED-TTL:PT1H
BEGIN:VTIMEZONE
TZID:UTC
BEGIN:STANDARD
TZOFFSETFROM:+0000
TZOFFSETTO:+0000
TZNAME:UTC
DTSTART:20160101T000000
END:STANDARD
END:VTIMEZONE
BEGIN:VEVENT
DTSTART;TZID=UTC:20171105T100000
DTEND;TZID=UTC:20171105T160000
DTSTAMP:20260421T013127
CREATED:20171026T024840Z
LAST-MODIFIED:20171026T024840Z
UID:10000113-1509876000-1509897600@wenatcheeoutdoors.org
SUMMARY:Lworth Ski Hill Fall Cleaning!
DESCRIPTION:When & Where: Sun\, 11/05/2017 –10:00am to 4:00pm \nLeavenworth Ski Hill \n info@skileavenworth.com\nFall Cleaning! \nIts that time of the year again.  Most of us do “spring cleaning”\, however\, here at Ski Hill we prefer “Fall Cleaning” as we get ready for another amazing year full of snow\, smiles\, good food and good crowds. Click HERE to see our long list of tasks to complete before the snow flies.  Please email info@skileavenworth.com if you have a specific task you would like to sign up for. \nObjective:\nPrepare Ski Hill for Winter Operations and the ability to open Tubing\, Nordic and Alpine operations on a minimum amount of snow. Let’s make it look like a Park!
URL:https://wenatcheeoutdoors.org/event/lworth-ski-hill-fall-cleaning/
END:VEVENT
BEGIN:VEVENT
DTSTART;TZID=UTC:20171106T080000
DTEND;TZID=UTC:20171106T120000
DTSTAMP:20260421T013127
CREATED:20171026T035749Z
LAST-MODIFIED:20171026T035749Z
UID:10000121-1509955200-1509969600@wenatcheeoutdoors.org
SUMMARY:eBird Monitoring at Mountain Home Preserve
DESCRIPTION:Date\nMon\, 11/06/2017\n\nTime\n8:00am-noon\n\n\nLocation\nMountain Home Preserve \n\n\nWould you like to spend a weekday morning hiking\, viewing wildlife\, wildflowers\, and snow-capped mountains\, while being part of a small team collecting bird species data?  Citizen Science Project are collaborations between scientists and volunteers that expand opportunities for scientific data collection and help answer real-world questions. Learn more about becoming a CDLT citizen scientist volunteer by contacting Conservation Fellow\, Susan Ballinger at susan@cdlandtrust.org  or call 509-667-9708. \nCDLT is recruiting volunteers to help with two once/month bird monitoring projects. \n\nMountain Home Preserve eBird Monitoring Project\, prior to the thinning project that will restore a pre-settlement open ponderosa-pine forest.  Meeting at 6am at the Safeway store in Leavenworth\, or Susan will pick up carpoolers in Wenatchee at 5:30am at the Penny Road Park and Ride. We walk a 2.2-mile route\, stopping at 5 points to conduct 10-minute counts. Upcoming Dates: June 26\, July 18\, Aug. 23\, Sept. 14\, Oct. 12\, Nov. 9.\nHorse Lake Reserve eBird Monitoring Project:  Meeting at 6am at the end of the pavement on Horse Lake Rd. to carpool up the gravel road\, we walk a 5-mile route\, stopping at 7 points to conduct 10-minute counts. All data is entered into eBird.  Our goal is to learn about bird use within the variety of habitats that include areas burned in 2015 wildfire.  Upcoming Dates: June 29\, July 20\, Aug. 24\, Sept. 15\, Oct. 19\, Nov. 16.
URL:https://wenatcheeoutdoors.org/event/ebird-monitoring-at-mountain-home-preserve/
END:VEVENT
BEGIN:VEVENT
DTSTART;TZID=UTC:20171107T173000
DTEND;TZID=UTC:20171107T183000
DTSTAMP:20260421T013127
CREATED:20171010T121816Z
LAST-MODIFIED:20171010T121937Z
UID:10000109-1510075800-1510079400@wenatcheeoutdoors.org
SUMMARY:WenOut Story Night at The Hunters Wife!
DESCRIPTION:It’s Outdoor enthusiast night at The Hunter’s Wife! Join us for a special talk lead by WenatcheeOutdoors Leaders and enjoy discounted plant based appetizers\, kombucha and warm beverages! Space is LIMITED! Call The Hunters Wife in Wenatchee to reserve your seat. This is a FREE event to attend! \nWe are so blessed to be surrounded by some of the best outdoor activities nature as to offer! We’ve partnered up with Wenatchee Outdoors to create a special event of Wen Out Story telling! Join us for a laid-back evening of plant powered appetizers\, kombucha happy hour\, and enjoying the tales of the Wenatchee Outdoor board members! The Wen Out mission is to better use and protect Central Washington’s outdoor resources and to inform\, engage\, inspire\, and connect the outdoor community! Our speakers include:\n-Mark Shipman (co-owner of Riverfront Rock Gym and volunteer for Chelan County Mountain Rescue)\n-Ariana Jones (Director of Outdoor Recreation Management Program at Wenatchee Valley College)\n-Sarah Shaffer (Executive Director of WenatcheeOutdoors.org and board member for the Washington Wildlife Recreation Coalition) \n“We’re the adventure seekers\, the outdoor junkies\, the gear connoisseurs\, the unofficial weather reporters\, the rookies and the risk takers for the Wenatchee Valley”
URL:https://wenatcheeoutdoors.org/event/wenout-story-night-at-the-hunters-wife/
END:VEVENT
BEGIN:VEVENT
DTSTART;TZID=UTC:20171107T180000
DTEND;TZID=UTC:20171107T203000
DTSTAMP:20260421T013127
CREATED:20170911T211138Z
LAST-MODIFIED:20170911T211239Z
UID:10000042-1510077600-1510086600@wenatcheeoutdoors.org
SUMMARY:Geologic Wonderland
DESCRIPTION:Tuesday\, November 7\, 2017 – 6:30pm\n\n\nLocation: Milepost111\, 407 Aplets Way\, Cashmere\n\n\n\n\nHosted by the Wenatchee River Institute\n\nTuesdays in November just got a whole lot more exciting! Join Wenatchee River Institute every Tuesday in November at Milepost111 in Cashmere for the annual Scientist Speaker Series.\n\nBe a part of the experience!  ‘Geologic Wonderland’ explores the epic geologic saga shaping our past and our future. The geology of the Pacific Northwest is truly a “Disneyland” of geologic proportions complete with thrills to be experienced right here in your own back yard! Hosted lite fare and casual conversation starts at 6:00 pm each night and then the evening’s presentation runs from 6:30pm – 8:30pm. A select dinner menu of Milepost111 signature dishes and tasty beverages are available to truly make this an evening out!\n\nThe series including all four evenings is $100 for non-members and $80 for members.\n8 teacher clock hours are available for this series\, $24\nRegistration ends November 31rd! class size is limited.
URL:https://wenatcheeoutdoors.org/event/geologic-wonderland/
END:VEVENT
BEGIN:VEVENT
DTSTART;VALUE=DATE:20171108
DTEND;VALUE=DATE:20171109
DTSTAMP:20260421T013127
CREATED:20170902T044605Z
LAST-MODIFIED:20170902T044605Z
UID:10000034-1510099200-1510185599@wenatcheeoutdoors.org
SUMMARY:The Hanford Story
DESCRIPTION:Wednesday\, November 8\, 2017 – 7:00pm\n\n\nLocation: The Barn @ Barn Beach Reserve\, 347 Division Street\, Leavenworth\, WA\n\n\nHosted by the Wenatchee River Institute\n\n\n\nADMISSION BY DONATION\, ALL AGES WELCOME \nDOORS OPEN AT 6:30PM\, PRESENTATION AT 7:00PM \nJoin former Project Manager with the Department of Energy Nick Ceto for a discussion of “The Hanford Story.” This Emmy Award winning  multi-media presentation gives a glimpse of Hanford’s past\, the extensive clean up efforts\, and the future of such a controversial site. After the short film Nick will provide first hand knowledge for Question and Answer and time permitting\, will also discuss the Hanford Reach national monument and the REACH interpretive Center. \n“A lot of the people come here with a lot of questions\,\nand a lot of people come here with some concerns.”\nRich Buel\, Department of Energy\n\nThis quote by Rich Buel\, a Department of Energy employee\, summarizes a common public view of the Hanford site in southeastern Washington State.\n\nMany in the Pacific Northwest region are aware the site exists; but what really happens in this “secret” place known as Hanford?  In response to these questions and concerns\, the Department of Energy created The Hanford Story\, a multi-media presentation of several chapters.  This documentary takes a look at a complex\, historical location and makes it understandable for the general public by providing an outline and basic information on the Hanford site.
URL:https://wenatcheeoutdoors.org/event/the-hanford-story/
END:VEVENT
END:VCALENDAR