BEGIN:VCALENDAR
VERSION:2.0
PRODID:-//Wenatchee Outdoors - ECPv6.15.18//NONSGML v1.0//EN
CALSCALE:GREGORIAN
METHOD:PUBLISH
X-WR-CALNAME:Wenatchee Outdoors
X-ORIGINAL-URL:https://wenatcheeoutdoors.org
X-WR-CALDESC:Events for Wenatchee Outdoors
REFRESH-INTERVAL;VALUE=DURATION:PT1H
X-Robots-Tag:noindex
X-PUBLISHED-TTL:PT1H
BEGIN:VTIMEZONE
TZID:UTC
BEGIN:STANDARD
TZOFFSETFROM:+0000
TZOFFSETTO:+0000
TZNAME:UTC
DTSTART:20160101T000000
END:STANDARD
END:VTIMEZONE
BEGIN:VEVENT
DTSTART;TZID=UTC:20171128T180000
DTEND;TZID=UTC:20171128T203000
DTSTAMP:20260420T185009
CREATED:20170911T211813Z
LAST-MODIFIED:20170911T211813Z
UID:10000097-1511892000-1511901000@wenatcheeoutdoors.org
SUMMARY:Geologic Wonderland
DESCRIPTION:Tuesday\, November 28th\, 2017 – 6:30pm\n\n\nLocation: Milepost111\, 407 Aplets Way\, Cashmere\n\n\n\n\nHosted by the Wenatchee River Institute\n\nTuesdays in November just got a whole lot more exciting! Join Wenatchee River Institute every Tuesday in November at Milepost111 in Cashmere for the annual Scientist Speaker Series.\n\nBe a part of the experience!  ‘Geologic Wonderland’ explores the epic geologic saga shaping our past and our future. The geology of the Pacific Northwest is truly a “Disneyland” of geologic proportions complete with thrills to be experienced right here in your own back yard! Hosted lite fare and casual conversation starts at 6:00 pm each night and then the evening’s presentation runs from 6:30pm – 8:30pm. A select dinner menu of Milepost111 signature dishes and tasty beverages are available to truly make this an evening out!\n\nThe series including all four evenings is $100 for non-members and $80 for members.\n8 teacher clock hours are available for this series\, $24\nRegistration ends November 31rd! class size is limited.
URL:https://wenatcheeoutdoors.org/event/geologic-wonderland-4/
END:VEVENT
BEGIN:VEVENT
DTSTART;TZID=UTC:20171129T190000
DTEND;TZID=UTC:20171129T210000
DTSTAMP:20260420T185009
CREATED:20171121T230421Z
LAST-MODIFIED:20171121T230421Z
UID:10000163-1511982000-1511989200@wenatcheeoutdoors.org
SUMMARY:Roadside Geology of WA-Wenatchee Valley Erratics
DESCRIPTION:Wenatchee Valley Erratics Chapter of the Ice Age Floods Institute will meet at 7:00 P.M.\, Wednesday\, November 29 at the Wenatchee Valley Museum\, 127 South Mission\, Wenatchee. \nThe Wenatchee Valley Erratics presents a holiday extra! Marli Miller\, Dept. of Earth Sciences\, U. of Oregon\, will talk about her just published rewrite of “Roadside Geology of Washington\,” the classic road-trip geology guide. In “Assembling the Northwest: A Roadside View of Oregon and Washington Geology\,” Marli will outline the region’s geology using familiar and accessible localities. Then with slides\, she will describe terrane accretion (landmasses drifting & accumulating onto the continental coasts)\, the assembly of Washington and Oregon’s underlying “basement” rocks\, and end with some events that have since shaped the area’s geology. \nThe program is free & open to the public. Copies of “Roadside Geology of Washington” will be available in the Museum shop. \nFor overviews of the Ice Age Floods and more information on the Ice Age Floods Institute\, please see our website: http://www.iafi.org; http://www.hugefloods.com; and quadricopter videos of Ice Age features\, http://www.brucebjornstad.com.\n———
URL:https://wenatcheeoutdoors.org/event/roadside-geology-of-wa-wenatchee-valley-erratics/
END:VEVENT
END:VCALENDAR