BEGIN:VCALENDAR
VERSION:2.0
PRODID:-//Wenatchee Outdoors - ECPv6.15.18//NONSGML v1.0//EN
CALSCALE:GREGORIAN
METHOD:PUBLISH
X-WR-CALNAME:Wenatchee Outdoors
X-ORIGINAL-URL:https://wenatcheeoutdoors.org
X-WR-CALDESC:Events for Wenatchee Outdoors
REFRESH-INTERVAL;VALUE=DURATION:PT1H
X-Robots-Tag:noindex
X-PUBLISHED-TTL:PT1H
BEGIN:VTIMEZONE
TZID:UTC
BEGIN:STANDARD
TZOFFSETFROM:+0000
TZOFFSETTO:+0000
TZNAME:UTC
DTSTART:20180101T000000
END:STANDARD
END:VTIMEZONE
BEGIN:VEVENT
DTSTART;TZID=UTC:20190312T180000
DTEND;TZID=UTC:20190312T203000
DTSTAMP:20260422T172847
CREATED:20190202T052733Z
LAST-MODIFIED:20190202T052733Z
UID:10000491-1552413600-1552422600@wenatcheeoutdoors.org
SUMMARY:Fly Tying Class
DESCRIPTION:Fly Tying Classes \nWenatchee River Institute \nTuesdays March 12-April 9 \n6-8:30pm \n$60 regular\, $48 WRI member \nJoin Wenatchee River Institute\, Wenatchee Valley Fly Fishers and Trout Unlimited for five nights of tying flies specifically for catching fish in local waters! All fly tying equipment provided for the class. Go home with 1-3 flies each night!  \nDon’t worry if you miss a class! \nLimit of 12 participants!
URL:https://wenatcheeoutdoors.org/event/fly-tying-class/
END:VEVENT
BEGIN:VEVENT
DTSTART;TZID=UTC:20190313T183000
DTEND;TZID=UTC:20190313T203000
DTSTAMP:20260422T172848
CREATED:20190306T041032Z
LAST-MODIFIED:20190306T041032Z
UID:10000280-1552501800-1552509000@wenatcheeoutdoors.org
SUMMARY:The Surprising Secret Life of Beavers & Why They Matter
DESCRIPTION:Wenatchee River Institute Red Barn Speaker Event | 347 Division St.\, Leavenworth \nBen Goldfarb\, author of Eager\, The Surprising Secret Life of Beavers and Why They Matter \nWednesday\, March 13th | Admission by donation | All ages welcome \nDoors open at 6:30PM for community social\, presentation at 7PM \nwww.wenatcheeriverinstitute.org | (509)548-0181 x4 \n_____________________________________________________________________ \nThe Wenatchee River Institute welcomes award-winning environmental journalist Ben Goldfarb in the Red Barn Wed.\, Mar. 13th\, doors open at 6:30PM for community social with presentation beginning at 7PM. Goldfarb will read from his book\, The Surprising Secret Life of Beavers and Why They Matter. We will learn that our modern idea of a functional\, healthy landscape is misguided\, distorted by the fur trade that trapped millions of beavers from North America’s lakes and rivers\, decimating their populations. Indeed\, by the early 1900s beavers had been extirpated from many of their historic habitats. \nThe consequences of losing beavers were profound: streams eroded\, wetlands dried\, and many species\, from salmon to swans\, lost vital habitat. Today\, a growing coalition of Beaver Believers –scientists\, ranchers\, and passionate citizens– recognizes that ecosystems with beavers are far healthier than those without. From the Nevada deserts to the Scottish Highlands\, Beaver Believers are hard at work restoring these industrious ecosystem engineers to their former haunts. \nBeavers are considered a keystone species\, as their protection helps to enable all other members of the same biological community to thrive. Goldfarb describes beavers as ecological and hydrological Swiss Army knives\, in the right circumstances capable of tackling many landscape problems\, from flood mitigation and water quality improvement\, to increasing water for agriculture and salmon runs. \nEager is a powerful story about one of the world’s most influential species\, including how North America was colonized\, drastically changing landscapes over the centuries\, and how beavers can help us fight drought\, flooding\, wildfire\, extinction\, and the ravages of climate change. Ultimately\, it is about how we can learn to coexist\, harmoniously and beneficially\, with our fellow travelers on this planet. \n“One of the things I most love about beavers is the passion they inspire. As I’ve traveled around the country talking about Eager\, I’ve heard countless beaver stories –and opinions– from readers who have lived alongside these fascinating\, vital\, occasionally challenging rodents. I’m excited to share my own stories\,” said Goldfarb. \nIn addition to writing about wildlife\, Goldfarb has chased endangered woodpeckers through military base war games\, withstood a Yellowstone grizzly bear’s bluff charge\, tagged sea turtles\, radio-tracked bats\, and hand-lined sharks. \nWinner of the 2019 PEN/E.O. Wilson Literary Science Writing Award\, Goldfarb writes about wildlife conservation\, marine science\, and public lands management. He is also an accomplished fiction writer. His work has been featured in Science\, Mother Jones\, Audubon Magazine\, The Guardian\, High Country News\, Modern Farmer\, Orion\, World Wildlife Magazine\, Scientific American\, Yale Environment 360\, and many others. He holds a Master of Environmental Management from the Yale School of Forestry and Environmental Studies and is a 2018 North American Congress for Conservation Biology journalist fellow.
URL:https://wenatcheeoutdoors.org/event/the-surprising-secret-life-of-beavers-why-they-matter/
END:VEVENT
BEGIN:VEVENT
DTSTART;TZID=UTC:20190314T150000
DTEND;TZID=UTC:20190314T173000
DTSTAMP:20260422T172848
CREATED:20190307T040022Z
LAST-MODIFIED:20190307T040022Z
UID:10000281-1552575600-1552584600@wenatcheeoutdoors.org
SUMMARY:Trail Maintenance at Castle Rock
DESCRIPTION:Date\nThu\, 03/14/2019\n\n\nTime\n3:00 – 5:30 PM\n\n\n\nSIGN-UP ONLINE HERE!\n\nJoin CDLT at Castle Rock to perform annual maintenance on the Castle Rock trail system\, and any existing trail infrastructure (trail closure barriers\, fences\, rock steps). This work will be light to moderate and involve hiking up to 2 miles and using hand tools such as hoes and McLeods along the way. \nThe Land Trust will provide trail maintenance instruction\, snacks\, water to refill your own bottle\, gloves and tools. Please bring a water bottle\, and wear clothing you can get dirty\, including sturdy\, closed-toe shoes. If you have dietary restrictions\, we recommend bringing your own snacks. We will meet at the Castle Rock trailhead at 3 pm and be done by 5:30 pm. \nPlease RSVP so we can get an accurate headcount and provide you with details for the work party as the date approaches. \n*All work parties are weather and conditions dependent. Canceled work parties will be rescheduled if possible. \nQuestions? Please contact Olivia Schilling\, Stewardship & Trails Assistant: olivia@cdlandtrust.org\, 509-667-9708.
URL:https://wenatcheeoutdoors.org/event/trail-maintenance-at-castle-rock/
END:VEVENT
BEGIN:VEVENT
DTSTART;TZID=UTC:20190316T090000
DTEND;TZID=UTC:20190316T110000
DTSTAMP:20260422T172848
CREATED:20190207T023939Z
LAST-MODIFIED:20190207T023939Z
UID:10000503-1552726800-1552734000@wenatcheeoutdoors.org
SUMMARY:Hike for Your Health
DESCRIPTION:Date\nSat\, 03/16/2019\n\n\nTime\n9 AM – 11 AM\n\n\nLocation\nDry Gulch\n\n\n\nRegister for the Hiking Challenge Here!\n\nThe Chelan-Douglas Land Trust and Columbia Valley Community Health invite you to hike for your health! \nJoin us for the 2019 Hike for Health Series. Improve your health\, be part of a team\, take home prizes and be entered to win one of many grand prizes at the end of the hiking season. \nHow to participate in the Hike for Health Series: \n\nParticipate as an individual or as part of a team (5-10 people).\nComplete as many hikes as you can between March and October 2019 by doing one of the following.\n\nEITHER: \n\nJoin the Chelan-Douglas Land Trust and CVCH on the third Saturday of the month at a designated trailhead (schedule and more information will be emailed to you once you sign up)\,\n\nOR \n\nDo the hike on your own and post a picture of yourself on the trail on social media with the hashtag #2019hikeforhealth\n\nAt the Third Saturday hikes\, you will receive a small prize as well as a raffle ticket when you check in. Use the raffle ticket to enter to win grand prizes in October. After you check in\, join us for a guided hike at the beginning of the check-in time (9:15 AM most months; 7:15 AM in July) OR enjoy the hike on your own. \n\nIf part of a team\, each team member present gets an EXTRA raffle ticket if at least five team members show up to a Third Saturday hike. Encourage your team mates to participate to have a better chance to win one of the grand prizes.\nIf you did your hike on your own that week\, we will complete a pick up your raffle ticket at the next Third Saturday Hike.\n\nIf you have questions or for more information\, contact the CVCH Outreach Department at (509) 662-6000 ex. 1090.
URL:https://wenatcheeoutdoors.org/event/hike-for-your-health/
END:VEVENT
END:VCALENDAR