BEGIN:VCALENDAR
VERSION:2.0
PRODID:-//Wenatchee Outdoors - ECPv6.15.18//NONSGML v1.0//EN
CALSCALE:GREGORIAN
METHOD:PUBLISH
X-ORIGINAL-URL:https://wenatcheeoutdoors.org
X-WR-CALDESC:Events for Wenatchee Outdoors
REFRESH-INTERVAL;VALUE=DURATION:PT1H
X-Robots-Tag:noindex
X-PUBLISHED-TTL:PT1H
BEGIN:VTIMEZONE
TZID:UTC
BEGIN:STANDARD
TZOFFSETFROM:+0000
TZOFFSETTO:+0000
TZNAME:UTC
DTSTART:20180101T000000
END:STANDARD
END:VTIMEZONE
BEGIN:VEVENT
DTSTART;TZID=UTC:20190414T130000
DTEND;TZID=UTC:20190414T160000
DTSTAMP:20260423T080635
CREATED:20190207T034034Z
LAST-MODIFIED:20190207T034034Z
UID:10000508-1555246800-1555257600@wenatcheeoutdoors.org
SUMMARY:Early Wildflower Walk at Sam Hill
DESCRIPTION:Early Wildflower Walk at Sam Hill \n\nView PDF \n\n\n\nDate\nSun\, 04/14/2019\n\n\nTime\n1-4 PM\n\n\nLocation\nSam Hill (parking is limited; will carpool)\n\n\n\nSign up online here!\n\nDon’t miss this! See the wildflowers at the Land Trust’s Sam Hill property\, just inside Icicle Canyon near Leavenworth. This property is unique and hosts a variety of beautiful and interesting plants. \nJoin CDLT board member Jack Mynatt and Washington Native Plant Society Members Don and Ann Schaechtel on Saturday\, April 14 from 1-4 pm for a wildflower walk. This is a joint Washington Native Plant Society and Land Trust event. \nEven though the mileage is short\, the terrain is rugged. Wear hiking boots\, bring water and snacks\, and dress for the weather. There will be a 12 person limit for this outing. Meeting location and directions will be emailed to participants prior to the event. \nThis hike is open to Land Trust and Native Plant Society Members. Not a member? Become one today! (Not sure? Email hillary@cdlandtrust.org to ask about the status of your membership.)
URL:https://wenatcheeoutdoors.org/event/early-wildflower-walk-at-sam-hill/
END:VEVENT
BEGIN:VEVENT
DTSTART;VALUE=DATE:20190415
DTEND;VALUE=DATE:20190416
DTSTAMP:20260423T080635
CREATED:20190307T115859Z
LAST-MODIFIED:20190307T120311Z
UID:10000524-1555286400-1555372799@wenatcheeoutdoors.org
SUMMARY:Number 2 Canyon Work Party with EMBA!
DESCRIPTION:Date Mon\, Apr 15\, 2019\n\n\nTime TBD\n\n\nRiding Area\n#2 Canyon\n\n\nWork Party Lead-Travis Hornby\n\n\n\nProject Description\nDetails to come for more information click here.\n\n\n\nMeetup Location\n\n\n\nNumber 2 Canyon Parking Lot\n\n\nDirections\n\nFrom Wenatchee head west on one of the main city streets until you reach Western Ave.  Turn South (left) onto Western Ave.  Western Ave will turn right and becomes Number 2 Canyon Road. Follow Number 2 Canyon road for  5 miles to the trailhead. The last 1/2 mile of the road is dirt and requires a high ground clearance vehicle.
URL:https://wenatcheeoutdoors.org/event/number-2-canyon-work-party-with-emba/
END:VEVENT
BEGIN:VEVENT
DTSTART;TZID=UTC:20190416T190000
DTEND;TZID=UTC:20190416T210000
DTSTAMP:20260423T080635
CREATED:20181122T113114Z
LAST-MODIFIED:20190307T121115Z
UID:10000452-1555441200-1555448400@wenatcheeoutdoors.org
SUMMARY:A Plastic Ocean
DESCRIPTION:Location: Wenatchee Valley Museum and Cultural Center\nDate and Time: April 16th 2019\, 7pm-9pm\n\n\n\n\n\nA Plastic Ocean begins when journalist Craig Leeson\, searching for the elusive blue whale\, discovers plastic waste in what should be pristine ocean. In this adventure documentary\, Craig teams up with free diver Tanya Streeter and an international team of scientists and researchers\, and they travel to twenty locations around the world over the next four years to explore the fragile state of our oceans\, uncover alarming truths about plastic pollution\, and reveal working solutions that can be put into immediate effect.\n\n\n\nThis free family-friendly event features a no-host bar and free popcorn.\n\n\nFor more information click here.
URL:https://wenatcheeoutdoors.org/event/sea-of-hope-americas-underwater-treasures/
END:VEVENT
BEGIN:VEVENT
DTSTART;TZID=UTC:20190417T183000
DTEND;TZID=UTC:20190417T200000
DTSTAMP:20260423T080635
CREATED:20190307T124809Z
LAST-MODIFIED:20190404T035239Z
UID:10000529-1555525800-1555531200@wenatcheeoutdoors.org
SUMMARY:Coexisting with Large Carnivores
DESCRIPTION:Wenatchee River Institute Red Barn Speaker Event\, Coexisting with Large Carnivores \nCome out to the Wenatchee River Institute’s Red Barn on Wed.\, Apr. 17th and learn about coexisting with large carnivores from Western Wildlife Outreach (WWO). Doors open at 6:30pm for no-host refreshments and community social\, and the interactive presentation begins at 7pm. \nWWO is a Bellingham\, WA nonprofit organization focusing their outreach and education on helping people live\, work and recreate near large\, wild carnivores –bears\, cougars and wolves! \nExecutive Director Lorna Smith and her husband Darrell Smith\, WWO’s Lead Scientist\, frequently give talks and demonstrations all around the Pacific Northwest about large carnivore ecology and behavior\, providing information on what to do if any of these wild animals are encountered. \n“The world needs our top predators. Without them biodiversity and ecological health suffers\,” states Lorna. \nNumerous areas in and around the Cascade Range support healthy populations of black bear. WWO promotes safe coexistence among black bears\, humans\, pets\, and livestock. Their Grizzly Bear Outreach Project helps to disseminate a more accurate understanding of grizzly bear behavior\, as well as information about grizzly recovery in the North Cascades and Selkirk Ecosystems. \nThis past winter brought a number of cougar encounters to the upper Wenatchee Valley. WWO’s Cougar Outreach provides educational materials about cougar behavior\, habitat needs\, their prey base\, and what to do should you encounter a cougar. \nRich Beausoleil\, Bear and Cougar Specialist and Karelian Bear Dog Program lead for WA Department of Fish and Wildlife\, will also take part in the evening’s presentation. Beausoleil will be accompanied by his Karelian Bear Dog Indy\, and answer questions about non-lethal predator aversion\, wildlife issues in the Wenatchee Valley\, and preventing wildlife conflicts. Karelian Bear Dogs are trained to haze bears and other wild animals from areas where they are not welcome. \nSaid Beausoleil\, “I was just in downtown Leavenworth Monday [Mar. 25th] because a family of bears was utilizing Enchantment Park due to the amount of attractants people had left out. It is important to understand it is a matter of personal responsibility to avoid conflicts with wildlife.” \nWWO’s Gray Wolf Outreach provides current\, sound-science as well as techniques to successfully coexist with wolves\, and how to employ non-lethal wolf management measures whenever possible. Gray wolf populations are being reestablished across the Western United States and since 2008\, have come of their own volition north from Canada into Washington State. \nThe Smiths are a wildlife biologist-ecologist team and have spent their careers working on wildlife and wildlife habitat related issues\, as well as endangered species management. They share a lifelong interest in\, and experience with\, large carnivores. Lorna has served on boards of directors for a number of Northwest environmental organizations\, and has over 30 years of experience managing large conservation projects and campaigns. Darrell\, with degrees in both fisheries and wildlife\, has lead large-scale habitat restoration projects\, managed watershed and forestry evaluations\, and worked with large carnivores for more than 30 years. \nAll ages welcome and admission is by donation | 347 Division Street in Leavenworth www.wenatcheeriverinstitute.org | (509)548-0181 x4
URL:https://wenatcheeoutdoors.org/event/grizzly-bear-wolf-recovery-in-the-cascades/
END:VEVENT
BEGIN:VEVENT
DTSTART;TZID=UTC:20190418T150000
DTEND;TZID=UTC:20190418T180000
DTSTAMP:20260423T080635
CREATED:20190307T041704Z
LAST-MODIFIED:20190307T041751Z
UID:10000285-1555599600-1555610400@wenatcheeoutdoors.org
SUMMARY:Trail Maintenance in the Foothills
DESCRIPTION:Date\nThu\, 04/18/2019\n\n\nTime\n3:00 PM – 6:00 PM\n\n\n\nSIGN-UP ONLINE HERE!\n\nJoin the Chelan Douglas Land Trust on Thursday\, April 18th from 3-6 PM for trail maintenance in the foothills\, exact location to be determined. The work for this day will depend on what we get done during earlier work parties. This work will likely be light to moderate and involve hiking 1-3 miles and using hand tools such as hoes and McLeods along the way. \nCDLT will provide trail maintenance instruction\, snacks\, water to refill your own bottle\, gloves and tools. Please bring a water bottle\, and wear clothing you can get dirty\, including sturdy\, closed-toe shoes. If you have dietary restrictions\, we recommend bringing your own snacks. \nPlease RSVP so we can provide you with details for the work party as the date approaches. \n*All work parties are weather and conditions dependent. Canceled work parties will be rescheduled if possible. \nQuestions? Please contact Olivia Schilling\, Stewardship & Trails Assistant: olivia@cdlandtrust.org\, 509-667-9708.
URL:https://wenatcheeoutdoors.org/event/trail-maintenance-in-the-foothills-3/
END:VEVENT
BEGIN:VEVENT
DTSTART;TZID=UTC:20190420T100000
DTEND;TZID=UTC:20190420T140000
DTSTAMP:20260423T080635
CREATED:20190326T103716Z
LAST-MODIFIED:20190326T103741Z
UID:10000533-1555754400-1555768800@wenatcheeoutdoors.org
SUMMARY:Earth Day Fair
DESCRIPTION:Time & Location\n\n\nApr 20\, 10:00 AM – 02:00 PM\n\nPybus Public Market\, 3 N Worthen St\, Wenatchee\, WA 98801\, USA\n\n\nAbout The Event\n\n\nJoin Sustainable Wenatchee at the Pybus Event Center to celebrate our planet and learn about how to protect it! Featuring interactive and educational booths from a variety of local organizations and kid’s activities by Joyful Scholars Montessori School and TEAMS Learning Center. Learn about the NCW EcoChallenge and get registered. Bring a tee-shirt or bag and get it screen printed ($5 suggested donation). Check out a variety of electric vehicles. Plus bring your own cup and get some FREE drip coffee from Cafe Columbia (inside the event center only). \nHosted by Sustainable Wenatchee. Sponsored by Chelan PUD\, Link Transit and Printmade Apparel.
URL:https://wenatcheeoutdoors.org/event/earth-day-fair/
END:VEVENT
END:VCALENDAR