BEGIN:VCALENDAR
VERSION:2.0
PRODID:-//Wenatchee Outdoors - ECPv6.15.18//NONSGML v1.0//EN
CALSCALE:GREGORIAN
METHOD:PUBLISH
X-WR-CALNAME:Wenatchee Outdoors
X-ORIGINAL-URL:https://wenatcheeoutdoors.org
X-WR-CALDESC:Events for Wenatchee Outdoors
REFRESH-INTERVAL;VALUE=DURATION:PT1H
X-Robots-Tag:noindex
X-PUBLISHED-TTL:PT1H
BEGIN:VTIMEZONE
TZID:America/Los_Angeles
BEGIN:DAYLIGHT
TZOFFSETFROM:-0800
TZOFFSETTO:-0700
TZNAME:PDT
DTSTART:20240310T100000
END:DAYLIGHT
BEGIN:STANDARD
TZOFFSETFROM:-0700
TZOFFSETTO:-0800
TZNAME:PST
DTSTART:20241103T090000
END:STANDARD
BEGIN:DAYLIGHT
TZOFFSETFROM:-0800
TZOFFSETTO:-0700
TZNAME:PDT
DTSTART:20250309T100000
END:DAYLIGHT
BEGIN:STANDARD
TZOFFSETFROM:-0700
TZOFFSETTO:-0800
TZNAME:PST
DTSTART:20251102T090000
END:STANDARD
BEGIN:DAYLIGHT
TZOFFSETFROM:-0800
TZOFFSETTO:-0700
TZNAME:PDT
DTSTART:20260308T100000
END:DAYLIGHT
BEGIN:STANDARD
TZOFFSETFROM:-0700
TZOFFSETTO:-0800
TZNAME:PST
DTSTART:20261101T090000
END:STANDARD
END:VTIMEZONE
BEGIN:VEVENT
DTSTART;TZID=America/Los_Angeles:20251209T190000
DTEND;TZID=America/Los_Angeles:20251209T193000
DTSTAMP:20260423T092421
CREATED:20251127T000854Z
LAST-MODIFIED:20251127T000854Z
UID:10003507-1765306800-1765308600@wenatcheeoutdoors.org
SUMMARY:Wenatchee Valley Erratics Meeting
DESCRIPTION:The Wenatchee Valley Erratics Chapter of the Ice Age Floods Institute will meet Tuesday\, December 9 at 7:00 PM\, at the Wenatchee Valley Museum and Cultural Center\, 127 S. Mission\, Wenatchee. Or via Zoom link: https://us02web.zoom.us/j/81855547958   Meeting ID: 818 5554 7958 \nKarl Lillquist will give our final live\, and Zoom\, presentation for 2025. Karl is a physical geographer who taught at Central Washington University until his retirement in summer of 2024. He will talk about “Foster Creek and Foster Coulee: Insights on Ice Age Floods\, Glaciers\, and Lakes on the Waterville Plateau\, WA.” \nFor more information click here
URL:https://wenatcheeoutdoors.org/event/wenatchee-valley-erratics-meeting-2/
END:VEVENT
BEGIN:VEVENT
DTSTART;TZID=America/Los_Angeles:20251210T170000
DTEND;TZID=America/Los_Angeles:20251210T190000
DTSTAMP:20260423T092421
CREATED:20241009T233454Z
LAST-MODIFIED:20241009T233457Z
UID:10001907-1765386000-1765393200@wenatcheeoutdoors.org
SUMMARY:Wenatchee Run Club
DESCRIPTION:This event is hosted by the Wenatchee Run Club\n\nEvent Summary: Wednesday night weekly\n\nDescription: Come join us from 5-7 pm at the Taproom by Hellbent at Pybus for check in. We will have a 5k group start run at 5:30pm or you can run on your own. \nStay and hang out! Hellbent will be offering 10% off after the run for all participants. \nLocation: The Taproom at Pybus \nMore Info: https://www.facebook.com/profile.php?id=61556162716960
URL:https://wenatcheeoutdoors.org/event/wenatchee-run-club-2/2025-12-10/
LOCATION:Pybus\, 3 N Worthen St\, Wenatchee\, WA\, 98801\, United States
ATTACH;FMTTYPE=image/png:https://wenatcheeoutdoors.org/wp-content/uploads/2024/04/wenatchee-runclub-e1728517041128.png
END:VEVENT
BEGIN:VEVENT
DTSTART;TZID=America/Los_Angeles:20251211T100000
DTEND;TZID=America/Los_Angeles:20251211T113000
DTSTAMP:20260423T092422
CREATED:20251125T214319Z
LAST-MODIFIED:20251125T214319Z
UID:10003506-1765447200-1765452600@wenatcheeoutdoors.org
SUMMARY:LNT Youth Educator Workshop
DESCRIPTION:This interactive course is designed for teachers\, guides\, camp staff\, and anyone working with youth—full-time or seasonal—who want to help kids enjoy the outdoors the right way. \nDuring this 1.5-hour workshop\, you’ll learn how to effectively reach youth ages 6–18 with Leave No Trace education. You’ll learn practical\, engaging activities that work in person or online\, drawing from Bigfoot’s Playbook\, PEAK\, the TEEN Program\, Social Media + Stewardship\, and other resources available on the Leave No Trace website. \nClick here for link to Register \nPlease email Training@LNT.org for more information.
URL:https://wenatcheeoutdoors.org/event/lnt-youth-educator-workshop/
CATEGORIES:Clinics & Instruction
ORGANIZER;CN="Adam Vognild":MAILTO:encompassfitnesscoach@gmail.com
END:VEVENT
BEGIN:VEVENT
DTSTART;TZID=America/Los_Angeles:20251211T190000
DTEND;TZID=America/Los_Angeles:20251211T200000
DTSTAMP:20260423T092422
CREATED:20251125T195218Z
LAST-MODIFIED:20251211T181428Z
UID:10003504-1765479600-1765483200@wenatcheeoutdoors.org
SUMMARY:POSTPONED- Red Barn Event- Enchantments: What Comes Next?
DESCRIPTION:This event has been POSTPONED\, future date TBD.  \nWenatchee River Institute presents this hybrid Enchantment event\, will be offered in person and livestream via YouTube Channel. \nStreaming link: https://www.youtube.com/watch?v=JmaKfMFofyc&list=PLjATQxBXvvgXSiC_qr24e5jmPS-LyJ5T9&index=34 \nNo registration required\, but RSVP to receive email reminders and updates about this event! \nDoors open at 6:30pm for a community social with beer and wine available for purchase. The presentation will start at 7:00pm. \nAfter a summer of overcrowding and understaffing in The Enchantments\, the issue of day use management has reached an inflection point. Will this offseason present an opportunity to make changes along the Icicle Creek corridor\, and if so\, what will they entail? Hear from Seattle Times outdoors reporter Gregory Scruggs\, who covered the issue closely this summer and traveled to Colorado to learn how another mountain town grappled with a similar challenge\, along with Mat Lyons\, Executive Director of TREAD\, who has been working with Chelan County stakeholders on a proposal for alternative transportation options to Enchantments trailheads\, and Sarah Shaffer\, Executive Director of Wenatchee Outdoors\, who will share insights on the on-the-ground work with over 40 volunteers in partnership with the U.S. Forest Service\, packing out pounds of trash from the Enchantments Wilderness area. \nAbout the presenters:\nGregory Scruggs (he/him) is the outdoors reporter at The Seattle Times\, where he writes about the intersection of recreation\, land management and the outdoor industry in Washington. His coverage takes him deep into the Cascades and out on the Salish Sea. In 2022\, he won the President’s Award in the newspaper category from the Outdoor Writers Association of America. \nMat Lyons (he/him) is the Executive Director of TREAD\, a nonprofit that collaborate with all partners to drive sustainable outdoor recreation initiatives in North Central Washington. \nSarah Shaffer (she/her) is the Executive Director of Wenatchee Outdoors\, a nonprofit focused on engaging volunteers and the community in stewardship and recreation in North Central Washington. \nEvent Link to RSVP
URL:https://wenatcheeoutdoors.org/event/red-barn-event-enchantments-what-comes-next/
CATEGORIES:Clinics & Instruction
END:VEVENT
BEGIN:VEVENT
DTSTART;TZID=America/Los_Angeles:20251213T120000
DTEND;TZID=America/Los_Angeles:20251213T150000
DTSTAMP:20260423T092422
CREATED:20250913T182232Z
LAST-MODIFIED:20250913T182232Z
UID:10003478-1765627200-1765638000@wenatcheeoutdoors.org
SUMMARY:Outdoor Clothing & Gear Swap
DESCRIPTION:Chelan Douglas Land Trust mission is simple: declutter your outdoor clothes and gear closet\, keep items out of the landfill\, and provide the community with an accessible way to “shop” sustainably. \n♻️Bring your gently-loved hiking shoes\, tents\, bikes\, backpacks\, jackets\, yoga pants\, and other outdoor clothing/ gear and trade with others in the community. Please follow the golden rule: Only bring items to swap that you’d want to take home with you. Damaged items cannot be swapped. \nFREE food will be provided. All ages welcome.  \n✏️Note: You do NOT need to bring any clothes or gear to participate. We want to make outdoor clothes accessible to everyone! \nIf you cannot attend the event but want to donate items\, you can drop off your outdoor clothes and gear at the CDLT office (18 N Wenatchee Ave). We will accept items a week before the clothing swap. \nEvent Link \n❔If you have any questions\, please email Ayla\, Community Inclusion Coordinator\, at ayla@cdlantrust.org
URL:https://wenatcheeoutdoors.org/event/outdoor-clothing-gear-swap/
END:VEVENT
BEGIN:VEVENT
DTSTART;TZID=America/Los_Angeles:20251213T120000
DTEND;TZID=America/Los_Angeles:20251213T150000
DTSTAMP:20260423T092422
CREATED:20251115T020530Z
LAST-MODIFIED:20251115T020530Z
UID:10003503-1765627200-1765638000@wenatcheeoutdoors.org
SUMMARY:CDLT Outdoor Clothing and Gear Swap
DESCRIPTION:Sat\, 12/13/2025\n12:00pm-3:00pm\nLocation: 231A N Wenatchee Ave -Thrift Store\nJoin the Outdoor Clothing and Gear Swap!\n\nOur mission is simple: declutter your outdoor clothes and gear closet\, keep items out of the landfill\, and provide the community with an accessible way to outdoor clothing for free!\n\nBring your gently-loved hiking shoes\, tents\, bikes\, backpacks\, jackets\, yoga pants\, and other outdoor clothing/ gear\, and trade with others in the community.\n\nThis event is FREE and everyone is welcome. No registration required!\n\nNote: You do NOT need to bring any clothes or gear to participate. We want to make outdoor clothes accessible to everyone!\nIf you cannot attend the event but want to donate items\, you can drop off your outdoor clothes and gear at the CDLT office (18 N Wenatchee Ave) from December 8-11 from 8:00 am-3:00pm.\n\nLink to event: Outdoor Clothing & Gear Swap | Intercambio de Ropa y Equipo Deportivo | Chelan-Douglas Land Trust
URL:https://wenatcheeoutdoors.org/event/cdlt-outdoor-clothing-and-gear-swap/
CATEGORIES:Special Events
END:VEVENT
END:VCALENDAR